BEGIN:VCALENDAR
VERSION:2.0
PRODID:-//https://www.prolocopanza.it///NONSGML kigkonsult.se iCalcreator 2.10.15//
METHOD:PUBLISH
BEGIN:VEVENT
UID:20260424T140848CEST-3131givSOi@https://www.prolocopanza.it/
DTSTAMP:20260424T120848Z
DESCRIPTION:Partendo dall&rsquo\;antico borgo di Buonopane\, nel Comune di 
 Barano\, inizieremo il nostro percorso attraversando terreni e storiche co
 struzioni dedite all&rsquo\;agricoltura e alla viticoltura. Raggiungeremo 
 la Madonna di Buttavento che\, come un &rdquo\;Cristo Redentore&rdquo\;\, 
 dall&rsquo\;alto benedice l&rsquo\;intera area circostante. Percorreremo l
 a dorsale sud del Monte Epomeo chiamata &ldquo\;Costa Sparaina&rdquo\;\, g
 iungendo poi nel bosco di lecci e castagni della zona del Cannavale\, dove
  si aprir&agrave\; una vista da cartolina del territorio di Ischia: Ischia
  Ponte con il Castello Aragonese\, Monte Vezzi e l&rsquo\;intero golfo di 
 Napoli con il Vesuvio. Durante quest&rsquo\;escursione\, faremo una degust
 azione di prodotti tipici presso la Tenuta del Cannavale.\nStarting from t
 he ancient village of Buonopane in the municipality of Barano\, we will be
 gin our journey crossing lands and historical buildings dedicated to agric
 ulture and viticulture. We will reach the Madonna di Buttavento\, which\, 
 like a &rdquo\;Redeeming Christ&rdquo\; from above\, blesses the entire su
 rrounding area. We will traverse the southern ridge of Mount Epomeo called
  &rdquo\;Costa Sparaina\,&rdquo\; then entering the forest of oaks and che
 stnuts in the Cannavale area\, where a postcard-worthy view of the Ischia 
 territory will open up: Ischia Ponte with the Aragonese Castle\, Monte Vez
 zi\, and the entire Gulf of Naples with Mount Vesuvius. During this hike\,
  we will have a tasting of typical products at the Cannavale Estate.\nPunt
 o Partenza/Arrivo (Start/Finish): Piazzetta di PanzaDislivello: (Elevation
 /Gain) 100m Lunghezza (Length): 3\,5 km Difficolt&agrave\; (Difficulty): T
  Facile / EasyDurata (Duration): 4\,5h Visita/Degustazione (Visit / Tastin
 g): Tenuta del Cannavale\n&nbsp\;\nQUOTA DI PARTECIPAZIONE &euro\; 40 http
 s://www.prolocopanza.it/eventi/Eventi/15051-andar-per-sentieri-2026-il-sen
 tiero-della-madonnina-di-buttavento
DTSTART:20260503T080000Z
DTEND:20260503T130000Z
LOCATION:Pro Loco Panza Ischia (Via Cavaliere Leonardo Impagliazzo\, 144\, 
 80075 Forio NA\, Italia)
SUMMARY:Andar per sentieri 2026 - Il Sentiero della Madonnina di Buttavento
URL:https://www.prolocopanza.it/eventi/Eventi/15051-andar-per-sentieri-2026
 -il-sentiero-della-madonnina-di-buttavento
END:VEVENT
END:VCALENDAR
