BEGIN:VCALENDAR
VERSION:2.0
PRODID:-//https://www.prolocopanza.it///NONSGML kigkonsult.se iCalcreator 2.10.15//
METHOD:PUBLISH
BEGIN:VEVENT
UID:20260424T171319CEST-59789s7U39@https://www.prolocopanza.it/
DTSTAMP:20260424T151319Z
DESCRIPTION:Dal piazzale del &ldquo\;Rotaro&rdquo\; nel Comune di Casamicci
 ola\, il nostro percorso avr&agrave\; inizio tra fumarole ancora attive\, 
 antichi crateri e duomi lavici che hanno caratterizzato la storia geologic
 a dell&rsquo\;isola d&rsquo\;Ischia.Percorrendo il sentiero di Fondo d&rsq
 uo\;Oglio giungeremo all&rsquo\;interno di un antico cratere vulcanico est
 into\, dove nel centro &egrave\; cresciuto un Carpino nero\, considerato &
 ldquo\;fatato&rdquo\; per via delle numerose leggende che lo riguardano. T
 ra piante di mirto\, alberi di pino e numerose specie di ginestre giungere
 mo nella zona del Montagnone\, da dove ammireremo una vista da cartolina s
 ul porto d&rsquo\;Ischia\, la terraferma e l&rsquo\;isola di Procida. Dura
 nte quest&rsquo\;escursione faremo una degustazione di prodotti tipici pre
 sso la &ldquo\;Cantina del Sargente&rdquo\;.\nFrom the square of &rdquo\;R
 otaro&rdquo\; in the municipality of Casamicciola\, our journey will begin
  amidst still active fumaroles\, ancient craters\, and lava domes that hav
 e characterized the geological history of the island of Ischia. Following 
 the Fondo d&rsquo\;Oglio trail\, we will reach the interior of an ancient 
 extinct volcanic crater where a black Hornbeam has grown at its center\, c
 onsidered &rdquo\;enchanted&rdquo\; due to the numerous legends surroundin
 g it. Among myrtle plants\, pine trees\, and numerous species of broom\, w
 e will arrive in the Montagnone area\, from where we will admire a postcar
 d-worthy view of the port of Ischia\, the mainland\, and the island of Pro
 cida. During this hike\, we will have a tasting of typical products at the
  &rdquo\;Sargente Winery.&rdquo\;\nPunto Partenza/Arrivo (Start/Finish): P
 iazzetta di Panza Dislivello (Elevation Gain): 250mLunghezza (Length): 4\,
 5 km Difficolt&agrave\; (Difficulty): T Facile / Easy Durata (Duration): 4
 hVisita/Degustazione (Visit / Tasting): Cantina del Sargente\n&nbsp\;\n&nb
 sp\;\nQUOTA DI PARTECIPAZIONE &euro\; 35 https://www.prolocopanza.it/event
 i/calendario-eventi/Eventi/15050-andar-per-sentieri-2026-il-sentiero-del-c
 ratere-di-fondo-d-oglio
DTSTART:20260502T080000Z
DTEND:20260502T120000Z
LOCATION:Pro Loco Panza Ischia (Via Cavaliere Leonardo Impagliazzo\, 144\, 
 80075 Forio NA\, Italia)
SUMMARY:Andar per sentieri 2026 - Il Sentiero del cratere di Fondo d’Oglio
URL:https://www.prolocopanza.it/eventi/calendario-eventi/Eventi/15050-andar
 -per-sentieri-2026-il-sentiero-del-cratere-di-fondo-d-oglio
END:VEVENT
END:VCALENDAR
