BEGIN:VCALENDAR
VERSION:2.0
PRODID:-//https://www.prolocopanza.it///NONSGML kigkonsult.se iCalcreator 2.10.15//
METHOD:PUBLISH
BEGIN:VEVENT
UID:20260425T055450CEST-7032uUudP2@https://www.prolocopanza.it/
DTSTAMP:20260425T035450Z
DESCRIPTION:Museo Civico del Torrione “Giovanni Maltese”Tutti i giorni escl
 uso il lunedì:\nmattina: 09.30 / 12.30\;\npomeriggio: 17.00 / 19.00. Ingre
 sso: € 2\,00 INFO: 0813332126Situato all’interno della più grande tra le T
 orri di difesa contro i pirati\, il Museo espone la collezione di sculture
  e disegni dell’artista foriano Giovanni Maltese\, che dimorò in questa to
 rre tra la fine del ‘800 e gli inizi del ‘900. https://www.prolocopanza.it
 /eventi-sulla-mappa/Eventi/11107-i-4-musei-il-torrione
DTSTART:20180107T083000Z
DTEND:20180107T180000Z
LOCATION:Forio (Corso Francesco Regine\, 39\, 80075 Forio NA\, Italia)
SUMMARY:I 4 Musei - Il Torrione
URL:https://www.prolocopanza.it/eventi-sulla-mappa/Eventi/11107-i-4-musei-i
 l-torrione
END:VEVENT
END:VCALENDAR
