BEGIN:VCALENDAR
VERSION:2.0
PRODID:-//https://www.prolocopanza.it///NONSGML kigkonsult.se iCalcreator 2.10.15//
METHOD:PUBLISH
BEGIN:VEVENT
UID:20260424T152401CEST-7254toSlzH@https://www.prolocopanza.it/
DTSTAMP:20260424T132401Z
DESCRIPTION:Sentiero delle Incursioni melodiche dal mare. Escursione musica
 le Serrara - fumarole - Sant'Angelo.\nHai mai assaggiato pietanze cotte so
 tto la sabbia bollente? Hai mai ascoltato storie\, musiche e canti che nar
 rano di incursioni piratesche sull'isola d'lschia?\nMappe del tesoro\, tes
 ori culinari nascosti sotto la sabbia\, stornellate piratesche\, storie di
  riscatti e vapori bollenti vi attendono lungo uno degli antichi sentieri 
 sul versante sud&shy\;ovest\, una volta utilizzato dai locali per muoversi
  velocemente dal mare alla montagna e per scappare da un eventuale attacco
  piratesco.\nImmersi in una vegetazione tipica costeggeremo antichi crater
 i e ci trasformeremo in una vera ciurma alla conquista della meta finale! 
 Munitevi di bandana ... Chi non canta &egrave\; un corsaro! (progetto musi
 cale curato da DenisTrani)\nDegustazione Agriturismo il Giardino del Nonno
 .&nbsp\;\nPath of Melodie Raids from the Sea Musical Excursion: Serrara Fu
 maroles Sant'Angelo. Have you ever tasted dishes cooked beneath scorching 
 hot sand? Have you ever listened to stories\, music\, and songs recounting
  pirate raids on the island of Ischia? Treasure maps\, culinary treasures 
 hidden beneath the sand\, pirate folk songs\, tales of ransoms and steamin
 g vapors await you along one of the ancient paths on the southwest slope\,
  once used by locals to move quickly from the sea to the mountains and to 
 escape potential pirate attacks. lmmersed in typical coastal vegetation\, 
 we'/1 skirt ancient craters and transform into a true crew conquering our 
 fin al destination! So bring your bandana ... Because anyone who doesn't s
 ing is a corsair! (Musical project curated by Denis Trani)Tasting at Agrit
 urismo il Giardino del Nonno.\nPunto Partenza/Arrivo (Start/Finish): Piazz
 etta di Panza Dislivello: (Elevation/Gain) 350m Lunghezza (Length): 3\,5 k
 m Difficolt&agrave\; (Difficulty): T Facile / EasyDurata (Duration): 4\,5h
  Visita/Degustazione (Visit / Tasting): Il Giardino del Nonno\nQUOTA DI PA
 RTECIPAZIONE &euro\; 35 https://www.prolocopanza.it/en/events/event/15057-
 andar-per-sentieri-2026-il-sentiero-dei-pirati
DTSTART:20260510T080000Z
DTEND:20260510T123000Z
LOCATION:Pro Loco Panza Ischia (Via Cavaliere Leonardo Impagliazzo\, 144\, 
 80075 Forio NA\, Italia)
SUMMARY:Andar per sentieri 2026 - Il Sentiero dei Pirati
URL:https://www.prolocopanza.it/en/events/event/15057-andar-per-sentieri-20
 26-il-sentiero-dei-pirati
END:VEVENT
END:VCALENDAR
