BEGIN:VCALENDAR
VERSION:2.0
PRODID:-//https://www.prolocopanza.it///NONSGML kigkonsult.se iCalcreator 2.10.15//
METHOD:PUBLISH
BEGIN:VEVENT
UID:20260424T152424CEST-2163cLUnKm@https://www.prolocopanza.it/
DTSTAMP:20260424T132424Z
DESCRIPTION:Un percorso tra i vigneti di Biancolella a picco sul mare\, con
  una vista mozzafiato su Capri\, la terraferma e circondati dalla roccia v
 ulcanica biancastra\, che caratterizza quest'area dell'isola. Percorreremo
  un antico borgo semi-abbandonato\, raggiungendo la cima del Monte Vezzi (
 400m)\, da dove si potr&agrave\; ammirare una vista a 180&deg\; dal Castel
 lo Aragonese fino alla baia della Sgarrupata e Sant'Angelo\, con una prosp
 ettiva unica del Monte Epomeo.&nbsp\;Durante quest'escursione faremo un pr
 anzo con prodotti locali e stagionali presso Azienda agricola Torre di Mez
 zo.\nA journey through the Bianco/ella vineyards perched on the edge of th
 e sea\, with breathtaking views of Capri\, the mainland\, and surrounded b
 y the whitish volcanic rock that characterizes this area of the island. We
  wi/1 traverse an ancient semi-abandoned village\, reaching the summit of 
 Monte Vezzi (400m)\, from where you can ad mire a 180&deg\; view from the 
 Aragonese Cast/e to the Sgarrupata Bay and Sant'Angelo\, with a unique per
 spective of Mount Epomeo. During this hike\, we wi/1 have lunch with locai
  and seasonal products at Azienda agricola Torre di Mezzo.\nPunto Partenza
 /Arrivo (Start/Finish): Sede Proloco Panza\, ForioDislivello (Elevation Ga
 in): 350mt&nbsp\;Lunghezza (Length): 6 km Difficolt&agrave\; (Difficulty):
  E Media / E MediumDurata (Duration): 4\,5h (soste incluse) / 4\,5h (stops
  included)Visita/Degustazione (Visit / Tasting): Azienda Agricola Torre di
  Mezzo\n&nbsp\;\nQUOTA DI PARTECIPAZIONE &euro\; 35 https://www.prolocopan
 za.it/en/events/event/15055-andar-per-sentieri-2026-il-sentiero-di-piano-l
 iguori
DTSTART:20260508T080000Z
DTEND:20260508T123000Z
LOCATION:Pro Loco Panza Ischia (Via Cavaliere Leonardo Impagliazzo\, 144\, 
 80075 Forio NA\, Italia)
SUMMARY:Andar per sentieri 2026 - Il Sentiero di Piano Liguori
URL:https://www.prolocopanza.it/en/events/event/15055-andar-per-sentieri-20
 26-il-sentiero-di-piano-liguori
END:VEVENT
END:VCALENDAR
