BEGIN:VCALENDAR
VERSION:2.0
PRODID:-//https://www.prolocopanza.it///NONSGML kigkonsult.se iCalcreator 2.10.15//
METHOD:PUBLISH
BEGIN:VEVENT
UID:20260424T152422CEST-7417zmBXwi@https://www.prolocopanza.it/
DTSTAMP:20260424T132422Z
DESCRIPTION:Attraversando un sentiero in salita che costeggia antichi terra
 zzamenti di vitigni abbandonati\, tra alberi di leccio\, erbe spontanee ed
  enormi massi di tufo modellati dalle erosioni naturali prima e dall'uomo 
 poi\, giungeremo alla 'Bocca di Tifeo': affascinante bocca fumarolica scav
 ata tra la roccia di tufo con le sue emissioni di vapore acqueo a circa 11
 5&deg\;C. Qui &egrave\; possibile ammirare il paesaggio sulla baia di Cita
 ra e sull'intero territorio del Comune di Forio. Raggiungeremo la Tenuta C
 olella per gustare un aperitivo\, ammirando un tramonto da sogno.  Crossin
 g on uphi/1 path that runs alongside ancient terraced vineyards\, among ho
 lm oak trees\, wild herbs\, and huge tuff boulders shaped by natural erosi
 ons first and then by humans\, we wi/1 reach the 'Bocca di Tifeo\,' a fasc
 inating fumarolic vent carved into the tuff rock with its emissions of ste
 am at about 1 7 5&deg\;C. Here\, you con ad mire the landscape overlooking
  the Citara Boy and the enti re territory of the Municipality of Forio. We
  wi/1 reach Tenuta Colella to enjoy an aperitif while admiring a dreamy su
 nset.\nPunto Partenza/Arrivo (Start/Finish): Sede Proloco Panza\, ForioDis
 livello (Elervation Gain): 200mtLunghezza (Length): 3\,5 km Difficolt&agra
 ve\; (Difficulty): T Facile / EasyDurata (Duration): 4h (soste incluse) / 
 4h (stops included)Visita/Degustazione: (Visit / Tasting): Azienda agricol
 a Tenuta Colella\n&nbsp\;\nQUOTA DI PARTECIPAZIONE &euro\; 35\n&nbsp\; htt
 ps://www.prolocopanza.it/en/events/event/15054-andar-per-sentieri-2026-il-
 sentiero-della-bocca-di-tifeo-al-tramonto
DTSTART:20260507T140000Z
DTEND:20260507T180000Z
LOCATION:Pro Loco Panza Ischia (Via Cavaliere Leonardo Impagliazzo\, 144\, 
 80075 Forio NA\, Italia)
SUMMARY:Andar per sentieri 2026 - Il Sentiero della Bocca di Tifeo al tramo
 nto
URL:https://www.prolocopanza.it/en/events/event/15054-andar-per-sentieri-20
 26-il-sentiero-della-bocca-di-tifeo-al-tramonto
END:VEVENT
END:VCALENDAR
