BEGIN:VCALENDAR
VERSION:2.0
PRODID:-//https://www.prolocopanza.it///NONSGML kigkonsult.se iCalcreator 2.10.15//
METHOD:PUBLISH
BEGIN:VEVENT
UID:20260424T152419CEST-6367AtzWLU@https://www.prolocopanza.it/
DTSTAMP:20260424T132419Z
DESCRIPTION:Partendo dalla piazzetta di Panza\, raggiungeremo il Monte di P
 anza\, che ci regaler&agrave\; una vista a 360&deg\; sul Monte Epomeo\, su
 l borgo di Sant'Angelo\, Capri e la Penisola Sorrentina. Successivamente a
 ttraverseremo\, un boschetto di lecci e una felceta\, fino a giungere al m
 eraviglioso geosito della baia della Pelara\, scendendo al livello del mar
 e per poi risalire e prendere una deviazione\, che&nbsp\;ci porter&agrave\
 ; tra gli antichi vicoli di epoca medievale nella parte alta del paese di 
 Panza. Durante quest'escursione faremo una degustazione dei prodotti tipic
 i della Fattoria greca.\nStarting from Panza square\, we wi/1 reach Monte 
 di Panza\, which wi/1 offer us a 360&deg\; view of Mount Epomeo\, the vill
 age of Sant'Angelo\, Capri\, and the Sorrentine Peninsula. Subsequently\, 
 we wi/1 traverse a grove of holm oaks and then a fern grove unti/ we reach
  the marvelous geosite of Pelara Bay\, where we wi/1 follow the enti re pa
 th descending to sea leve/ and then ascending aga in\, taking a detour tha
 t will lead us through ancient medieval alleys in the upper part of the vi
 llage of Panza.&nbsp\;During this hike\, we wi/1 have a tasting of typical
  products of 'Fattoria Greca' . \n&nbsp\;Punto Partenza/Arrivo (Departure 
 / arrival point): Sede Proloco Panza\, Forio- Dislivello (Elevation Gain):
  250mt- Difficolt&agrave\;: Facile / Turistica (Difficulty: Easy)- Durata:
  4h &ndash\; 4\,5km (soste incluse) / Duration: 4h &ndash\; 4\,5km (stops 
 included)- Visita/Degustazione (Visit / Tasting): Azienda agricola Fattori
 a Greca\n&nbsp\;\nQuota di partecipazione &euro\; 35 https://www.prolocopa
 nza.it/en/events/event/15053-andar-per-sentieri-2026-il-sentiero-delle-due
 -baie
DTSTART:20260507T080000Z
DTEND:20260507T133000Z
LOCATION:Pro Loco Panza Ischia (Via Cavaliere Leonardo Impagliazzo\, 144\, 
 80075 Forio NA\, Italia)
SUMMARY:Andar per sentieri 2026: il sentiero delle due baie
URL:https://www.prolocopanza.it/en/events/event/15053-andar-per-sentieri-20
 26-il-sentiero-delle-due-baie
END:VEVENT
END:VCALENDAR
