BEGIN:VCALENDAR
VERSION:2.0
PRODID:-//https://www.prolocopanza.it///NONSGML kigkonsult.se iCalcreator 2.10.15//
METHOD:PUBLISH
BEGIN:VEVENT
UID:20260424T152418CEST-4314PF8LcP@https://www.prolocopanza.it/
DTSTAMP:20260424T132418Z
DESCRIPTION:Attraversando un paesaggio selvaggio ed affascinante\, tra rocc
 e e piante di ginestre giungeremo nel bosco di lecci e roverelle dei Frass
 itelli. Percorrendo una mulattiera\, entreremo nel meraviglioso bosco di c
 astagni della Falanga\, dove scopriremo e visiteremo le numerose Case di P
 ietra\, memoria storica dell'architettura rupestre\, utilizzata dagli agri
 coltori locali del passato per vivere al meglio questo ambiente naturale.C
 i ritroveremo in un'area\, oggi&nbsp\;'selvaggia': dove la natura ha avuto
  modo di riprendersi i suoi spazi tra rocce modellate dagli agenti atmosfe
 rici che regalano scorci emozionanti. Durante quest'escursione\, faremo un
 a degustazione di prodotti tipici presso il tipico ristorante 'Il Bracconi
 ere'&nbsp\;\nCrossing a wild and fascinating landscape\, among rocks and b
 room plants\, we wi/1 reach the oak and downy oak forest of Frassitelli. F
 ollowing a mule track\, we wi/1 enter the marvelous chestnut forest of Faf
 anga\, where we wi/1 discover and visit numerous stone houses\, historica/
  memory of the rock architecture used by locai farmers in the past to live
  in harmony with this natural environment. We wi/1 find ourselves in an ar
 ea\, now 'wild where nature has reclaimed its spaces among rocks shaped by
  the weather\, offering exciting views. During this hike\, we wi/1 have a 
 tasting of typical products at the typical restaurant&nbsp\;'Il Bracconier
 e'\n- Punto Partenza/Arrivo: (Departure / arrival point): Sede Proloco Pan
 za\, Forio - Dislivello (Elevation Gain): 200mt&nbsp\;- Difficolt&agrave\;
 : Media / Escursionistica (Difficulty: Medium)- Durata: 4\,5h &ndash\; 5km
  (soste incluse) Duration: 4\,5h &ndash\; 5km (stops included)- Visita/Deg
 ustazione: (Visit / Tasting): Ristotante 'Il Bracconiere'\n&nbsp\;\nQUOTA 
 DI PARTECIPAZIONE &euro\; 35 https://www.prolocopanza.it/en/events/event/1
 5052-andar-per-sentieri-2026-il-sentiero-delle-case-di-pietra
DTSTART:20260506T080000Z
DTEND:20260506T123000Z
LOCATION:Pro Loco Panza Ischia (Via Cavaliere Leonardo Impagliazzo\, 144\, 
 80075 Forio NA\, Italia)
SUMMARY:Andar per sentieri 2026 - Il Sentiero delle Case di Pietra
URL:https://www.prolocopanza.it/en/events/event/15052-andar-per-sentieri-20
 26-il-sentiero-delle-case-di-pietra
END:VEVENT
END:VCALENDAR
