BEGIN:VCALENDAR
VERSION:2.0
PRODID:-//https://www.prolocopanza.it///NONSGML kigkonsult.se iCalcreator 2.10.15//
METHOD:PUBLISH
BEGIN:VEVENT
UID:20260425T044003CEST-4131nNpUPR@https://www.prolocopanza.it/
DTSTAMP:20260425T024003Z
DESCRIPTION:Itinerario del percorso Piedirosso: “Spadara” – “De Angelis” – 
 “Piromallo” Partenza da Piazza S.Leonardo\, Panza ore 15:00\n&nbsp\;\nPren
 otazione obbligatoria per tutti i percorsi costo singolo percorso € 20\,00
 Incluso: navetta - visita alle cantine - guida - degustazioneI percorsi po
 ssono subire variazioni e modifiche in base alle prenotazioni e alla dispo
 nibilità delle cantine.\n&nbsp\; https://www.prolocopanza.it/en/events/eve
 nts-calendar/event/453-percorsi-andar-per-cantine-2017-percorso-piedirosso
 -mattina
DTSTART:20170917T100000Z
DTEND:20170917T130000Z
LOCATION:Panza (Panza - Forio d'Ischia)
SUMMARY:Percorsi Andar per cantine 2017 - Percorso Piedirosso (Mattina)
URL:https://www.prolocopanza.it/en/events/events-calendar/event/453-percors
 i-andar-per-cantine-2017-percorso-piedirosso-mattina
END:VEVENT
END:VCALENDAR
