BEGIN:VCALENDAR
VERSION:2.0
PRODID:-//https://www.prolocopanza.it///NONSGML kigkonsult.se iCalcreator 2.10.15//
METHOD:PUBLISH
BEGIN:VEVENT
UID:20260425T061437CEST-2563vTjsXC@https://www.prolocopanza.it/
DTSTAMP:20260425T041437Z
DESCRIPTION:Bagno di Capodanno nelle acque termali pi&ugrave\; calde della 
 nostra isola per dare il benvenuto al nuovo anno con Happy hour e live mus
 ic\nAppuntamento alle ore 11:00 alla Baia di Sorgeto https://www.prolocopa
 nza.it/en/events/events-calendar/event/15047-bagno-di-capodanno
DTSTART:20260101T100000Z
DTEND:20260101T120000Z
LOCATION:Baia di Sorgeto (Via Sorgeto\, 35\, 80075 Forio NA\, Italia)
SUMMARY:Bagno di Capodanno
URL:https://www.prolocopanza.it/en/events/events-calendar/event/15047-bagno
 -di-capodanno
END:VEVENT
END:VCALENDAR
