BEGIN:VCALENDAR
VERSION:2.0
PRODID:-//https://www.prolocopanza.it///NONSGML kigkonsult.se iCalcreator 2.10.15//
METHOD:PUBLISH
BEGIN:VEVENT
UID:20260425T032908CEST-6164CliknU@https://www.prolocopanza.it/
DTSTAMP:20260425T012908Z
DESCRIPTION:Baccalando a San Silvestro - Il piatto principe della tradizion
 e natalizia preparato dai nostri chef\nAppuntamento alle ore 12:00 in Piaz
 za San Leonardo https://www.prolocopanza.it/en/events/events-calendar/even
 t/15046-baccalando-a-san-silvestro
DTSTART:20251231T110000Z
DTEND:20251231T140000Z
LOCATION:Piazza San Leonardo  (Via Cavaliere Leonardo Impagliazzo\, 65\, 80
 075 Forio NA\, Italia)
SUMMARY:Baccalando a San Silvestro
URL:https://www.prolocopanza.it/en/events/events-calendar/event/15046-bacca
 lando-a-san-silvestro
END:VEVENT
END:VCALENDAR
