BEGIN:VCALENDAR
VERSION:2.0
PRODID:-//https://www.prolocopanza.it///NONSGML kigkonsult.se iCalcreator 2.10.15//
METHOD:PUBLISH
BEGIN:VEVENT
UID:20260425T061448CEST-3260Aebsdf@https://www.prolocopanza.it/
DTSTAMP:20260425T041448Z
DESCRIPTION:Giorgio Vanni in concerto.\nAppuntamento alle ore 19:00 in Piaz
 a San Leonardo https://www.prolocopanza.it/en/events/events-calendar/event
 /15041-giorgio-vanni-in-concerto
DTSTART:20251218T180000Z
DTEND:20251218T200000Z
LOCATION:Piazza San Leonardo  (Via Cavaliere Leonardo Impagliazzo\, 65\, 80
 075 Forio NA\, Italia)
SUMMARY:Giorgio Vanni in concerto
URL:https://www.prolocopanza.it/en/events/events-calendar/event/15041-giorg
 io-vanni-in-concerto
END:VEVENT
END:VCALENDAR
