BEGIN:VCALENDAR
VERSION:2.0
PRODID:-//https://www.prolocopanza.it///NONSGML kigkonsult.se iCalcreator 2.10.15//
METHOD:PUBLISH
BEGIN:VEVENT
UID:20260425T061632CEST-9933pmfl2U@https://www.prolocopanza.it/
DTSTAMP:20260425T041632Z
DESCRIPTION:Percorso guidato con degustazione di vini e prodotti tipici loc
 ali al chiaro di luna settembrina in alcune tra le pi&ugrave\; belle e sug
 gestive cantine ischitane.\n&euro\; 45\,00 a persona https://www.prolocopa
 nza.it/en/events/events-calendar/event/15028-cantinando-sotto-le-stelle-20
 25-extra
DTSTART:20251005T170000Z
DTEND:20251005T215900Z
LOCATION:Pro Loco Panza Ischia (Via Cavaliere Leonardo Impagliazzo\, 144\, 
 80075 Forio NA\, Italia)
SUMMARY:Cantinando sotto le stelle 2025 - Extra
URL:https://www.prolocopanza.it/en/events/events-calendar/event/15028-canti
 nando-sotto-le-stelle-2025-extra
END:VEVENT
END:VCALENDAR
