BEGIN:VCALENDAR
VERSION:2.0
PRODID:-//https://www.prolocopanza.it///NONSGML kigkonsult.se iCalcreator 2.10.15//
METHOD:PUBLISH
BEGIN:VEVENT
UID:20260425T030955CEST-7403o2Fvgk@https://www.prolocopanza.it/
DTSTAMP:20260425T010955Z
DESCRIPTION:Francesco Cicchella Show https://www.prolocopanza.it/en/events/
 events-calendar/event/14887-francesco-cicchella-show
DTSTART:20241223T200000Z
DTEND:20241223T220000Z
LOCATION:Piazza San Leonardo  (Via Cavaliere Leonardo Impagliazzo\, 65\, 80
 075 Forio NA\, Italia)
SUMMARY:Francesco Cicchella Show
URL:https://www.prolocopanza.it/en/events/events-calendar/event/14887-franc
 esco-cicchella-show
END:VEVENT
END:VCALENDAR
