BEGIN:VCALENDAR
VERSION:2.0
PRODID:-//https://www.prolocopanza.it///NONSGML kigkonsult.se iCalcreator 2.10.15//
METHOD:PUBLISH
BEGIN:VEVENT
UID:20260425T061510CEST-6652CVRSLx@https://www.prolocopanza.it/
DTSTAMP:20260425T041510Z
DESCRIPTION:Il piatto principe preparato secondo la tradizione natalizia de
 i nostri chef https://www.prolocopanza.it/en/events/events-calendar/event/
 14883-baccalando-a-san-silvestro
DTSTART:20241231T110000Z
DTEND:20241231T140000Z
LOCATION:Piazza San Leonardo  (Via Cavaliere Leonardo Impagliazzo\, 65\, 80
 075 Forio NA\, Italia)
SUMMARY:Baccalando a San silvestro
URL:https://www.prolocopanza.it/en/events/events-calendar/event/14883-bacca
 lando-a-san-silvestro
END:VEVENT
END:VCALENDAR
