BEGIN:VCALENDAR
VERSION:2.0
PRODID:-//https://www.prolocopanza.it///NONSGML kigkonsult.se iCalcreator 2.10.15//
METHOD:PUBLISH
BEGIN:VEVENT
UID:20260425T030745CEST-3161BtINli@https://www.prolocopanza.it/
DTSTAMP:20260425T010745Z
DESCRIPTION:Concerto della Banda Musicale Aurora con la partecipazione dell
 a corale 'Inarime'\nDirige il M° Nicola Lauro https://www.prolocopanza.it/
 en/events/events-calendar/event/14882-concerto-natalizio
DTSTART:20241228T180000Z
DTEND:20241228T193000Z
LOCATION:Parrocchia San Leonardo Abate (Via Cavaliere Leonardo Impagliazzo\
 , 131\, 80075 Forio NA\, Italia)
SUMMARY:Concerto natalizio
URL:https://www.prolocopanza.it/en/events/events-calendar/event/14882-conce
 rto-natalizio
END:VEVENT
END:VCALENDAR
