BEGIN:VCALENDAR
VERSION:2.0
PRODID:-//https://www.prolocopanza.it///NONSGML kigkonsult.se iCalcreator 2.10.15//
METHOD:PUBLISH
BEGIN:VEVENT
UID:20260425T045029CEST-1746EX1lTo@https://www.prolocopanza.it/
DTSTAMP:20260425T025029Z
DESCRIPTION:L’appuntamento più glam della manifestazione che vedrà ai forne
 lli grandi rappresentanti della cucina&nbsp\; d’autore. In un imperdibile 
 percorso di tentazioni\, in quattro flight che dureranno mezz’ora ognuno.
 \nQuota di partecipazione 250\,00 € a persona https://www.prolocopanza.it/
 en/events/events-calendar/event/14679-ischia-safari-2023-charity-gala-dinn
 er
DTSTART:20230917T183000Z
DTEND:20230917T215900Z
LOCATION:Albergo della Regina Isabella (Corso Angelo Rizzoli\, 210\, 80076 
 Lacco Ameno NA\, Italia)
SUMMARY:ISCHIA SAFARI 2023 - CHARITY GALA DINNER
URL:https://www.prolocopanza.it/en/events/events-calendar/event/14679-ischi
 a-safari-2023-charity-gala-dinner
END:VEVENT
END:VCALENDAR
