BEGIN:VCALENDAR
VERSION:2.0
PRODID:-//https://www.prolocopanza.it///NONSGML kigkonsult.se iCalcreator 2.10.15//
METHOD:PUBLISH
BEGIN:VEVENT
UID:20260425T044958CEST-5547vtf2Ep@https://www.prolocopanza.it/
DTSTAMP:20260425T024958Z
DESCRIPTION:Nel Comune di Serrara Fontana sull'isola d'Ischia\,&nbsp\;alle 
 ore 20:30\, Gianni Mobilya &amp\; Tammuriata Band in concerto https://www.
 prolocopanza.it/en/events/events-calendar/event/14037-gianni-mobilya-tammu
 riata-band
DTSTART:20180922T183000Z
DTEND:20180923T210000Z
LOCATION:Comune di Serrara Fontana (Via Roma\, 79\, 80070 Serrara Fontana N
 A\, Italia)
SUMMARY:Gianni Mobilya & Tammuriata Band
URL:https://www.prolocopanza.it/en/events/events-calendar/event/14037-giann
 i-mobilya-tammuriata-band
END:VEVENT
END:VCALENDAR
