BEGIN:VCALENDAR
VERSION:2.0
PRODID:-//https://www.prolocopanza.it///NONSGML kigkonsult.se iCalcreator 2.10.15//
METHOD:PUBLISH
BEGIN:VEVENT
UID:20260420T011034CEST-4179V728CM@https://www.prolocopanza.it/
DTSTAMP:20260419T231034Z
DESCRIPTION:Nel mese di agosto la tradizionale sagra del vino a Panza richi
 ama migliaia di persone tra residenti e turisti\, attratti dalla genuinit&
 agrave\; del vino delle colline ischitane\, dalle buonissime e gustosissim
 e salsicce alla brace e da tanta buona musica.\nPer la sua 51^ edizione la
  sagra sar&agrave\; l'appuntamento pi&ugrave\; importante dell'estate con 
 spettacoli folkloristici e tanti stand gastronomici. https://www.prolocopa
 nza.it/en/calendario-eventi-archiviati/event/14910-sagra-del-vino-e-saucic
 ciata
DTSTART:20250816T183000Z
DTEND:20250816T215900Z
LOCATION:Piazza San Leonardo  (Via Cavaliere Leonardo Impagliazzo\, 65\, 80
 075 Forio NA\, Italia)
SUMMARY:Sagra del vino e saucicciata
URL:https://www.prolocopanza.it/en/calendario-eventi-archiviati/event/14910
 -sagra-del-vino-e-saucicciata
END:VEVENT
BEGIN:VEVENT
UID:20260420T011034CEST-4186pvuL5Z@https://www.prolocopanza.it/
DTSTAMP:20260419T231034Z
DESCRIPTION:dal 4 lglio al 5 settembre&nbsp\;Nei mesi di luglio e agosto\, 
 tutti i venerd&igrave\; sera\, nella piazza e lungo il corso del paese\, m
 ercatini di artigianato locale\, prodotti tipici e street food animeranno 
 le serate con profumi e sapori autentici.\nTanta musica live e street band
  regaleranno un'atmosfera unica\, trasformando ogni angolo in un palcoscen
 ico a cielo aperto\, dove lascirsi trasportare dal ritmo e dalla magia del
 l'estate. https://www.prolocopanza.it/en/calendario-eventi-archiviati/even
 t/14918-panza-summer-fest-ii-edizione
DTSTART:20250815T190000Z
DTEND:20250815T215900Z
LOCATION:Pro Loco Panza Ischia (Via Cavaliere Leonardo Impagliazzo\, 144\, 
 80075 Forio NA\, Italia)
SUMMARY:Panza Summer Fest - II Edizione
URL:https://www.prolocopanza.it/en/calendario-eventi-archiviati/event/14918
 -panza-summer-fest-ii-edizione
END:VEVENT
END:VCALENDAR
