BEGIN:VCALENDAR
VERSION:2.0
PRODID:-//https://www.prolocopanza.it///NONSGML kigkonsult.se iCalcreator 2.10.15//
METHOD:PUBLISH
BEGIN:VEVENT
UID:20260423T044150CEST-204192IAxo@https://www.prolocopanza.it/
DTSTAMP:20260423T024150Z
DESCRIPTION:Partenza dal campo sportivo di Panza (Forio) proseguendo su via
  Montecorvo fino ad arrivare nella zona della Pietra Brox (nome dato dai c
 ontadini ad un enorme blocco di tufo distaccato dalla cime del Monte Epome
 o )\; percorreremo una stradina utilizzata\, in passato\, dai contadini im
 mersa tra campi coltivati e vigneti abbandonati salendo gradoni scavati ne
 lla roccia arriveremo appena al di sotto di quelle che vengono chiamate le
  “Fumarole di Donna Rachele”\, serie di bocche nel terreno che emettono va
 pori ad alte temperature appartenenti al campo fumarolico di Rione Bocca.
 \nAttraversando il citato campo fumarolico ci dirigeremo\, tramite un anti
 co sentiero tra lecci\, erbe spontanee ed enormi massi di tufo\, verso la 
 “Bocca di Tifeo”\, affascinante bocca fumarolica scavata tra la roccia di 
 tufo con le sue emissioni di vapore acqueo a circa 115°.\nDopo aver ammira
 to il paesaggio verso ovest sulla baia di Citara e l’abitato della frazion
 e di Panza\, percorreremo a ritroso l’ultima parte del sentiero verso Mont
 ecorvo per poi\, tramite un ulteriore stradina di campagna\, dirigerci ver
 so il punto di inizio escursione\, prendendo però una deviazione per goder
 e di una degustazione di vini e prodotti locali di stagione presso la tenu
 ta Montecorvo.\nDETTAGLI- Punto di partenza / arrivo: Panza\, Forio- Luogo
  di incontro: Sede Pro Loco - Piazza san Leonardo\, Panza\, Forio- Diffico
 ltà: Media/ Turistica- Durata: 4h – 4km (soste incluse)- Degustazione: Ten
 uta Montecorvo- Quota di partecipazione: 25.00 €\n&nbsp\; https://www.prol
 ocopanza.it/en/calendario-eventi-archiviati/event/14458-il-sentiero-della-
 bocca-di-tifeo-e-delle-fumarole-di-donna-rachele
DTSTART:20220529T073000Z
DTEND:20220529T113000Z
LOCATION:Piazza San Leonardo  (Via Cavaliere Leonardo Impagliazzo\, 65\, 80
 075 Forio NA\, Italia)
SUMMARY:Il sentiero della Bocca di Tifeo e delle Fumarole di Donna Rachele
URL:https://www.prolocopanza.it/en/calendario-eventi-archiviati/event/14458
 -il-sentiero-della-bocca-di-tifeo-e-delle-fumarole-di-donna-rachele
END:VEVENT
BEGIN:VEVENT
UID:20260423T044150CEST-20489hZUUK@https://www.prolocopanza.it/
DTSTAMP:20260423T024150Z
DESCRIPTION:Punto di incontro nella Piazzetta di Serrara\, nel comune di Se
 rrara Fontana\, da dove ci incammineremo verso via Iesca\, una vecchia mul
 attiera in discesa tra campi coltivati\, terrazzamenti a vite ed antiche c
 antine scavate nella roccia.\nRaggiungeremo la vallata di Cavascura\,dove 
 il nostro cammino inizierà ad essere in salita\, attraversando dall'alto l
 e vallate di Olmitello e Cavascura in direzione nord verso la parte alta d
 el comune di Serrara Fontana.\nLo scenario man mano incomincerà ad avere d
 ei tratti irreali caratterizzato da blocchi tufacei modellati dalle azioni
  degli agenti naturali: i Pizzi Bianchi\, questi rappresentano un gioco de
 lla natura particolarmente bello e suggestivo.\nSi aprirà alla vista del v
 isitatore un'immagine fantastica costituita da un gruppo di pinnacoli di t
 ufo di un colore perfettamente bianco\, candidi e delicati che emergono da
 l terreno e che sono continuamente modellati dal vento e dalla pioggia.\nI
 l percorso poi continuerà in salita fino a raggiungere il Borgo di Noja\; 
 da qui dopo una breve pausa dirigendoci verso il centro di Fontana andremo
  a godere di una degustazione di prodotti locali e di stagione presso la C
 antina di Tony\, dove verremo deliziati anche dalle note della chitarra di
  Aniello.\nDETTAGLI- Punto di partenza / arrivo: Serrara / Fontana- Luogo 
 di incontro: Sede Pro Loco - Piazza san Leonardo\, Panza\, Forio- Difficol
 tà: Difficile / Escursionisti Esperti- Durata: 6h – 6km (soste incluse)- D
 egustazione: Cantina da Tony- Quota di partecipazione: 25.00 € https://www
 .prolocopanza.it/en/calendario-eventi-archiviati/event/14461-il-sentiero-d
 ei-pizzi-bianchi
DTSTART:20220524T073000Z
DTEND:20220524T133000Z
LOCATION:Pro Loco Panza Ischia (Via Cavaliere Leonardo Impagliazzo\, 144\, 
 80075 Forio NA\, Italia)
SUMMARY:Il sentiero dei Pizzi Bianchi
URL:https://www.prolocopanza.it/en/calendario-eventi-archiviati/event/14461
 -il-sentiero-dei-pizzi-bianchi
END:VEVENT
BEGIN:VEVENT
UID:20260423T044150CEST-2054vBtXum@https://www.prolocopanza.it/
DTSTAMP:20260423T024150Z
DESCRIPTION:Punto di incontro e partenza escursione la piazzetta del paesin
 o di Serrara da dove ci immetteremo su via Andrea Mattera per poi prosegui
 re sull’antico sentiero che collegava il paesino montano al piccolo Borgo 
 di Pescatori di Sant’Angelo\, la Madonnella.\nPercorso interamente in disc
 esa che tramite diverse scale e poi un suggestivo viale immerso tra vignet
 i abbandonati e campi ancora in uso\, ci porterà nel cuore della piccola p
 erla dell’isola d’Ischia che con i suoi colori e angoli scenografici la re
 ndono molto simile alla Corricella di Procida o Marina Piccola di Capri.\n
 Una volta arrivati al porticciolo e goduto di ogni sua bellezza\, usciremo
  dal paesino e tramite un'antica stradina lastricata raggiungeremo la fraz
 ione di Succhivo dove presso la Cantina Scardecchia ci sarà una degustazio
 ne con vino della casa e prodotti tipici di stagione.\nTerminata la sosta 
 ci rimetteremo in cammino verso Panza tramite la quasi dimenticata stradin
 a che collegava queste due frazioni.\nDETTAGLI- Punto di partenza / arrivo
 : Serrara / Panza- Luogo di incontro: Sede Pro Loco - Piazza san Leonardo\
 , Panza\, Forio- Difficoltà: Faciule / Turistica- Durata: 5h – 5km (soste 
 incluse)- Degustazione: Cantina Scardecchia- Quota di partecipazione: 25.0
 0 € https://www.prolocopanza.it/en/calendario-eventi-archiviati/event/1446
 2-il-sentiero-dei-pirati
DTSTART:20220526T073000Z
DTEND:20220526T123000Z
LOCATION:Pro Loco Panza Ischia (Via Cavaliere Leonardo Impagliazzo\, 144\, 
 80075 Forio NA\, Italia)
SUMMARY:Il Sentiero dei Pirati
URL:https://www.prolocopanza.it/en/calendario-eventi-archiviati/event/14462
 -il-sentiero-dei-pirati
END:VEVENT
BEGIN:VEVENT
UID:20260423T044150CEST-205911UoHw@https://www.prolocopanza.it/
DTSTAMP:20260423T024150Z
DESCRIPTION:Partenza prevista in prossimità del ristorante il Bracconiere n
 ella zona di Bocca di Serra nel comune di Serrara Fontana.\nCi incamminere
 mo verso la zona dei Frassitelli attraversando un paesaggio selvaggio ed a
 ffascinante in direzione del versante nord-ovest dell’isola fino ad arriva
 re nel bosco di querce dei Frassitelli.\nDopo pochi metri dall’area boscat
 a\, avremo la possibilità di raggiungere il belvedere dove la visuale si a
 prirà sul panorama mozzafiato che offre il territorio del comune di Forio 
 (baia di citara\, punta imperatore\, chiesa del Soccorso).\nCi metteremo p
 oi in cammino verso il Bosco della Falanga\, dove visiteremo le “Case di P
 ietra”e tutti i tesori che portano memoria dell’antica cultura della colti
 vazione del vino.\nRaggiungeremo poi il borgo di Santa Maria al Monte e do
 po aver visitato la chiesetta omonima ci dirigeremo verso l' agriturismo M
 alvesiello: qui faremo una degustazione di prodotti tipici immersi in un a
 mbiente speciale.\nAl termine della degustazione ci dirigeremo verso la SP
  270 attraverso via Bocca da dove ci sarà il rientro.\nDETTAGLI- Punto di 
 partenza / arrivo: Bracconiere- Luogo di incontro: Sede Pro Loco - Piazza 
 san Leonardo\, Panza\, Forio- Difficoltà: Facile / Turistica- Durata: 6h –
  7km (soste incluse)- Degustazione: Ristorante Malvesiello- Quota di parte
 cipazione: 30.00 € https://www.prolocopanza.it/en/calendario-eventi-archiv
 iati/event/14463-il-sentiero-delle-case-di-pietra
DTSTART:20220525T073000Z
DTEND:20220525T133000Z
LOCATION:Pro Loco Panza Ischia (Via Cavaliere Leonardo Impagliazzo\, 144\, 
 80075 Forio NA\, Italia)
SUMMARY:Il sentiero delle Case di Pietra
URL:https://www.prolocopanza.it/en/calendario-eventi-archiviati/event/14463
 -il-sentiero-delle-case-di-pietra
END:VEVENT
BEGIN:VEVENT
UID:20260423T044150CEST-2064NPIHTM@https://www.prolocopanza.it/
DTSTAMP:20260423T024150Z
DESCRIPTION:\nInizio escursione in prossimità del ristorante il Bracconiere
  nella zona di Bocca di Serra nel comune di Serrara Fontana.\nDa qui ci in
 cammineremo attraversando un paesaggio selvaggio ed affascinante in direzi
 one del versante nord-ovest dell’isola fino ad arrivare nel bosco di robin
 ie dei Frassitelli. Dopo pochi metri dall’area boscata\, avremo la possibi
 lità di raggiungere il belvedere dove la visuale si aprirà su un panorama 
 mozzafiato sul territorio del comune di Forio (baia di citara\, punta impe
 ratore\, chiesa del Soccorso).\nProseguiremo poi verso il Bosco della Fala
 nga\, dove visiteremo le “Case di Pietra”e tutti i tesori che portano memo
 ria dell’antica cultura della coltivazione del vino e raggiungeremo il bor
 go di Santa Maria al Monte per ammirare l’omonima chiesetta ed il panorama
  sull’intero versante ovest.\nDa lì\, percorrendo una antica mulattiera\, 
 raggiungeremo dapprima il belvedere e poi ripercorrendo a ritroso la parte
  iniziale del sentiero faremo ritorno nella zona di Bocca di Serra\, dove 
 presso la Tenuta Frassitelli di Casa d’Ambra godremo di una degustazione d
 ei loro vini e di prodotti tipici.\nDETTAGLI- Punto di partenza / arrivo: 
 Bracconiere- Luogo di incontro: Sede Pro Loco - Piazza san Leonardo\, Panz
 a\, Forio- Difficoltà: Facile / Turistica- Durata: 3\,5h – 3km (soste escl
 use)- Degustazione: Cantibùna d'Ambra- Quota di partecipazione: 30.00 €\n 
 https://www.prolocopanza.it/en/calendario-eventi-archiviati/event/14464-il
 -sentiero-dei-frassitelli-al-tramonto
DTSTART:20220528T140000Z
DTEND:20220528T173000Z
LOCATION:Piazza San Leonardo  (Via Cavaliere Leonardo Impagliazzo\, 65\, 80
 075 Forio NA\, Italia)
SUMMARY:Il sentiero dei Frassitelli al tramonto
URL:https://www.prolocopanza.it/en/calendario-eventi-archiviati/event/14464
 -il-sentiero-dei-frassitelli-al-tramonto
END:VEVENT
BEGIN:VEVENT
UID:20260423T044150CEST-2070GZIThE@https://www.prolocopanza.it/
DTSTAMP:20260423T024150Z
DESCRIPTION:Punto di inizio escursione sul piazzale del Monte Rotaro da dov
 e ci metteremo in cammino percorrendo gli antichi crateri e duomi lavici c
 he hanno caratterizzato la storia geologica dell’isola d’Ischia.\nScendend
 o verso Fondo d’Oglio arriveremo proprio al centro di un cratere vulcanico
 \, estinto migliaia di anni fa e dove al suo centro è sorto un albero deno
 minato “fatato” per via delle numerose leggende che lo caratterizzano. Ris
 alendo il cono percorreremo il bosco della Maddalena\, tra piante spontane
 e e panorami scenografici sul porto d’Ischia e la Terraferma.\nGiungeremo 
 poi nella zona del Montagnone da dove avremo modo di ammirare una vista da
  cartolina. Ripercorso a ritroso l’ultima parte del percorso\, tra parraci
 ne e campi agricoli abbandonati ci dirigeremo&nbsp\;presso il Ristorante i
 l Focolare per visitare la loro cantina scavata nel Tufo e degustazione de
 i loro prodotti tipici. .\nDETTAGLI- Punto di partenza / arrivo: Cretaio- 
 Luogo di incontro: Sede Pro Loco - Piazza san Leonardo\, Panza\, Forio- Di
 fficoltà: Facile / Turistica- Durata: 5h – 5km (soste incluse)- Degustazio
 ne: Ristorante il Focolare- Quota di partecipazione: 30.00 € https://www.p
 rolocopanza.it/en/calendario-eventi-archiviati/event/14465-il-sentiero-dei
 -vulcani-dormienti-e-del-bosco-della-maddalena
DTSTART:20220527T073000Z
DTEND:20220527T123000Z
LOCATION:Pro Loco Panza Ischia (Via Cavaliere Leonardo Impagliazzo\, 144\, 
 80075 Forio NA\, Italia)
SUMMARY:Il sentiero dei vulcani dormienti e del bosco della Maddalena
URL:https://www.prolocopanza.it/en/calendario-eventi-archiviati/event/14465
 -il-sentiero-dei-vulcani-dormienti-e-del-bosco-della-maddalena
END:VEVENT
BEGIN:VEVENT
UID:20260423T044150CEST-2074wXhJ4h@https://www.prolocopanza.it/
DTSTAMP:20260423T024150Z
DESCRIPTION:Partenza nelle vicinanze del maneggio in zona Cretaio (Casamicc
 iola) dove percorreremo la salita a gradoni scavati nella roccia di Cava B
 ianca\, così denominata per la forte presenza di pomici e lapilli.\nContin
 uando la salita ci immetteremo in un bosco di castagni\, tra felci e piant
 e spontanee fino ad arrivare sulla cima del Monte Trippodi per poi scender
 e verso Piano San Paolo\, vecchia spiaggia fossile.\nAbbandonando il bosco
 \, in direzione di Buttavento\, poi ci immergeremo in un esplosione florea
 le percorrendo la costa Sparaina.\nRipercorrendo l'ultima parte del sentie
 ro scenderemo nella vallata del Cannavale\, passando di fianco all’omonima
  tenuta bio-agricola dove sosteremo per una degustazione del loro vino bio
 dinamico e di prodotti locali di stagione.\nChiuderemo il percorso ad anel
 lo passando alle falde del Monte Trippodi e ritornando a Cava Bianca\, da 
 cui si proseguirà per il rientro.\n&nbsp\;DETTAGLI- Punto di partenza / ar
 rivo: Cretaio- Luogo di incontro: Sede Pro Loco - Piazza san Leonardo\, Pa
 nza\, Forio- Difficoltà: Facile / Escursionistica- Durata: 5h – 6km (soste
  incluse)- Degustazione: Tenuta del Cannavale- Quota di partecipazione: 30
 .00 € https://www.prolocopanza.it/en/calendario-eventi-archiviati/event/14
 466-il-sentiero-di-buttavento
DTSTART:20220523T073000Z
DTEND:20220523T123000Z
LOCATION:Pro Loco Panza Ischia (Via Cavaliere Leonardo Impagliazzo\, 144\, 
 80075 Forio NA\, Italia)
SUMMARY:Il sentiero di Buttavento
URL:https://www.prolocopanza.it/en/calendario-eventi-archiviati/event/14466
 -il-sentiero-di-buttavento
END:VEVENT
BEGIN:VEVENT
UID:20260423T044150CEST-2079B0GkBN@https://www.prolocopanza.it/
DTSTAMP:20260423T024150Z
DESCRIPTION:La storia millenaria della nostra viticultura risale all VIII s
 ecolo a.c. e trova testimonianza in alcuni reperti custoditi al museo di V
 illa Arbusto a Lacco Ameno dove vi condurremo per una visita alla famosiss
 ima Coppa di Nestore.Questo reperto e’ uno dei massimi esempi delle relazi
 oni commerciali che l’antica Pithecusa intratteneva in tutto il mediterran
 eo e nella sua scritta “ chi beva da questa coppa subito quello sarà preso
  dal desiderio d’amore per Afrodite dalla bella corona”\, vi è uno degli e
 sempi piu’ antichi di scrittura greca.Qui vi sarà una degustazione delle C
 antine Perrazzo con Don Alfonso Bianco 2021 e Lepus Rosso 2021. Ci sposter
 emo poi presso le Cantine Tommasone per una degustazione gourmet di prodot
 ti tipici accompagnati dai seguenti vini:• Rosato spumante bri’ 1995 metod
 o classico• Ischia Biancolella 2021• Pithecusa Bianco 2021• Tenuta Monte Z
 unta 2019• Pigna nera 2019 in Anfora di Terracotta\nIl percorso Gourmet:\n
 1. COPPA DI NESTORELa Coppa di Nestore è un reperto archeologico rinvenuto
  nella necropoli di San Montano a Lacco Ameno ed è attualmente conservato 
 presso il Museo di Villa Arbusto. E' da considerarsi il reperto più import
 ante di tutto il museo.\n2. CANTINE PERRAZZOIschia - Via Porto\, 36 Tel:&n
 bsp\; 081991600Affacciate sull’antico porto di Ischia\, le storiche cantin
 e Perrazzo sono testimoni della nascita di pregiati vini fin dall’Ottocent
 o. Le gole tufacee scavate nel porto sono oggi ricovero di botti secolari 
 e pregiati vini che attraggono avventori nel raffinato wine bar posizionat
 o nel cuore della Riva Destra del porto di Ischia.\n3. CANTINA LA PIETRA D
 I TOMMASONELacco Ameno - Via Prov.le Lacco\, 98\, loc. FangoTel: 081 33303
 30 | Fax: 081 3330677www.tommasonevini.it - tommasonevini@ischia.itUn’azie
 nda giovane che guarda al futuro nel rispetto delle tradizioni di una gran
 de famiglia. Nasce nel 2004 il cui nome è dedicato sia al padre Tommasone\
 , sia all’antica cantina fatta in una pietra. La Pietra di Tommasone è fru
 tto di passione e impegno\, ma soprattutto di una tradizione familiare di 
 vecchia data.\nPrenotazione obbligatoria\, prezzo del percorso € 48\,00 ht
 tps://www.prolocopanza.it/en/calendario-eventi-archiviati/event/14468-sull
 e-orme-dei-greci-percorso-gourmet
DTSTART:20220528T080000Z
DTEND:20220528T110000Z
LOCATION:Piazza San Leonardo  (Via Cavaliere Leonardo Impagliazzo\, 65\, 80
 075 Forio NA\, Italia)
SUMMARY:Sulle orme dei Greci - Percorso gourmet
URL:https://www.prolocopanza.it/en/calendario-eventi-archiviati/event/14468
 -sulle-orme-dei-greci-percorso-gourmet
END:VEVENT
BEGIN:VEVENT
UID:20260423T044150CEST-2085E4FUnU@https://www.prolocopanza.it/
DTSTAMP:20260423T024150Z
DESCRIPTION:Un percorso enogastronomico con visita e degustazione in tre ca
 ntine tipiche della nostra isola\, interamente scavate nella caratteristic
 a pietra verde\, preludio della grande manifestazione Andar per Cantine ch
 e si svolge nel mese di settembre.\nVi condurremo nelle cantine Raustella\
 , Scilaturo e nella cantina di Nonno Michele da Tony per farvi riscoprire 
 le più antiche tradizioni vitivinicole dell’isola d’Ischia.\nIl percorso G
 ourmet:\n1. CANTINA RAUSTELLAIndirizzo: Via Lorenzo Fiore\, - Serrara Font
 anaContatti: 3478128485Alle pendici del monte Epomeo\, in grotte scavate\,
  in grotte scavate nella montagna dagli antichi ischitani\, saggi contadin
 i continuano a produrre il vino con i sistemi dei padri. Tra questi\, Fran
 cesco Mattera detto Raustella\, nella sua cantina in Serrara\, alla venera
 nda eta’ di 90 anni continua a produrre il meraviglioso nettare degli dei.
  Completamente restaurata da Giuseppe Mattera oggi scrigno delle antiche t
 radizioni vitivinicole...\n2. CANTINA ‘O SCILATUROVia Angelo Migliaccio\, 
 151 - BaranoMob. +39 3476243693La cantina della famiglia Di Costanzo si tr
 ova sulla parte alta di Barano\, in località Toccaneto. Centocinquanta ann
 i di tradizione racchiusi in un piccolo tempio del vino sapientemente rest
 aurato\, in cui è possibile ammirare le antiche pietre e i vecchi palmenti
 \, protagonisti di storiche vendemmie. L’azienda agricola\, a conduzione f
 amigliare\, produce\, a poca distanza da un orto rigoglioso\, un vino dal 
 sapore tipicamente ischitano.\n3. CANTINA NONNO MICHELE DI TONYVia Pendio 
 Oscuro - Serrara FontanaTel. 081 999570 - Mob. 3294410962La cantina di non
 no Michele scavata nel 1908 nelle rocce di tufo ed utilizzata fino a 30 an
 ni fa per la conservazione del vino e delle botti. Caratteristica particol
 are della cantina\, ancora oggi visibile\, è la pietra sudaria\, da cui sg
 orga acqua. La tradizione familiare\, oggi\, viene portata avanti dal nipo
 te Antonio Galano che l’ha resa uno speciale luogo di ritrovo dove turisti
  ed isolani.\nPrenotazione obbligatoria\, quota di partecipazione € 30\,00
 L’escursione comprende degustazione nelle tre cantine\, servizio navetta e
  guida. https://www.prolocopanza.it/en/calendario-eventi-archiviati/event/
 14469-il-sentiero-delle-cantine-del-tufo-verde
DTSTART:20220529T130000Z
DTEND:20220529T160000Z
LOCATION:Piazza San Leonardo  (Via Cavaliere Leonardo Impagliazzo\, 65\, 80
 075 Forio NA\, Italia)
SUMMARY:Il sentiero delle cantine del tufo verde
URL:https://www.prolocopanza.it/en/calendario-eventi-archiviati/event/14469
 -il-sentiero-delle-cantine-del-tufo-verde
END:VEVENT
END:VCALENDAR
