BEGIN:VCALENDAR
VERSION:2.0
PRODID:-//https://www.prolocopanza.it///NONSGML kigkonsult.se iCalcreator 2.10.15//
METHOD:PUBLISH
BEGIN:VEVENT
UID:20260423T044150CEST-2112g85S6X@https://www.prolocopanza.it/
DTSTAMP:20260423T024150Z
DESCRIPTION:Partendo dalla piazzetta della frazione Panza si attraverserà l
 ’abitato fino a raggiungere un sentiero ricco di essenze e colori delle pi
 ante tipiche della macchia mediterranea che ci condurrà verso il promontor
 io di Capo Negro. Questo luogo ci darà la stessa sensazione che potremmo a
 vere dalla prua di una nave permettendoci di scorgere a destra e sinistra 
 le meravigliose baie della Pelara e di Sorgeto. Dopo la sosta in questo pu
 nto panoramico\, attraverseremo un fitto boschetto di lecci ed eriche e un
  tratto di radura caratterizzata da un manto di felci\, per raggiungere la
  baia della Pelara\, pregevole geosito di carattere vulcanico. La seconda 
 perla rappresentata dalla baia di Sorgeto si raggiungerà percorrendo a rit
 roso un tratto del sentiero fino ad incontrare una stradina che condurrà a
 l belvedere che si affaccia sulla baia di Sorgeto. La sosta prevede anche 
 la permanenza al Ristorante Chiarito per una degustazione di prodotti tipi
 ci\, con la possibilità di ammirare la baia di Sorgeto dall’alto. Dopo la 
 sosta un percorso gradonato con circa 100 scalini ci consentirà di raggiun
 gere le vasche naturali intagliate nel tufo in cui si miscela l’acqua term
 ale che emerge a 90° con l’acqua di mare e per chi lo vorrà ci sarà la pos
 sibilità di fare un bagno nelle miracolose acque della baia.\nDETTAGLI - P
 unto Partenza/Arrivo: Panza\, Forio- Luogo di incontro: Sede Pro Loco - Pi
 azza san Leonardo\, Panza\, Forio - Difficoltà: Facile / Turistica- Durata
 : 5h – 6km (soste incluse)- Degustazione: ristorante Chiarito- Quota di pa
 rtecipazione 25.00\n&nbsp\; https://www.prolocopanza.it/en/calendario-even
 ti-archiviati/event/14457-il-sentiero-delle-due-baie
DTSTART:20220520T073000Z
DTEND:20220520T123000Z
LOCATION:Pro Loco Panza Ischia (Via Cavaliere Leonardo Impagliazzo\, 144\, 
 80075 Forio NA\, Italia)
SUMMARY:Il sentiero delle due baie
URL:https://www.prolocopanza.it/en/calendario-eventi-archiviati/event/14457
 -il-sentiero-delle-due-baie
END:VEVENT
BEGIN:VEVENT
UID:20260423T044150CEST-21194Guzdw@https://www.prolocopanza.it/
DTSTAMP:20260423T024150Z
DESCRIPTION:Punto di partenza in prossimità della Chiesa dell’Annunziata di
  Sant’Antuono (comune di Ischia)\, si prosegue poi sulla stradina che cond
 uce a Torre di Mezzo che attraversa vigneti a picco sul mare e roccia vulc
 anica biancastra.\nIl percorso consente di raggiungere il paesino semi-abb
 andonato di Piano Liguori\, fino ad arrivare alla baia della Sgarrupata.\n
 Da questo punto\, dove si apre la vista sul mare\, proseguiremo percorrend
 o il sentiero che riporta sul piano Liguori e si ricollega alla parte bass
 a di Torre di Mezzo. Qui\, presso l’azienda Agricola “Pignatiello” effettu
 eremo la degustazione di prodotti tipici. Al termine riprenderemo il cammi
 no in direzione di Campagnano\, costeggiando e ammirando dall’alto la baia
  di Cartaromana e il castello Aragonese nel borgo di Ischia Ponte.\nDETTAG
 LI- Punto di partenza / arrivo: Campagnano- Luogo di incontro: Sede Pro Lo
 co - Piazza san Leonardo\, Panza\, Forio- Difficoltà: Media/ Escursionisti
 ca- Durata: 5h – 7km (soste incluse)- Degustazione: Azienda Agricola Pigni
 tiello- Quota di partecipazione: 25.00 € https://www.prolocopanza.it/en/ca
 lendario-eventi-archiviati/event/14459-il-sentiero-di-piano-liguori
DTSTART:20220521T073000Z
DTEND:20220521T123000Z
LOCATION:Pro Loco Panza Ischia (Via Cavaliere Leonardo Impagliazzo\, 144\, 
 80075 Forio NA\, Italia)
SUMMARY:Il sentiero di Piano Liguori
URL:https://www.prolocopanza.it/en/calendario-eventi-archiviati/event/14459
 -il-sentiero-di-piano-liguori
END:VEVENT
BEGIN:VEVENT
UID:20260423T044150CEST-2124c3Z2ar@https://www.prolocopanza.it/
DTSTAMP:20260423T024150Z
DESCRIPTION:Partendo dal piazzale antistante il cimitero di Serrara\, si pe
 rcorre la stradina di via Calimera\, dove tramite una cava scavata nella r
 occia di tufo ci si collega alla zone di Bocca di Serra in direzione della
  Pietra dell’Acqua\, località che prende il nome dai diversi serbatoi scav
 ati nella pietra per la raccolta dell’acqua\, fino a giungere sulla cima d
 el monte Epomeo (780m s.l.m.) da cui si ha una visuale a 360° dell’intera 
 isola.\nDopo la sosta sul monte Epomeo\, si percorrerà in discesa il senti
 ero che passa per l’eremo di San Nicola e ripercorrendo il percorso verso 
 la pietra dell’acqua imboccheremo il sentiero che porta a via Pendio Oscur
 o\, altra gola scavata nel tempo dalle acque che scendevano dalla parte pi
 ù alta dell’isola.\nGiungeremo così alla Cantina da Tony\, dove sarà possi
 bile degustare prodotti tipici e buon vino locale intrattenuti dalla chita
 rra del mitico Aniello.\nDETTAGLI- Punto di partenza / arrivo: Calimera / 
 Fontana- Luogo di incontro: Sede Pro Loco - Piazza san Leonardo\, Panza\, 
 Forio- Difficoltà: Media/ Turistica- Durata: 6h – 8km (soste incluse)- Deg
 ustazione: Cantina da Tony- Quota di partecipazione: 25.00 € https://www.p
 rolocopanza.it/en/calendario-eventi-archiviati/event/14460-il-sentiero-del
 l-eremo-di-san-nicola-al-monte-epomeo
DTSTART:20220522T073000Z
DTEND:20220522T133000Z
LOCATION:Pro Loco Panza Ischia (Via Cavaliere Leonardo Impagliazzo\, 144\, 
 80075 Forio NA\, Italia)
SUMMARY:Il sentiero dell'Eremo di San Nicola al Monte Epomeo
URL:https://www.prolocopanza.it/en/calendario-eventi-archiviati/event/14460
 -il-sentiero-dell-eremo-di-san-nicola-al-monte-epomeo
END:VEVENT
END:VCALENDAR
