BEGIN:VCALENDAR
VERSION:2.0
PRODID:-//https://www.prolocopanza.it///NONSGML kigkonsult.se iCalcreator 2.10.15//
METHOD:PUBLISH
BEGIN:VEVENT
UID:20260422T154636CEST-5335AuIvN7@https://www.prolocopanza.it/
DTSTAMP:20260422T134636Z
DESCRIPTION:\n\nSi rinnova l’antico rito della cena della vendemmia secondo
  un tradizionale menù elaborato dai nostri chef...Menù anche per celiaci\n
 Prenotazione obbligatoria\, € 35\,00\n\n https://www.prolocopanza.it/en/ca
 lendario-eventi-archiviati/event/14564-cena-della-vendemmia-in-vigna
DTSTART:20221002T183000Z
DTEND:20221002T212800Z
LOCATION:Pro Loco Panza Ischia (Via Cavaliere Leonardo Impagliazzo\, 144\, 
 80075 Forio NA\, Italia)
SUMMARY:Cena della vendemmia in vigna
URL:https://www.prolocopanza.it/en/calendario-eventi-archiviati/event/14564
 -cena-della-vendemmia-in-vigna
END:VEVENT
END:VCALENDAR
