BEGIN:VCALENDAR
VERSION:2.0
PRODID:-//https://www.prolocopanza.it///NONSGML kigkonsult.se iCalcreator 2.10.15//
METHOD:PUBLISH
BEGIN:VEVENT
UID:20260422T004023CEST-8620rEV8RT@https://www.prolocopanza.it/
DTSTAMP:20260421T224023Z
DESCRIPTION:Cena tipica della vendemmia tra i filari del BiancolellaPrenota
 zione obbligatoria - quota di partecipazione 30 €\nLa manifestazione si sv
 olgerà nel pieno rispetto delle normative anticovid e si potrà partecipare
  esclusivamente se in possesso del Green Pass. https://www.prolocopanza.it
 /en/calendario-eventi-archiviati/event/14388-andar-per-sentieri-2021-festa
 -della-vendemmia-alla-tenuta-piromallo
DTSTART:20210930T183000Z
DTEND:20210930T215900Z
LOCATION:Tenuta Piromallo (Località Calitto - Panza - Forio d'Ischia)
SUMMARY:Andar per sentieri 2021 - Festa della vendemmia alla Tenuta Piromal
 lo
URL:https://www.prolocopanza.it/en/calendario-eventi-archiviati/event/14388
 -andar-per-sentieri-2021-festa-della-vendemmia-alla-tenuta-piromallo
END:VEVENT
END:VCALENDAR
