BEGIN:VCALENDAR
VERSION:2.0
PRODID:-//https://www.prolocopanza.it///NONSGML kigkonsult.se iCalcreator 2.10.15//
METHOD:PUBLISH
BEGIN:VEVENT
UID:20260421T221836CEST-2076EkuvTI@https://www.prolocopanza.it/
DTSTAMP:20260421T201836Z
DESCRIPTION:Partenza dalla Pro Loco Panza\nPercorso alla scoperta delle chi
 ese di uno dei comuni montani dell'isola. Partendo dalla Pro Loco Panza si
  raggiungerà la frazione di Serrara con la visita alla chiesa della Madonn
 a del Carmine e l'immancabile affaccio al caratteristico belvedere. Ci si 
 sposterà nella frazione di Fontana per visitare la chiesa di Sant'Antonio 
 Abate e la Madonna della Mercede\, una delle chiese più antiche dell'isola
 . Il percorso terminerà con la degustazione del tradizionale baccalà nella
  piazza San Leonardo a Panza in occasione dell'evento 'Baccalando a Natale
 '.\nPrenotazione obbligatoria - quota di partecipazione 20 €\nLa manifesta
 zione si svolgerà nel pieno rispetto delle normative anticovid e si potrà 
 partecipare esclusivamente se in possesso del Green Pass. https://www.prol
 ocopanza.it/en/calendario-eventi-archiviati/event/14419-percorso-serrara-f
 ontana-le-chiese-tra-le-montagne
DTSTART:20211231T090000Z
DTEND:20211231T120000Z
LOCATION:Pro Loco Panza Ischia (Via Cavaliere Leonardo Impagliazzo\, 144\, 
 80075 Forio NA\, Italia)
SUMMARY:Percorso Serrara-Fontana: le chiese tra le montagne
URL:https://www.prolocopanza.it/en/calendario-eventi-archiviati/event/14419
 -percorso-serrara-fontana-le-chiese-tra-le-montagne
END:VEVENT
BEGIN:VEVENT
UID:20260421T221836CEST-2081UsvSvB@https://www.prolocopanza.it/
DTSTAMP:20260421T201836Z
DESCRIPTION:Inizio escursione dal Campo Sportivo di Panza\, nel Comune di F
 orio\, per poi proseguire su via Montecorvo fino ad arrivare nella zona de
 tta Pietra Brox.Percorreremo un’antica strada in salita utilizzata in pass
 ato dai contadini immersa tra campi coltivati e vigneti abbandonati salend
 o gradoni scolpiti nella roccia. Alla scoperta di antiche cantine con palm
 ento e cisterne di acqua piovana scavati nel tufo arriveremo fin sopra la 
 fumarola della Bocca di Tifeo\, che porta memoria della mitologia greca ch
 e narra di un ciclope intrappolato sotto l’isola e che tramite questa fa s
 entire il suo respiro.Riprendendo il cammino prenderemo una deviazione che
  tra lecci\, rovi\, aglio selvatico e rucola ci porta in una piazzola\, do
 ve con una meravigliosa vista sulla baia di Citaraavremo alle nostre spall
 e le suggestive fumarole di DonnaRachele.Tramite la carrabile di via Monte
 corvo faremo ritorno al punto di inizio escursione.\nDETTAGLI TECNICI- Lun
 ghezza percorso: 3\,0 km- Tempo di percorrenza: 4\,5 h circa (pausa pranzo
  inclusa)- Difficoltà: T Facile/Turistico- Punto di partenza e arrivo: Cam
 po sportivo di Panza - Luogo di incontro: Sede Pro Loco - Piazza san Leona
 rdo\, Panza\, Forio\nEQUIPAGGIAMENTO- Scarpe tecniche da trekking- Abbigli
 amento comodo a strati - Giacca a vento/kway- Cappello/occhiali da sole - 
 Almeno 1\,5 litri d'acqua- Indumenti di ricambio da portare con sè (consig
 liati)- Mascherina (obbligatoria)\nPrenotazione obbligatoria - Quota di pa
 rtecipazione 20 €\nLa manifestazione si svolgerà nel pieno rispetto delle 
 normative anticovid e si potrà partecipare esclusivamente se in possesso d
 el Green Pass. https://www.prolocopanza.it/en/calendario-eventi-archiviati
 /event/14426-il-sentiero-della-bocca-di-tifeo
DTSTART:20211231T083000Z
DTEND:20211231T133000Z
LOCATION:Pro Loco Panza Ischia (Via Cavaliere Leonardo Impagliazzo\, 144\, 
 80075 Forio NA\, Italia)
SUMMARY:Il sentiero della Bocca di Tifeo
URL:https://www.prolocopanza.it/en/calendario-eventi-archiviati/event/14426
 -il-sentiero-della-bocca-di-tifeo
END:VEVENT
BEGIN:VEVENT
UID:20260421T221836CEST-2087LWtSVj@https://www.prolocopanza.it/
DTSTAMP:20260421T201836Z
DESCRIPTION:Le cantine del percorso Epomeo:\n1. A CANTIN LU SCULTORIndirizz
 o: Via Casa Mattera\, 25 - FontanaContatti: 3337663548Poco distante dalla 
 piazza di Fontana\, si trova la cantina di Nicola Gioba. Cantina risalente
  al 1930 interamente costruita in pietra di tufo da Nicolino 'a Panella.Or
 a rielaborata da Nicola Gioba\, maestro scultore della pietra\, che attrav
 erso le sue opere ha voluto immortalare alcuni momenti significativi della
  vendemmia. Ma potrete ammirare anche altre sculture che arricchiscono 'la
  cantina' e che la rendono unica.\n2. CANTINA NONNO MICHELE DI TONYVia Pen
 dio Oscuro - Serrara FontanaTel. 081 999570 - Mob. 3294410962La cantina di
  nonno Michele scavata nel 1908 nelle rocce di tufo ed utilizzata fino a 3
 0 anni fa per la conservazione del vino e delle botti. Caratteristica part
 icolare della cantina\, ancora oggi visibile\, è la pietra sudaria\, da cu
 i sgorga acqua. La tradizione familiare\, oggi\, viene portata avanti dal 
 nipote Antonio Galano che l’ha resa uno speciale luogo di ritrovo dove tur
 isti ed isolani.\n3. CANTINA RAUSTELLAIndirizzo: Via Lorenzo Fiore\, - Ser
 rara FontanaContatti: 3478128485Alle pendici del monte Epomeo\, in grotte 
 scavate\, in grotte scavate nella montagna dagli antichi ischitani\, saggi
  contadini continuano a produrre il vino con i sistemi dei padri. Tra ques
 ti\, Francesco Mattera detto Raustella\, nella sua cantina in Serrara\, al
 la veneranda eta’ di 90 anni continua a produrre il meraviglioso nettare d
 egli dei. Completamente restaurata da Giuseppe Mattera oggi scrigno delle 
 antiche tradizioni vitivinicole...\nTutti i percorsi partono dalla sede de
 lla Pro loco in piazza San Leonardo\, Panza alle ore 10.00Prenotazione obb
 ligatoria esclusivamente con green pass.Le escursioni comprendono: servizi
 o navetta – guida – degustazione vini e prodotti tipici della tradizione n
 atalizia I percorsi possono subire variazioni e modifiche in base alle pre
 notazioni e alla disponibilità delle cantine.\nLa manifestazione si svolge
 rà nel pieno rispetto delle normative anticovid e si potrà partecipare esc
 lusivamente se in possesso del Green Pass.\nSarà possibile prenotare i per
 corsi anche di pomeriggio con partenza alle 15.00 solo ed esclusivamente p
 er gruppi con un minimo di 15 persone.  https://www.prolocopanza.it/en/cal
 endario-eventi-archiviati/event/14436-cantinando-a-natale-viii-edizione-pe
 rcorso-epomeo
DTSTART:20211231T090000Z
DTEND:20211231T130000Z
LOCATION:Pro Loco Panza Ischia (Via Cavaliere Leonardo Impagliazzo\, 144\, 
 80075 Forio NA\, Italia)
SUMMARY:Cantinando a Natale - VIII Edizione - Percorso Epomeo
URL:https://www.prolocopanza.it/en/calendario-eventi-archiviati/event/14436
 -cantinando-a-natale-viii-edizione-percorso-epomeo
END:VEVENT
BEGIN:VEVENT
UID:20260421T221836CEST-2093v9XLXb@https://www.prolocopanza.it/
DTSTAMP:20260421T201836Z
DESCRIPTION:Le cantine del percorso Epomeo:\n1. A CANTIN LU SCULTORIndirizz
 o: Via Casa Mattera\, 25 - FontanaContatti: 3337663548Poco distante dalla 
 piazza di Fontana\, si trova la cantina di Nicola Gioba. Cantina risalente
  al 1930 interamente costruita in pietra di tufo da Nicolino 'a Panella.Or
 a rielaborata da Nicola Gioba\, maestro scultore della pietra\, che attrav
 erso le sue opere ha voluto immortalare alcuni momenti significativi della
  vendemmia. Ma potrete ammirare anche altre sculture che arricchiscono 'la
  cantina' e che la rendono unica.\n2. CANTINA NONNO MICHELE DI TONYVia Pen
 dio Oscuro - Serrara FontanaTel. 081 999570 - Mob. 3294410962La cantina di
  nonno Michele scavata nel 1908 nelle rocce di tufo ed utilizzata fino a 3
 0 anni fa per la conservazione del vino e delle botti. Caratteristica part
 icolare della cantina\, ancora oggi visibile\, è la pietra sudaria\, da cu
 i sgorga acqua. La tradizione familiare\, oggi\, viene portata avanti dal 
 nipote Antonio Galano che l’ha resa uno speciale luogo di ritrovo dove tur
 isti ed isolani.\n3. CANTINA RAUSTELLAIndirizzo: Via Lorenzo Fiore\, - Ser
 rara FontanaContatti: 3478128485Alle pendici del monte Epomeo\, in grotte 
 scavate\, in grotte scavate nella montagna dagli antichi ischitani\, saggi
  contadini continuano a produrre il vino con i sistemi dei padri. Tra ques
 ti\, Francesco Mattera detto Raustella\, nella sua cantina in Serrara\, al
 la veneranda eta’ di 90 anni continua a produrre il meraviglioso nettare d
 egli dei. Completamente restaurata da Giuseppe Mattera oggi scrigno delle 
 antiche tradizioni vitivinicole...\nTutti i percorsi partono dalla sede de
 lla Pro loco in piazza San Leonardo\, Panza alle ore 10.00Prenotazione obb
 ligatoria esclusivamente con green pass.Le escursioni comprendono: servizi
 o navetta – guida – degustazione vini e prodotti tipici della tradizione n
 atalizia I percorsi possono subire variazioni e modifiche in base alle pre
 notazioni e alla disponibilità delle cantine.\nLa manifestazione si svolge
 rà nel pieno rispetto delle normative anticovid e si potrà partecipare esc
 lusivamente se in possesso del Green Pass.\nLo svolgimento dell'escursione
  è subordinato al raggiungimento minimo di 15 persone. https://www.proloco
 panza.it/en/calendario-eventi-archiviati/event/14448-cantinando-a-natale-v
 iii-edizione-percorso-epomeo-pomeriggio
DTSTART:20211231T140000Z
DTEND:20211231T180000Z
LOCATION:Pro Loco Panza Ischia (Via Cavaliere Leonardo Impagliazzo\, 144\, 
 80075 Forio NA\, Italia)
SUMMARY:Cantinando a Natale - VIII Edizione - Percorso Epomeo (pomeriggio)
URL:https://www.prolocopanza.it/en/calendario-eventi-archiviati/event/14448
 -cantinando-a-natale-viii-edizione-percorso-epomeo-pomeriggio
END:VEVENT
BEGIN:VEVENT
UID:20260421T221836CEST-2100jGAvUa@https://www.prolocopanza.it/
DTSTAMP:20260421T201836Z
DESCRIPTION:Le cantine del percorso Epomeo:\n1. CANTINA SCARDECCHIAVia Succ
 hivo - Serrara FontanaTel. 081 909062Cantina storica del paese\, passata d
 i generazione in generazione per tre secoli tra le mani sapienti della fam
 iglia Iacono. Attualmente si producono vino bianco\, rosso\, spumante mist
 o e Sorriso.\n2. ANTICA FATTORIA GRECAVia Sorgeto\, 51 - ForioTel: 081 908
 102 - 081 909277www.puntachiarito.it - info@puntachiarito.itL’azienda si c
 ontraddistingue per la produzione di vini speciali locali come Ischia Bian
 co e Ischia Rosso. Presso la struttura è possibile degustare i vini\, visi
 tare il vigneto. La produzione si basa sulla più genuina tradizione contad
 ina ischitana.\n3. CANTINA PASSARIELLOForio - Via Tironi 29\,cell.: 335 63
 41297La cantina si trova in località Tironi ed è di proprietà della famigl
 ia Russo dal 1956. Costruita interamente in tufo verde nel lontano 1873\, 
 era adibita per la produzione e la vendita di vino locale. Rappresenta sic
 uramente una delle cantine più antiche di Forio ed è perfettamente funzion
 ante.\nTutti i percorsi partono dalla sede della Pro loco in piazza San Le
 onardo\, Panza alle ore 10.00Prenotazione obbligatoria esclusivamente con 
 green pass.Le escursioni comprendono: servizio navetta – guida – degustazi
 one vini e prodotti tipici della tradizione natalizia I percorsi possono s
 ubire variazioni e modifiche in base alle prenotazioni e alla disponibilit
 à delle cantine.\nLa manifestazione si svolgerà nel pieno rispetto delle n
 ormative anticovid e si potrà partecipare esclusivamente se in possesso de
 l Green Pass.\nLo svolgimento dell'escursione è subordinato al raggiungime
 nto minimo di 15 persone. https://www.prolocopanza.it/en/calendario-eventi
 -archiviati/event/14454-cantinando-a-natale-viii-edizione-percorso-biancol
 ella-pomeriggio
DTSTART:20211231T140000Z
DTEND:20211231T180000Z
LOCATION:Pro Loco Panza Ischia (Via Cavaliere Leonardo Impagliazzo\, 144\, 
 80075 Forio NA\, Italia)
SUMMARY:Cantinando a Natale - VIII Edizione - Percorso Biancolella (pomerig
 gio)
URL:https://www.prolocopanza.it/en/calendario-eventi-archiviati/event/14454
 -cantinando-a-natale-viii-edizione-percorso-biancolella-pomeriggio
END:VEVENT
END:VCALENDAR
