BEGIN:VCALENDAR
VERSION:2.0
PRODID:-//https://www.prolocopanza.it///NONSGML kigkonsult.se iCalcreator 2.10.15//
METHOD:PUBLISH
BEGIN:VEVENT
UID:20260421T234101CEST-8857wFTLGv@https://www.prolocopanza.it/
DTSTAMP:20260421T214101Z
DESCRIPTION:Partenza dalla Pro Loco Panza\nTre borghi diversi uniti nella f
 ede. Partendo dalla sede della Pro Loco Panza\, il percorso ci condurrà al
 la Parrocchia di San Leonardo\, patrono del luogo\, dove la fede si intrec
 cia con storie di briganti e famiglie reali. Si proseguirà alla volta dell
 a Congrega dell'Annunziata. Da qui il percorso lascerà il borgo di Panza p
 er raggiungere il Ciglio e visitare la chiesa di San Ciro\, Santuario cost
 ruito interamente in tufo verde e custode di una fonte di acqua miracolosa
 . Seguirà dunque la visita al caratteristico borgo di Succhivo con la chie
 sa di Santa Maria di Montevergine\, arricchita con l'itinerario presepisti
 co realizzato a cura dell'Associazione Gertrud Streicher di Succhivo. Il p
 ercorso si concluderà con la degustazione nella cantina Scardecchia.\nPren
 otazione obbligatoria - quota di partecipazione 20 €\nLa manifestazione si
  svolgerà nel pieno rispetto delle normative anticovid e si potrà partecip
 are esclusivamente se in possesso del Green Pass. https://www.prolocopanza
 .it/en/calendario-eventi-archiviati/event/14417-percorso-panza-ciglio-succ
 hivo-i-borghi-della-fede
DTSTART:20211230T140000Z
DTEND:20211230T170000Z
LOCATION:Pro Loco Panza Ischia (Via Cavaliere Leonardo Impagliazzo\, 144\, 
 80075 Forio NA\, Italia)
SUMMARY:Percorso Panza - Ciglio - Succhivo: i borghi della fede
URL:https://www.prolocopanza.it/en/calendario-eventi-archiviati/event/14417
 -percorso-panza-ciglio-succhivo-i-borghi-della-fede
END:VEVENT
BEGIN:VEVENT
UID:20260421T234101CEST-8861ULhlJM@https://www.prolocopanza.it/
DTSTAMP:20260421T214101Z
DESCRIPTION:Partendo dalla piazza di Panza\, nel comune di Forio\, andremo 
 in direzione dei sentieri del monte di Panza e della baia della Pelara.Il 
 monte di Panza è un promontorio a picco sul versante sud/ovest dell’isola 
 e che offrendoci l’illusione di essere sulla prua di una nave ci permette 
 di scorgere un panorama unico sul borgo di Sant’Angelo\, l’isola di Capri 
 e le baie di Sorgeto e della Pelara. Percorrendo poi\, un fitto boschetto 
 di lecci ed eriche ed un tratto di radura caratterizzata da un manto di fe
 lci\, raggiungeremol’importante geosito di carattere vulcanico dellaPelara
 \, dove attraverso dei gradoni scavati nella roccia arriveremo al livello 
 del mare. Percorrendo a ritroso il sentiero\, ci dirigeremo verso la baia 
 di Sorgeto: dove avremo la possibilità (meteo permettendo) di godere di un
  bagno nelle piscine naturali di acqua calda termale. Al termine\, ci diri
 geremo nella vicina “Antica Fattoria Greca di Punta Chiarito” per una degu
 stazione di prodotti tipici\, dall’alto della baia di Sorgeto.\nDETTAGLI T
 ECNICI- Lunghezza percorso: 5\,0 km- Tempo di percorrenza: 4\,5 h circa (p
 ausa pranzo inclusa)- Difficoltà: T Facile/Turistico- Punto di partenza e 
 arrivo: Sede Pro Loco - Piazza san Leonardo\, Panza\, Forio- Luogo di inco
 ntro: Sede Pro Loco - Piazza san Leonardo\, Panza\, Forio\nEQUIPAGGIAMENTO
 - Scarpe tecniche da trekking- Abbigliamento comodo a strati - Giacca a ve
 nto/kway- Cappello/occhiali da sole - Almeno 1\,5 litri d'acqua- Indumenti
  di ricambio da portare con sè (consigliati)- Mascherina (obbligatoria)- C
 ostume da bagno + telo\nPrenotazione obbligatoria - Quota di partecipazion
 e 20 €\nLa manifestazione si svolgerà nel pieno rispetto delle normative a
 nticovid e si potrà partecipare esclusivamente se in possesso del Green Pa
 ss. https://www.prolocopanza.it/en/calendario-eventi-archiviati/event/1442
 5-il-sentiero-delle-due-baie
DTSTART:20211230T083000Z
DTEND:20211230T133000Z
LOCATION:Pro Loco Panza Ischia (Via Cavaliere Leonardo Impagliazzo\, 144\, 
 80075 Forio NA\, Italia)
SUMMARY:Il sentiero delle due baie
URL:https://www.prolocopanza.it/en/calendario-eventi-archiviati/event/14425
 -il-sentiero-delle-due-baie
END:VEVENT
BEGIN:VEVENT
UID:20260421T234101CEST-8866tB6VuG@https://www.prolocopanza.it/
DTSTAMP:20260421T214101Z
DESCRIPTION:Le cantine del percorso Epomeo:\n1. A CANTIN LU SCULTORIndirizz
 o: Via Casa Mattera\, 25 - FontanaContatti: 3337663548Poco distante dalla 
 piazza di Fontana\, si trova la cantina di Nicola Gioba. Cantina risalente
  al 1930 interamente costruita in pietra di tufo da Nicolino 'a Panella.Or
 a rielaborata da Nicola Gioba\, maestro scultore della pietra\, che attrav
 erso le sue opere ha voluto immortalare alcuni momenti significativi della
  vendemmia. Ma potrete ammirare anche altre sculture che arricchiscono 'la
  cantina' e che la rendono unica.\n2. CANTINA NONNO MICHELE DI TONYVia Pen
 dio Oscuro - Serrara FontanaTel. 081 999570 - Mob. 3294410962La cantina di
  nonno Michele scavata nel 1908 nelle rocce di tufo ed utilizzata fino a 3
 0 anni fa per la conservazione del vino e delle botti. Caratteristica part
 icolare della cantina\, ancora oggi visibile\, è la pietra sudaria\, da cu
 i sgorga acqua. La tradizione familiare\, oggi\, viene portata avanti dal 
 nipote Antonio Galano che l’ha resa uno speciale luogo di ritrovo dove tur
 isti ed isolani.\n3. CANTINA RAUSTELLAIndirizzo: Via Lorenzo Fiore\, - Ser
 rara FontanaContatti: 3478128485Alle pendici del monte Epomeo\, in grotte 
 scavate\, in grotte scavate nella montagna dagli antichi ischitani\, saggi
  contadini continuano a produrre il vino con i sistemi dei padri. Tra ques
 ti\, Francesco Mattera detto Raustella\, nella sua cantina in Serrara\, al
 la veneranda eta’ di 90 anni continua a produrre il meraviglioso nettare d
 egli dei. Completamente restaurata da Giuseppe Mattera oggi scrigno delle 
 antiche tradizioni vitivinicole...\nTutti i percorsi partono dalla sede de
 lla Pro loco in piazza San Leonardo\, Panza alle ore 10.00Prenotazione obb
 ligatoria esclusivamente con green pass.Le escursioni comprendono: servizi
 o navetta – guida – degustazione vini e prodotti tipici della tradizione n
 atalizia I percorsi possono subire variazioni e modifiche in base alle pre
 notazioni e alla disponibilità delle cantine.\nLa manifestazione si svolge
 rà nel pieno rispetto delle normative anticovid e si potrà partecipare esc
 lusivamente se in possesso del Green Pass.\nSarà possibile prenotare i per
 corsi anche di pomeriggio con partenza alle 15.00 solo ed esclusivamente p
 er gruppi con un minimo di 15 persone.  https://www.prolocopanza.it/en/cal
 endario-eventi-archiviati/event/14435-cantinando-a-natale-viii-edizione-pe
 rcorso-epomeo
DTSTART:20211230T090000Z
DTEND:20211230T130000Z
LOCATION:Pro Loco Panza Ischia (Via Cavaliere Leonardo Impagliazzo\, 144\, 
 80075 Forio NA\, Italia)
SUMMARY:Cantinando a Natale - VIII Edizione - Percorso Epomeo
URL:https://www.prolocopanza.it/en/calendario-eventi-archiviati/event/14435
 -cantinando-a-natale-viii-edizione-percorso-epomeo
END:VEVENT
BEGIN:VEVENT
UID:20260421T234101CEST-8872fo6wlL@https://www.prolocopanza.it/
DTSTAMP:20260421T214101Z
DESCRIPTION:Le cantine del percorso Epomeo:\n1. A CANTIN LU SCULTORIndirizz
 o: Via Casa Mattera\, 25 - FontanaContatti: 3337663548Poco distante dalla 
 piazza di Fontana\, si trova la cantina di Nicola Gioba. Cantina risalente
  al 1930 interamente costruita in pietra di tufo da Nicolino 'a Panella.Or
 a rielaborata da Nicola Gioba\, maestro scultore della pietra\, che attrav
 erso le sue opere ha voluto immortalare alcuni momenti significativi della
  vendemmia. Ma potrete ammirare anche altre sculture che arricchiscono 'la
  cantina' e che la rendono unica.\n2. CANTINA NONNO MICHELE DI TONYVia Pen
 dio Oscuro - Serrara FontanaTel. 081 999570 - Mob. 3294410962La cantina di
  nonno Michele scavata nel 1908 nelle rocce di tufo ed utilizzata fino a 3
 0 anni fa per la conservazione del vino e delle botti. Caratteristica part
 icolare della cantina\, ancora oggi visibile\, è la pietra sudaria\, da cu
 i sgorga acqua. La tradizione familiare\, oggi\, viene portata avanti dal 
 nipote Antonio Galano che l’ha resa uno speciale luogo di ritrovo dove tur
 isti ed isolani.\n3. CANTINA RAUSTELLAIndirizzo: Via Lorenzo Fiore\, - Ser
 rara FontanaContatti: 3478128485Alle pendici del monte Epomeo\, in grotte 
 scavate\, in grotte scavate nella montagna dagli antichi ischitani\, saggi
  contadini continuano a produrre il vino con i sistemi dei padri. Tra ques
 ti\, Francesco Mattera detto Raustella\, nella sua cantina in Serrara\, al
 la veneranda eta’ di 90 anni continua a produrre il meraviglioso nettare d
 egli dei. Completamente restaurata da Giuseppe Mattera oggi scrigno delle 
 antiche tradizioni vitivinicole...\nTutti i percorsi partono dalla sede de
 lla Pro loco in piazza San Leonardo\, Panza alle ore 10.00Prenotazione obb
 ligatoria esclusivamente con green pass.Le escursioni comprendono: servizi
 o navetta – guida – degustazione vini e prodotti tipici della tradizione n
 atalizia I percorsi possono subire variazioni e modifiche in base alle pre
 notazioni e alla disponibilità delle cantine.\nLa manifestazione si svolge
 rà nel pieno rispetto delle normative anticovid e si potrà partecipare esc
 lusivamente se in possesso del Green Pass.\nLo svolgimento dell'escursione
  è subordinato al raggiungimento minimo di 15 persone. https://www.proloco
 panza.it/en/calendario-eventi-archiviati/event/14447-cantinando-a-natale-v
 iii-edizione-percorso-epomeo-pomeriggio
DTSTART:20211230T140000Z
DTEND:20211230T180000Z
LOCATION:Pro Loco Panza Ischia (Via Cavaliere Leonardo Impagliazzo\, 144\, 
 80075 Forio NA\, Italia)
SUMMARY:Cantinando a Natale - VIII Edizione - Percorso Epomeo (pomeriggio)
URL:https://www.prolocopanza.it/en/calendario-eventi-archiviati/event/14447
 -cantinando-a-natale-viii-edizione-percorso-epomeo-pomeriggio
END:VEVENT
BEGIN:VEVENT
UID:20260421T234101CEST-8878gtSKVZ@https://www.prolocopanza.it/
DTSTAMP:20260421T214101Z
DESCRIPTION:Le cantine del percorso Epomeo:\n1. CANTINA SCARDECCHIAVia Succ
 hivo - Serrara FontanaTel. 081 909062Cantina storica del paese\, passata d
 i generazione in generazione per tre secoli tra le mani sapienti della fam
 iglia Iacono. Attualmente si producono vino bianco\, rosso\, spumante mist
 o e Sorriso.\n2. ANTICA FATTORIA GRECAVia Sorgeto\, 51 - ForioTel: 081 908
 102 - 081 909277www.puntachiarito.it - info@puntachiarito.itL’azienda si c
 ontraddistingue per la produzione di vini speciali locali come Ischia Bian
 co e Ischia Rosso. Presso la struttura è possibile degustare i vini\, visi
 tare il vigneto. La produzione si basa sulla più genuina tradizione contad
 ina ischitana.\n3. CANTINA PASSARIELLOForio - Via Tironi 29\,cell.: 335 63
 41297La cantina si trova in località Tironi ed è di proprietà della famigl
 ia Russo dal 1956. Costruita interamente in tufo verde nel lontano 1873\, 
 era adibita per la produzione e la vendita di vino locale. Rappresenta sic
 uramente una delle cantine più antiche di Forio ed è perfettamente funzion
 ante.\nTutti i percorsi partono dalla sede della Pro loco in piazza San Le
 onardo\, Panza alle ore 10.00Prenotazione obbligatoria esclusivamente con 
 green pass.Le escursioni comprendono: servizio navetta – guida – degustazi
 one vini e prodotti tipici della tradizione natalizia I percorsi possono s
 ubire variazioni e modifiche in base alle prenotazioni e alla disponibilit
 à delle cantine.\nLa manifestazione si svolgerà nel pieno rispetto delle n
 ormative anticovid e si potrà partecipare esclusivamente se in possesso de
 l Green Pass.\nLo svolgimento dell'escursione è subordinato al raggiungime
 nto minimo di 15 persone. https://www.prolocopanza.it/en/calendario-eventi
 -archiviati/event/14453-cantinando-a-natale-viii-edizione-percorso-biancol
 ella-pomeriggio
DTSTART:20211230T140000Z
DTEND:20211230T180000Z
LOCATION:Pro Loco Panza Ischia (Via Cavaliere Leonardo Impagliazzo\, 144\, 
 80075 Forio NA\, Italia)
SUMMARY:Cantinando a Natale - VIII Edizione - Percorso Biancolella (pomerig
 gio)
URL:https://www.prolocopanza.it/en/calendario-eventi-archiviati/event/14453
 -cantinando-a-natale-viii-edizione-percorso-biancolella-pomeriggio
END:VEVENT
END:VCALENDAR
