BEGIN:VCALENDAR
VERSION:2.0
PRODID:-//https://www.prolocopanza.it///NONSGML kigkonsult.se iCalcreator 2.10.15//
METHOD:PUBLISH
BEGIN:VEVENT
UID:20260419T195813CEST-02937P7wgl@https://www.prolocopanza.it/
DTSTAMP:20260419T175813Z
DESCRIPTION:'Sono morto ma non troppo' - Commedia teatrale in due atti a cu
 ra della compagnia teatrale San Leonardo\nAppuntamento alle ore 20:00 pres
 so l'Auditorium delle scuole medie Don Vincenzo Avallone https://www.prolo
 copanza.it/en/calendario-eventi-archiviati/event/15040-sono-morto-ma-non-t
 roppo
DTSTART:20251219T190000Z
DTEND:20251219T213000Z
LOCATION:Auditorium scuole medie Don Vincenzo Avallone (Via Parroco Leonard
 o D'Abundo\, 80075\, Forio\, Napoli)
SUMMARY:Sono morto ma non troppo
URL:https://www.prolocopanza.it/en/calendario-eventi-archiviati/event/15040
 -sono-morto-ma-non-troppo
END:VEVENT
END:VCALENDAR
