BEGIN:VCALENDAR
VERSION:2.0
PRODID:-//https://www.prolocopanza.it///NONSGML kigkonsult.se iCalcreator 2.10.15//
METHOD:PUBLISH
BEGIN:VEVENT
UID:20260421T052448CEST-6572uvRasu@https://www.prolocopanza.it/
DTSTAMP:20260421T032448Z
DESCRIPTION:Le cantine del percorso Biancolella:\nCANTINA SCARDECCHIASerrar
 a Fontana - Via Succhivo - Tel. +39 081 909062Cantina storica del paese\, 
 tramandata per tre secoli da una generazione all’altra della famiglia Iaco
 no. Attualmente si producono vino bianco\, rosso\, spumante misto e Sorris
 o\nANTICA FATTORIA GRECAForio - Via Sorgeto\, 51 Tel: +39 081908102 081194
 65224L’azienda si contraddistingue per la produzione di vini speciali loca
 li come Ischia Bianco e Ischia Rosso. Presso la struttura è possibile degu
 stare i vini\, visitare il vigneto. La produzione si basa sulla più genuin
 a tradizione contadina ischitana.\nTENUTA GIOSUÉ COLELLAForio - Via S.Gius
 eppe 24 - Tel. +39 328 068 1061L’azienda agricola Colella vi accoglierà tr
 a il verde dei vigneti delle colline foriane. Visiterete l’antica cantina 
 scavata a mano in un unico blocco di tufo verde dai nostri avi. Degusteret
 e vini di nicchia e assaporerete le nostre specialità\, prodotte secondo a
 ntiche ricette di famiglia\, rimaste invariate da generazioni...\nQuota di
  partecipazione 35\,00€ a persona https://www.prolocopanza.it/en/calendari
 o-eventi-archiviati/event/14606-andar-per-cantine-2023-percorso-biancolell
 a
DTSTART:20231001T080000Z
DTEND:20231001T120000Z
LOCATION:Piazza San Leonardo  (Via Cavaliere Leonardo Impagliazzo\, 65\, 80
 075 Forio NA\, Italia)
SUMMARY:Andar per cantine 2023: Percorso Biancolella
URL:https://www.prolocopanza.it/en/calendario-eventi-archiviati/event/14606
 -andar-per-cantine-2023-percorso-biancolella
END:VEVENT
BEGIN:VEVENT
UID:20260421T052448CEST-6579IlzVDB@https://www.prolocopanza.it/
DTSTAMP:20260421T032448Z
DESCRIPTION:Le cantine del percorso San Lunardo:\nCANTINA PELLICCIONEBarano
  - Via San Pietro Tel. +39 349 578 0618In località San Pietro\, la cantina
  Pelliccione è riferimento di convivialità del borgo di Buonopane. Fermars
 i a bere un buon bicchiere di vino\, nella frescura all’interno delle gran
 di grotte scavate nel tufo\, è un rito collettivo al quale si aggregano co
 n piacere i forestieri. Il microclima delle grotte conserva alla perfezion
 e il vino e gli altri prodotti tipici.\nAZIENDA AGRICOLA FILIPPO FLORIOBar
 ano - Via Ritola\, 6 Tel: . +39 347.9333701Impegnata nella viticoltura da 
 cinque generazioni\, la famiglia Florio produce vino con lieviti Biancolel
 la docg. Vanto dell’Azienda sono l’Epomeo Rosso e il Bianco Igp. Affinati 
 nell’antica cantina scavata nel tufo.\nAGRITURISMO GIASOLEBarano - Via Can
 diano 31/A - Tel. +39 347 674 7979L’azienda agrituristica Giasole grazie a
 ll’esposizione ideale dei suoi terreni\, vanta una grande varietà di frutt
 i e verdure in ogni stagione. Oltre alla produzione di vino\, che è tratto
  distintivo dell’Azienda. La trasformazione dei prodotti dell’orto di casa
 \, rigorosamente bio\, nei piatti tipici isolani ci permette di farli appr
 ezzare a tutti i nostri visitatori.\nQuota di partecipazione 35\,00€ a per
 sona https://www.prolocopanza.it/en/calendario-eventi-archiviati/event/146
 26-andar-per-cantine-2023-percorso-san-lunardo
DTSTART:20231001T130000Z
DTEND:20231001T160000Z
LOCATION:Piazza San Leonardo  (Via Cavaliere Leonardo Impagliazzo\, 65\, 80
 075 Forio NA\, Italia)
SUMMARY:Andar per cantine 2023: Percorso San Lunardo
URL:https://www.prolocopanza.it/en/calendario-eventi-archiviati/event/14626
 -andar-per-cantine-2023-percorso-san-lunardo
END:VEVENT
BEGIN:VEVENT
UID:20260421T052448CEST-6585X1UfBU@https://www.prolocopanza.it/
DTSTAMP:20260421T032448Z
DESCRIPTION:\nLe cantine del percorso Frassitelli:\n\n&nbsp\;\nA ‘CANTIN E 
 CIR’Antico Borgo di Noia - Serrara FontanaTel. 081 999477Anticamente era u
 na grotta la quale serviva da rifugio alle varie incursioni di pirati. La 
 famiglia Iacono la acquistò insieme al vigneto all’inizio del ‘900. Essend
 o una famiglia di contadini\, il signor Ciro Iacono\, dopo il ’30\, la tra
 sformò in cantina ampliandola e rendendola un locale funzionale per la pro
 duzione e la conservazione del vino.\n&nbsp\;\nCANTINA 'U SCILATUROVia Ang
 elo Migliaccio\, 151 Tel. 3426226910La cantina della famiglia Di Costanzo 
 si trova sulla parte alta di Barano\, in località Toccaneto. Centocinquant
 a anni di tradizione racchiusi in un piccolo tempio del vino sapientemente
  restaurato\, in cui è possibile ammirare le antiche pietre e i vecchi pal
 menti\, protagonisti di storiche vendemmie. L’azienda agricola\, a conduzi
 one famigliare\, produce un vino dal sapore&nbsp\; tipicamente ischitano.
 \n&nbsp\;\nCANTINA RAUSTELLAVia Lorenzo Fiore - Serrara FontanaCell. 34781
 28485Alle pendici del monte Epomeo\, in grotte scavate\, in grotte scavate
  nella montagna dagli antichi ischitani\, saggi contadini continuano a pro
 durre il vino con i sistemi dei padri. Tra questi\, Francesco Mattera dett
 o Raustella\, nella sua cantina in Serrara\, alla veneranda eta’ di 90 ann
 i continua a produrre il meraviglioso nettare degli dei. Completamente res
 taurata da Giuseppe Mattera oggi scrigno delle antiche tradizioni vitivini
 cole...\nQuota di partecipazione 35\,00€ a persona https://www.prolocopanz
 a.it/en/calendario-eventi-archiviati/event/14637-andar-per-cantine-2023-pe
 rcorso-frassitelli
DTSTART:20231001T130000Z
DTEND:20231001T160000Z
LOCATION:Pro Loco Panza Ischia (Via Cavaliere Leonardo Impagliazzo\, 144\, 
 80075 Forio NA\, Italia)
SUMMARY:Andar per cantine 2023: Percorso Frassitelli
URL:https://www.prolocopanza.it/en/calendario-eventi-archiviati/event/14637
 -andar-per-cantine-2023-percorso-frassitelli
END:VEVENT
BEGIN:VEVENT
UID:20260421T052448CEST-6594sV1fNg@https://www.prolocopanza.it/
DTSTAMP:20260421T032448Z
DESCRIPTION:Le cantine del percorso Piedirosso:\nCANTINA SCARDECCHIAVia Suc
 chivo - Serrara FontanaTel. 081 909062Cantina storica del paese\, passata 
 di generazione in generazione per tre secoli tra le mani sapienti della fa
 miglia Iacono. Attualmente si producono vino bianco\, rosso\, spumante mis
 to e Sorriso.\nCANTINA PASSARIELLOVia Tironi\, 29 *- ForioCell. 335 634129
 7La cantina si trova in località Tironi ed è di proprietà della famiglia R
 usso dal 1956. Costruita interamente in tufo verde nel lontano 1873\, era 
 adibita per la produzione e la vendita di vino locale. Rappresenta sicuram
 ente una delle cantine più antiche di Forio ed è perfettamente funzionante
 .\nCANTINE PIETRATORCIAVia Provinciale Panza\, 267 - ForioTel. 081 908206/
 081 907232 Fax: 081 908949www.pietratorcia.it - info@pietratorcia.itLe can
 tine di Pietratorcia sono state create da tre antiche famiglie contadine i
 schitane Iacono\, Regine e Verde. Oltre sette ettari di terreno sono stati
  ripiantati con vitigni selezionati.\nQuota di partecipazione 35\,00€ a pe
 rsona https://www.prolocopanza.it/en/calendario-eventi-archiviati/event/14
 641-andar-per-cantine-2023-percorso-piedirosso
DTSTART:20231001T130000Z
DTEND:20231001T170000Z
LOCATION:Piazza San Leonardo  (Via Cavaliere Leonardo Impagliazzo\, 65\, 80
 075 Forio NA\, Italia)
SUMMARY:Andar per cantine 2023: Percorso Piedirosso
URL:https://www.prolocopanza.it/en/calendario-eventi-archiviati/event/14641
 -andar-per-cantine-2023-percorso-piedirosso
END:VEVENT
BEGIN:VEVENT
UID:20260421T052448CEST-6599RNEjZD@https://www.prolocopanza.it/
DTSTAMP:20260421T032448Z
DESCRIPTION:Le cantine del percorso Epomeo:\nCANTINA RAUSTELLAVia Lorenzo F
 iore - Serrara FontanaCell. 3478128485Alle pendici del monte Epomeo\, in g
 rotte scavate\, in grotte scavate nella montagna dagli antichi ischitani\,
  saggi contadini continuano a produrre il vino con i sistemi dei padri. Tr
 a questi\, Francesco Mattera detto Raustella\, nella sua cantina in Serrar
 a\, alla veneranda eta’ di 90 anni continua a produrre il meraviglioso net
 tare degli dei. Completamente restaurata da Giuseppe Mattera oggi scrigno 
 delle antiche tradizioni vitivinicole...\nA‘ CANTIN E CIR’Antico Borgo di 
 Noia - Serrara FontanaTel. 081 999477Anticamente era una grotta la quale s
 erviva da rifugio alle varie incursioni di pirati. La famiglia Iacono la a
 cquistò insieme al vigneto all’inizio del ‘900. Essendo una famiglia di co
 ntadini\, il signor Ciro Iacono\, dopo il ’30\, la trasformò in cantina am
 pliandola e rendendola un locale funzionale per la produzione e la conserv
 azione del vino.\nA' CANTIN LU' SCULTOREIndirizzo: Via Casa Mattera\, 25 -
  FontanaContatti: 3337663548Poco distante dalla piazza di Fontana\, si tro
 va la cantina di Nicola Gioba. Cantina risalente al 1930 interamente costr
 uita in pietra di tufo da Nicolino 'a Panella.Ora rielaborata da Nicola Gi
 oba\, maestro scultore della pietra\, che attraverso le sue opere ha volut
 o immortalare alcuni momenti significativi della vendemmia. Ma potrete amm
 irare anche altre sculture che arricchiscono 'la cantina' e che la rendono
  unica.\nQuota di partecipazione 35\,00€ a persona https://www.prolocopanz
 a.it/en/calendario-eventi-archiviati/event/14646-andar-per-cantine-2023-pe
 rcorso-epomeo
DTSTART:20231001T080000Z
DTEND:20231001T120000Z
LOCATION:Piazza San Leonardo  (Via Cavaliere Leonardo Impagliazzo\, 65\, 80
 075 Forio NA\, Italia)
SUMMARY:Andar per cantine 2023: Percorso Epomeo
URL:https://www.prolocopanza.it/en/calendario-eventi-archiviati/event/14646
 -andar-per-cantine-2023-percorso-epomeo
END:VEVENT
BEGIN:VEVENT
UID:20260421T052448CEST-6648WVlo2O@https://www.prolocopanza.it/
DTSTAMP:20260421T032448Z
DESCRIPTION:Percorrendo una salita a gradoni\, scavati tra la tipica roccia
  di Cava Bianca\, costeggeremo le falde del monte Trippodi\, attraversando
  un bosco di castagni e la tipica macchia mediterranea.\nPercorreremo\, po
 i\, il sentiero della costa&nbsp\; Sparaina\, che ci conduce al belvedere 
 della Madonnina di Buttavento. Ripercorrendo il sentiero a ritroso\, si ra
 ggiunge la tenuta bio-agricola del Cannavale\, dove faremo una degustazion
 e di prodotti tipici.\nAl termine\, continueremo la discesa verso il paese
  di Fiaiano.\nAscending a series of steps\, carved into the typical Cava B
 ianca rock\, we will trace along the slopes of Mount Trippodi\, passing th
 rough a chestnut forest and the typical Mediterranean vegetation. Followin
 g that\, we will take the coastal&nbsp\; Sparaina trail leading us to the 
 viewpoint of the Madonnina di Buttavento. Retracing our steps\, we will re
 ach the Cannavale organic farm estate\, where we will partake in a tasting
  of local products. Finally\, we will continue our descent towards the vil
 lage of Fiaiano.\n&nbsp\;INFO- Punto Partenza/Arrivo: (Departure / arrival
  point):Sede Proloco Panza\, Forio- Difficoltà: Facile / Turistica (Diffic
 ulty: Easy)- Durata: 5h – 6 km (soste incluse) Duration: 5h – 6km (stops i
 ncluded)- Visita/Degustazione: (Visit / Tasting): Tenuta del Cannavale- Qu
 ota di partecipazione / Price 45 € https://www.prolocopanza.it/en/calendar
 io-eventi-archiviati/event/14665-andar-per-cantine-2023-il-sentiero-della-
 madonnina-buttavento
DTSTART:20231001T073000Z
DTEND:20231001T123000Z
LOCATION:Pro Loco Panza Ischia (Via Cavaliere Leonardo Impagliazzo\, 144\, 
 80075 Forio NA\, Italia)
SUMMARY:Andar per Cantine 2023: Il sentiero della Madonnina Buttavento
URL:https://www.prolocopanza.it/en/calendario-eventi-archiviati/event/14665
 -andar-per-cantine-2023-il-sentiero-della-madonnina-buttavento
END:VEVENT
BEGIN:VEVENT
UID:20260421T052448CEST-66541ur7zc@https://www.prolocopanza.it/
DTSTAMP:20260421T032448Z
DESCRIPTION:Si rinnova l’antico rito della cena della vendemmia tra i filar
 i della Tenuta Spadara secondo un tradizionale menù elaborato dai nostri c
 hef...Menu anche per celiaci.\nQuota di partecipazione 40\,00 € a persona 
 https://www.prolocopanza.it/en/calendario-eventi-archiviati/event/14682-an
 dar-per-cantine-2023-cena-della-vendemmia-in-vigna
DTSTART:20231001T183000Z
DTEND:20231001T215900Z
LOCATION:Tenuta Villa Spadara (Tenuta Villa Spadara)
SUMMARY:Andar per cantine 2023 - Cena della vendemmia in vigna
URL:https://www.prolocopanza.it/en/calendario-eventi-archiviati/event/14682
 -andar-per-cantine-2023-cena-della-vendemmia-in-vigna
END:VEVENT
BEGIN:VEVENT
UID:20260421T052448CEST-6658N4KtCV@https://www.prolocopanza.it/
DTSTAMP:20260421T032448Z
DESCRIPTION:Veliero La Rondine: imbarcazione di 23 mt del 1924 adibita a tr
 asporto delle botti e poi ristrutturata negli anni 80 e sulla quale sono s
 tati ospiti artisti quali Totò\, Gina Lollobrigida\, Sofia Loren.\nCon il 
 veliero La Rondine alla scoperta dei primi insediamenti sull’ isola di Phi
 tecusae\, passando per il promontorio di montevico e la Baia di San Montan
 o con degustazione di vino e prodotti tipici a bordo.\nPartenza dal porto 
 di Forio alle ore 10.30Percorso guidato con degustazione di vini e prodott
 i tipici a bordo. Prenotazione obbligatoria\, € 55 a persona https://www.p
 rolocopanza.it/en/calendario-eventi-archiviati/event/14683-andar-per-canti
 ne-2023-le-vigne-del-mare-con-il-veliero-la-rondine
DTSTART:20231001T083000Z
DTEND:20231001T143000Z
LOCATION:Forio (Corso Francesco Regine\, 39\, 80075 Forio NA\, Italia)
SUMMARY:Andar per Cantine 2023 -  Le vigne del mare con il veliero La Rondi
 ne
URL:https://www.prolocopanza.it/en/calendario-eventi-archiviati/event/14683
 -andar-per-cantine-2023-le-vigne-del-mare-con-il-veliero-la-rondine
END:VEVENT
BEGIN:VEVENT
UID:20260421T052448CEST-6662CtInWj@https://www.prolocopanza.it/
DTSTAMP:20260421T032448Z
DESCRIPTION:Si rinnova l’antico rito della cena della vendemmia tra i filar
 i della Tenuta Spadara secondo un tradizionale menù elaborato dai nostri c
 hef...Menu anche per celiaci.\nQuota di partecipazione 40\,00 € a persona 
 https://www.prolocopanza.it/en/calendario-eventi-archiviati/event/14732-co
 pia-da-andar-per-cantine-2023-cena-della-vendemmia-in-vigna
DTSTART:20231001T183000Z
DTEND:20231001T215900Z
LOCATION:Tenuta Villa Spadara (Tenuta Villa Spadara)
SUMMARY:Copia da Andar per cantine 2023 - Cena della vendemmia in vigna
URL:https://www.prolocopanza.it/en/calendario-eventi-archiviati/event/14732
 -copia-da-andar-per-cantine-2023-cena-della-vendemmia-in-vigna
END:VEVENT
END:VCALENDAR
