BEGIN:VCALENDAR
VERSION:2.0
PRODID:-//https://www.prolocopanza.it///NONSGML kigkonsult.se iCalcreator 2.10.15//
METHOD:PUBLISH
BEGIN:VEVENT
UID:20260422T181851CEST-29049uAiaU@https://www.prolocopanza.it/
DTSTAMP:20260422T161851Z
DESCRIPTION:Le cantine del percorso Epomeo:\n1. CANTINA SCARDECCHIAVia Succ
 hivo - Serrara FontanaTel. 081 909062Cantina storica del paese\, passata d
 i generazione in generazione per tre secoli tra le mani sapienti della fam
 iglia Iacono. Attualmente si producono vino bianco\, rosso\, spumante mist
 o e Sorriso.\n2. ANTICA FATTORIA GRECAVia Sorgeto\, 51 - ForioTel: 081 908
 102 - 081 909277www.puntachiarito.it - info@puntachiarito.itL’azienda si c
 ontraddistingue per la produzione di vini speciali locali come Ischia Bian
 co e Ischia Rosso. Presso la struttura è possibile degustare i vini\, visi
 tare il vigneto. La produzione si basa sulla più genuina tradizione contad
 ina ischitana.\n3. CANTINA RAUSTELLAVia Lorenzo Fiore - Serrara FontanaCel
 l. 3478128485Alle pendici del monte Epomeo\, in grotte scavate\, in grotte
  scavate nella montagna dagli antichi ischitani\, saggi contadini continua
 no a produrre il vino con i sistemi dei padri. Tra questi\, Francesco Matt
 era detto Raustella\, nella sua cantina in Serrara\, alla veneranda eta’ d
 i 90 anni continua a produrre il meraviglioso nettare degli dei. Completam
 ente restaurata da Giuseppe Mattera oggi scrigno delle antiche tradizioni 
 vitivinicole...\nTutti i percorsi partono dalla sede della Pro loco in pia
 zza San Leonardo\, Panza alle ore 10.00Prenotazione obbligatoria.Le escurs
 ioni comprendono: servizio navetta – guida – degustazione vini e prodotti 
 tipici. I percorsi possono subire variazioni e modifiche in base alle pren
 otazioni e alla disponibilità delle cantine.\n\n\n&nbsp\;\n\n\n&nbsp\;\n\n
 &nbsp\;\n&nbsp\;\n\n\n\n\n https://www.prolocopanza.it/en/calendario-event
 i-archiviati/event/14476-percorso-biancolella
DTSTART:20221001T080000Z
DTEND:20221001T120000Z
LOCATION:Pro Loco Panza Ischia (Via Cavaliere Leonardo Impagliazzo\, 144\, 
 80075 Forio NA\, Italia)
SUMMARY:Percorso Biancolella
URL:https://www.prolocopanza.it/en/calendario-eventi-archiviati/event/14476
 -percorso-biancolella
END:VEVENT
BEGIN:VEVENT
UID:20260422T181851CEST-2911f4ftNX@https://www.prolocopanza.it/
DTSTAMP:20260422T161851Z
DESCRIPTION:\nLe cantine del percorso Frassitelli:\n\n1. CANTINA RAUSTELLAI
 ndirizzo: Via Lorenzo Fiore\, - Serrara FontanaContatti: 3478128485Alle pe
 ndici del monte Epomeo\, in grotte scavate\, in grotte scavate nella monta
 gna dagli antichi ischitani\, saggi contadini continuano a produrre il vin
 o con i sistemi dei padri. Tra questi\, Francesco Mattera detto Raustella\
 , nella sua cantina in Serrara\, alla veneranda eta’ di 90 anni continua a
  produrre il meraviglioso nettare degli dei. Completamente restaurata da G
 iuseppe Mattera oggi scrigno delle antiche tradizioni vitivinicole...\n&nb
 sp\;\n2. A ‘CANTIN E CIR’Antico Borgo di Noia - Serrara FontanaTel. 081 99
 9477Anticamente era una grotta la quale serviva da rifugio alle varie incu
 rsioni di pirati. La famiglia Iacono la acquistò insieme al vigneto all’in
 izio del ‘900. Essendo una famiglia di contadini\, il signor Ciro Iacono\,
  dopo il ’30\, la trasformò in cantina ampliandola e rendendola un locale 
 funzionale per la produzione e la conservazione del vino.\n&nbsp\;\n3. CAN
 TINA 'U SCILATUROVia Angelo Migliaccio\, 151 Tel. 3426226910La cantina del
 la famiglia Di Costanzo si trova sulla parte alta di Barano\, in località 
 Toccaneto. Centocinquanta anni di tradizione racchiusi in un piccolo tempi
 o del vino sapientemente restaurato\, in cui è possibile ammirare le antic
 he pietre e i vecchi palmenti\, protagonisti di storiche vendemmie. L’azie
 nda agricola\, a conduzione famigliare\, produce un vino dal sapore&nbsp\;
  tipicamente ischitano.\nPrezzo del percorso € 35 https://www.prolocopanza
 .it/en/calendario-eventi-archiviati/event/14496-percorso-frassitelli
DTSTART:20221001T130000Z
DTEND:20221001T160000Z
LOCATION:Pro Loco Panza Ischia (Via Cavaliere Leonardo Impagliazzo\, 144\, 
 80075 Forio NA\, Italia)
SUMMARY:Percorso Frassitelli
URL:https://www.prolocopanza.it/en/calendario-eventi-archiviati/event/14496
 -percorso-frassitelli
END:VEVENT
BEGIN:VEVENT
UID:20260422T181851CEST-2916B2rEVf@https://www.prolocopanza.it/
DTSTAMP:20260422T161851Z
DESCRIPTION:Le cantine del percorso San Lunardo:\n1. CANTINA PELLICCIONEVia
  San Pietro - BuonopaneTel. +39 349 578 0618In località San Pietro\, la ca
 ntina Pelliccione è riferimento di convivialità del borgo. Fermarsi a bere
  un buon bicchiere di vino nella frescura all’interno delle grandi grotte 
 scavate nel tufo è un rito collettivo al quale si aggregano con piacere i 
 forestieri. Il microclima delle grotte conserva alla perfezione il vino e 
 gli altri prodotti tipici.\n2. AZIENDA AGRICOLA FILIPPO FLORIOVia Ritola\,
  6 - Barano d’IschiaTel. 347.9333701 - 081990642Impegnata nella viticoltur
 a da cinque generazioni\, la famiglia Florio produce vino con lieviti Bian
 colella docg. Vanto dell’Azienda sono l’Epomeo Rosso e il Bianco Igp. Affi
 nati nell’antica cantina scavata nel tufo.\n3. AGRITURISMO GIASOLEVia Cand
 iano 31/A - Barano d’IschiaTel. 347 674 7979L’azienda agrituristica Giasol
 e grazie all’esposizione ideale dei suoi terreni\, vanta una grande variet
 à di frutti e verdure in ogni stagione. Oltre alla produzione di vino che 
 è tratto distintivo dell’Azienda. La trasformazione dei prodotti dell’orto
  di casa\, rigorosamente bio\, nei piatti tipici isolani ci permette di fa
 rli apprezzare a tutti i nostri visitatori.\nPrezzo del percorso € 30 http
 s://www.prolocopanza.it/en/calendario-eventi-archiviati/event/14517-percor
 so-san-lunardo
DTSTART:20221001T130000Z
DTEND:20221001T160000Z
LOCATION:Pro Loco Panza Ischia (Via Cavaliere Leonardo Impagliazzo\, 144\, 
 80075 Forio NA\, Italia)
SUMMARY:Percorso San Lunardo
URL:https://www.prolocopanza.it/en/calendario-eventi-archiviati/event/14517
 -percorso-san-lunardo
END:VEVENT
BEGIN:VEVENT
UID:20260422T181851CEST-2920c5tf1c@https://www.prolocopanza.it/
DTSTAMP:20260422T161851Z
DESCRIPTION:Raggiumgeremo la “selva” dei Frassitelli\, dove la visuale si a
 prirà sul panorama mozzafiato che offre il territorio del comune di Forio.
  Dirigendoci verso il Bosco della Falanga\, visiteremo le&nbsp\; Case di P
 ietra”: blocchi di tufo scavati a mano ed adibiti a luogo di rifugio o can
 tina.\nRaggiungeremo poi il borgo di Santa Maria al Monte\, dove poi press
 o l’agriturismo Malvisiello godremo di una degustazione di prodotti tipici
  immersi in un ambiente unico e speciale.\nWe will reach the Frassitelli\,
  where the view will open onto the breathtaking panorama that the territor
 y of the municipality of Forio offers. Then heading towards the Falanga Wo
 ods\, we will visit the “Stone Houses”: blocks of tuff carved by hand and 
 used as a place of refuge or cellar. We will then reach the village of San
 ta Maria al Monte\, where then at the Malvisiello farmhouse we will enjoy 
 a tasting of typical products immersed in a unique and special environment
 .\nINFO- Punto Partenza/Arrivo: (Departure / arrival point): Sede Proloco 
 Panza\, Forio- Difficoltà: Media / Escursionistica (Difficulty: Medium)- D
 urata: 6\,5h – 9km (soste incluse)Duration: 6\,5h – 9km (stops included)- 
 Visita/Degustazione: (Visit / Tasting): Agriturismo Malvisiello- Quota di 
 partecipazione / Price: 35 € https://www.prolocopanza.it/en/calendario-eve
 nti-archiviati/event/14530-il-sentiero-delle-case-di-pietra
DTSTART:20221001T073000Z
DTEND:20221001T133000Z
LOCATION:Pro Loco Panza Ischia (Via Cavaliere Leonardo Impagliazzo\, 144\, 
 80075 Forio NA\, Italia)
SUMMARY:Il sentiero delle Case di Pietra
URL:https://www.prolocopanza.it/en/calendario-eventi-archiviati/event/14530
 -il-sentiero-delle-case-di-pietra
END:VEVENT
BEGIN:VEVENT
UID:20260422T181851CEST-292536GEmO@https://www.prolocopanza.it/
DTSTAMP:20260422T161851Z
DESCRIPTION:Le cantine del percorso Piedirosso:\n\n1. CANTINA SCARDECCHIAVi
 a Succhivo - Serrara FontanaTel. 081 909062Cantina storica del paese\, pas
 sata di generazione in generazione per tre secoli tra le mani sapienti del
 la famiglia Iacono. Attualmente si producono vino bianco\, rosso\, spumant
 e misto e Sorriso.\n2. CANTINA PASSARIELLOVia Tironi\, 29 - ForioCell. +39
  335 6341297La cantina si trova in località Tironi ed è di proprietà della
  famiglia Russo dal 1956. Costruita interamente in tufo verde nel lontano 
 1873\, era adibita per la produzione e la vendita di vino locale. Rapprese
 nta sicuramente una delle cantine più antiche di Forio ed è perfettamente 
 funzionante.\n2. AZIENDA AGRICOLA VILLA SPADARAVia Calosirto\, 82 - ForioT
 el. +39 081989584Visitare l’azienda Agricola La Spadara vuol dire imparare
  a conoscere la storia ischitana\, un viaggio nel passato e nelle tradizio
 ni. L’azienda si estende su 7 ettari coltivati interamente in biologico ad
  agrumeto\, vigneto\, uliveto e ortaggi. All’interno si trova anche l’anti
 ca casa colonica e le cantine risalenti al 1600.\n3. CANTINE PIETRATORCIAV
 ia Provinciale Panza\, 267 - ForioTel. 081 908206 / 081 907232www.pietrato
 rcia.it - info@pietratorcia.itLe cantine di Pietratorcia sono state create
  da tre antiche famiglie contadine ischitane Iacono\, Regine e Verde. Oltr
 e sette ettari di terreno sono stati ripiantati con vitigni selezionati.\n
 Prezzo del percorso € 35 https://www.prolocopanza.it/en/calendario-eventi-
 archiviati/event/14540-percorso-piedirosso-pomeriggio
DTSTART:20221001T130000Z
DTEND:20221001T160000Z
LOCATION:Pro Loco Panza Ischia (Via Cavaliere Leonardo Impagliazzo\, 144\, 
 80075 Forio NA\, Italia)
SUMMARY:Percorso Piedirosso (Pomeriggio)
URL:https://www.prolocopanza.it/en/calendario-eventi-archiviati/event/14540
 -percorso-piedirosso-pomeriggio
END:VEVENT
BEGIN:VEVENT
UID:20260422T181851CEST-2930JdVmih@https://www.prolocopanza.it/
DTSTAMP:20260422T161851Z
DESCRIPTION:Le cantine del percorso Epomeo:\n1. CANTINA RAUSTELLAIndirizzo:
  Via Lorenzo Fiore\, - Serrara FontanaContatti: 3478128485Alle pendici del
  monte Epomeo\, in grotte scavate\, in grotte scavate nella montagna dagli
  antichi ischitani\, saggi contadini continuano a produrre il vino con i s
 istemi dei padri. Tra questi\, Francesco Mattera detto Raustella\, nella s
 ua cantina in Serrara\, alla veneranda eta’ di 90 anni continua a produrre
  il meraviglioso nettare degli dei. Completamente restaurata da Giuseppe M
 attera oggi scrigno delle antiche tradizioni vitivinicole...\n2. A ‘CANTIN
  E CIR’Antico Borgo di Noia - Serrara FontanaTel. 081 999477Anticamente er
 a una grotta la quale serviva da rifugio alle varie incursioni di pirati. 
 La famiglia Iacono la acquistò insieme al vigneto all’inizio del ‘900. Ess
 endo una famiglia di contadini\, il signor Ciro Iacono\, dopo il ’30\, la 
 trasformò in cantina ampliandola e rendendola un locale funzionale per la 
 produzione e la conservazione del vino.\n3. A' CANTIN LU' SCULTOREIndirizz
 o: Via Casa Mattera\, 25 - FontanaContatti: 3337663548Poco distante dalla 
 piazza di Fontana\, si trova la cantina di Nicola Gioba. Cantina risalente
  al 1930 interamente costruita in pietra di tufo da Nicolino 'a Panella.Or
 a rielaborata da Nicola Gioba\, maestro scultore della pietra\, che attrav
 erso le sue opere ha voluto immortalare alcuni momenti significativi della
  vendemmia. Ma potrete ammirare anche altre sculture che arricchiscono 'la
  cantina' e che la rendono unica.\nPrezzo del percorso € 30 https://www.pr
 olocopanza.it/en/calendario-eventi-archiviati/event/14553-percorso-epomeo
DTSTART:20221001T080000Z
DTEND:20221001T120000Z
LOCATION:Pro Loco Panza Ischia (Via Cavaliere Leonardo Impagliazzo\, 144\, 
 80075 Forio NA\, Italia)
SUMMARY:Percorso Epomeo
URL:https://www.prolocopanza.it/en/calendario-eventi-archiviati/event/14553
 -percorso-epomeo
END:VEVENT
BEGIN:VEVENT
UID:20260422T181851CEST-2936GZM7Av@https://www.prolocopanza.it/
DTSTAMP:20260422T161851Z
DESCRIPTION:Le cantine del percorso Biancolella:\n1. CANTINA SCARDECCHIAVia
  Succhivo - Serrara FontanaTel. 081 909062Cantina storica del paese\, pass
 ata di generazione in generazione per tre secoli tra le mani sapienti dell
 a famiglia Iacono. Attualmente si producono vino bianco\, rosso\, spumante
  misto e Sorriso.\n2. ANTICA FATTORIA GRECAVia Sorgeto\, 51 - ForioTel: 08
 1 908102 - 081 909277www.puntachiarito.it - info@puntachiarito.itL’azienda
  si contraddistingue per la produzione di vini speciali locali come Ischia
  Bianco e Ischia Rosso. Presso la struttura è possibile degustare i vini\,
  visitare il vigneto. La produzione si basa sulla più genuina tradizione c
 ontadina ischitana.\n3. CANTINA RAUSTELLAVia Lorenzo Fiore - Serrara Fonta
 naCell. 3478128485Alle pendici del monte Epomeo\, in grotte scavate\, in g
 rotte scavate nella montagna dagli antichi ischitani\, saggi contadini con
 tinuano a produrre il vino con i sistemi dei padri. Tra questi\, Francesco
  Mattera detto Raustella\, nella sua cantina in Serrara\, alla veneranda e
 ta’ di 90 anni continua a produrre il meraviglioso nettare degli dei. Comp
 letamente restaurata da Giuseppe Mattera oggi scrigno delle antiche tradiz
 ioni vitivinicole...\nPrezzo del percorso € 30 https://www.prolocopanza.it
 /en/calendario-eventi-archiviati/event/14555-percorso-biancolella
DTSTART:20221001T080000Z
DTEND:20221001T120000Z
LOCATION:Pro Loco Panza Ischia (Via Cavaliere Leonardo Impagliazzo\, 144\, 
 80075 Forio NA\, Italia)
SUMMARY:Percorso Biancolella
URL:https://www.prolocopanza.it/en/calendario-eventi-archiviati/event/14555
 -percorso-biancolella
END:VEVENT
BEGIN:VEVENT
UID:20260422T181851CEST-29408glv2l@https://www.prolocopanza.it/
DTSTAMP:20260422T161851Z
DESCRIPTION:Percorso guidato con degustazione di vini e prodotti tipici loc
 ali al chiaro di luna settembrina in alcune tra le più belle e suggestive 
 cantine ischitane.\nPrezzo del percorso € 40 https://www.prolocopanza.it/e
 n/calendario-eventi-archiviati/event/14569-cantinando-sotto-le-stelle
DTSTART:20221001T164500Z
DTEND:20221001T215900Z
LOCATION:Pro Loco Panza Ischia (Via Cavaliere Leonardo Impagliazzo\, 144\, 
 80075 Forio NA\, Italia)
SUMMARY:Cantinando sotto le stelle
URL:https://www.prolocopanza.it/en/calendario-eventi-archiviati/event/14569
 -cantinando-sotto-le-stelle
END:VEVENT
END:VCALENDAR
