BEGIN:VCALENDAR
VERSION:2.0
PRODID:-//https://www.prolocopanza.it///NONSGML kigkonsult.se iCalcreator 2.10.15//
METHOD:PUBLISH
BEGIN:VEVENT
UID:20260421T052438CEST-550028fAEb@https://www.prolocopanza.it/
DTSTAMP:20260421T032438Z
DESCRIPTION:Le cantine del percorso Biancolella:\nCANTINA SCARDECCHIASerrar
 a Fontana - Via Succhivo - Tel. +39 081 909062Cantina storica del paese\, 
 tramandata per tre secoli da una generazione all’altra della famiglia Iaco
 no. Attualmente si producono vino bianco\, rosso\, spumante misto e Sorris
 o\nANTICA FATTORIA GRECAForio - Via Sorgeto\, 51 Tel: +39 081908102 081194
 65224L’azienda si contraddistingue per la produzione di vini speciali loca
 li come Ischia Bianco e Ischia Rosso. Presso la struttura è possibile degu
 stare i vini\, visitare il vigneto. La produzione si basa sulla più genuin
 a tradizione contadina ischitana.\nTENUTA GIOSUÉ COLELLAForio - Via S.Gius
 eppe 24 - Tel. +39 328 068 1061L’azienda agricola Colella vi accoglierà tr
 a il verde dei vigneti delle colline foriane. Visiterete l’antica cantina 
 scavata a mano in un unico blocco di tufo verde dai nostri avi. Degusteret
 e vini di nicchia e assaporerete le nostre specialità\, prodotte secondo a
 ntiche ricette di famiglia\, rimaste invariate da generazioni...\nQuota di
  partecipazione 35\,00€ a persona https://www.prolocopanza.it/en/calendari
 o-eventi-archiviati/event/14605-andar-per-cantine-2023-percorso-biancolell
 a
DTSTART:20230930T080000Z
DTEND:20230930T120000Z
LOCATION:Piazza San Leonardo  (Via Cavaliere Leonardo Impagliazzo\, 65\, 80
 075 Forio NA\, Italia)
SUMMARY:Andar per cantine 2023: Percorso Biancolella
URL:https://www.prolocopanza.it/en/calendario-eventi-archiviati/event/14605
 -andar-per-cantine-2023-percorso-biancolella
END:VEVENT
BEGIN:VEVENT
UID:20260421T052438CEST-55056UfD2N@https://www.prolocopanza.it/
DTSTAMP:20260421T032438Z
DESCRIPTION:Le cantine del percorso San Lunardo:\nCANTINA PELLICCIONEBarano
  - Via San Pietro Tel. +39 349 578 0618In località San Pietro\, la cantina
  Pelliccione è riferimento di convivialità del borgo di Buonopane. Fermars
 i a bere un buon bicchiere di vino\, nella frescura all’interno delle gran
 di grotte scavate nel tufo\, è un rito collettivo al quale si aggregano co
 n piacere i forestieri. Il microclima delle grotte conserva alla perfezion
 e il vino e gli altri prodotti tipici.\nAZIENDA AGRICOLA FILIPPO FLORIOBar
 ano - Via Ritola\, 6 Tel: . +39 347.9333701Impegnata nella viticoltura da 
 cinque generazioni\, la famiglia Florio produce vino con lieviti Biancolel
 la docg. Vanto dell’Azienda sono l’Epomeo Rosso e il Bianco Igp. Affinati 
 nell’antica cantina scavata nel tufo.\nAGRITURISMO GIASOLEBarano - Via Can
 diano 31/A - Tel. +39 347 674 7979L’azienda agrituristica Giasole grazie a
 ll’esposizione ideale dei suoi terreni\, vanta una grande varietà di frutt
 i e verdure in ogni stagione. Oltre alla produzione di vino\, che è tratto
  distintivo dell’Azienda. La trasformazione dei prodotti dell’orto di casa
 \, rigorosamente bio\, nei piatti tipici isolani ci permette di farli appr
 ezzare a tutti i nostri visitatori.\nQuota di partecipazione 35\,00€ a per
 sona https://www.prolocopanza.it/en/calendario-eventi-archiviati/event/146
 13-andar-per-cantine-2023-percorso-san-lunardo
DTSTART:20230930T130000Z
DTEND:20230930T160000Z
LOCATION:Piazza San Leonardo  (Via Cavaliere Leonardo Impagliazzo\, 65\, 80
 075 Forio NA\, Italia)
SUMMARY:Andar per cantine 2023: Percorso San Lunardo
URL:https://www.prolocopanza.it/en/calendario-eventi-archiviati/event/14613
 -andar-per-cantine-2023-percorso-san-lunardo
END:VEVENT
BEGIN:VEVENT
UID:20260421T052438CEST-5510wFc7lC@https://www.prolocopanza.it/
DTSTAMP:20260421T032438Z
DESCRIPTION:Le cantine del percorso Aragonese:\nLA VIGNA DEL CASTELLO ARAGO
 NESEIschia - Castello Aragonese - Tel. +39 081 99 28 34Il vino nasce da uv
 e Biancolella che maturano in pieno sole sul Castello Aragonese di Ischia\
 , in un vigneto panoramico riattivato grazie alla volontà di Gabriele Matt
 era e sua moglie Karin con i figli Nicola e Anna Cristina Un vino prodotto
  secondo la tradizione isolana\, in un terreno a vigna fin dal Medioevo.\n
 Quota di partecipazione 40\,00 € a persona https://www.prolocopanza.it/en/
 calendario-eventi-archiviati/event/14620-andar-per-cantine-2023-percorso-a
 ragonese
DTSTART:20230930T130000Z
DTEND:20230930T170000Z
LOCATION:Piazzale delle alghe (Via Boccaccio\, 1\, 80077 Ischia NA\, Italia
 )
SUMMARY:Andar per cantine 2023: Percorso Aragonese
URL:https://www.prolocopanza.it/en/calendario-eventi-archiviati/event/14620
 -andar-per-cantine-2023-percorso-aragonese
END:VEVENT
BEGIN:VEVENT
UID:20260421T052438CEST-5513iUUbuR@https://www.prolocopanza.it/
DTSTAMP:20260421T032438Z
DESCRIPTION:Le cantine del percorso Epomeo:\nA' CANTIN LU' SCULTOREIndirizz
 o: Via Casa Mattera\, 25 - FontanaContatti: 3337663548Poco distante dalla 
 piazza di Fontana\, si trova la cantina di Nicola Gioba. Cantina risalente
  al 1930 interamente costruita in pietra di tufo da Nicolino 'a Panella.Or
 a rielaborata da Nicola Gioba\, maestro scultore della pietra\, che attrav
 erso le sue opere ha voluto immortalare alcuni momenti significativi della
  vendemmia. Ma potrete ammirare anche altre sculture che arricchiscono 'la
  cantina' e che la rendono unica.\nA‘ CANTINA DI NONNO MICHELE DA TONYSerr
 ara Fontana\, Tel. +39 081 999570 | +39 3294410962La cantina di nonno Mich
 ele\, scavata nel 1908 nelle rocce di tufo e utilizzata fino a 30 anni fa 
 per la conservazione del vino e delle botti. Caratteristica particolare de
 lla cantina\, ancora oggi visibile\, è la pietra sudaria\, da cui sgorga a
 cqua. La tradizione familiare\, oggi\, viene portata avanti dal nipote Ant
 onio Galano\, che l’ha resa uno speciale luogo di ritrovo per turisti ed i
 solani.\nCANTINA RAUSTELLAVia Lorenzo Fiore - Serrara FontanaCell. 3478128
 485Alle pendici del monte Epomeo\, in grotte scavate\, in grotte scavate n
 ella montagna dagli antichi ischitani\, saggi contadini continuano a produ
 rre il vino con i sistemi dei padri. Tra questi\, Francesco Mattera detto 
 Raustella\, nella sua cantina in Serrara\, alla veneranda eta’ di 90 anni 
 continua a produrre il meraviglioso nettare degli dei. Completamente resta
 urata da Giuseppe Mattera oggi scrigno delle antiche tradizioni vitivinico
 le...\nQuota di partecipazione 35\,00€ a persona https://www.prolocopanza.
 it/en/calendario-eventi-archiviati/event/14625-andar-per-cantine-2023-perc
 orso-epomeo
DTSTART:20230930T080000Z
DTEND:20230930T120000Z
LOCATION:Piazza San Leonardo  (Via Cavaliere Leonardo Impagliazzo\, 65\, 80
 075 Forio NA\, Italia)
SUMMARY:Andar per cantine 2023: Percorso Epomeo
URL:https://www.prolocopanza.it/en/calendario-eventi-archiviati/event/14625
 -andar-per-cantine-2023-percorso-epomeo
END:VEVENT
BEGIN:VEVENT
UID:20260421T052438CEST-55199hIB4E@https://www.prolocopanza.it/
DTSTAMP:20260421T032438Z
DESCRIPTION:\nLe cantine del percorso Frassitelli:\n\n&nbsp\;\nA' CANTIN LU
 ' SCULTOREIndirizzo: Via Casa Mattera\, 25 - FontanaContatti: 3337663548Po
 co distante dalla piazza di Fontana\, si trova la cantina di Nicola Gioba.
  Cantina risalente al 1930 interamente costruita in pietra di tufo da Nico
 lino 'a Panella.Ora rielaborata da Nicola Gioba\, maestro scultore della p
 ietra\, che attraverso le sue opere ha voluto immortalare alcuni momenti s
 ignificativi della vendemmia. Ma potrete ammirare anche altre sculture che
  arricchiscono 'la cantina' e che la rendono unica.\n&nbsp\;\nCANTINA 'U S
 CILATUROVia Angelo Migliaccio\, 151 Tel. 3426226910La cantina della famigl
 ia Di Costanzo si trova sulla parte alta di Barano\, in località Toccaneto
 . Centocinquanta anni di tradizione racchiusi in un piccolo tempio del vin
 o sapientemente restaurato\, in cui è possibile ammirare le antiche pietre
  e i vecchi palmenti\, protagonisti di storiche vendemmie. L’azienda agric
 ola\, a conduzione famigliare\, produce un vino dal sapore&nbsp\; tipicame
 nte ischitano.\n&nbsp\;\nCANTINA RAUSTELLAVia Lorenzo Fiore - Serrara Font
 anaCell. 3478128485Alle pendici del monte Epomeo\, in grotte scavate\, in 
 grotte scavate nella montagna dagli antichi ischitani\, saggi contadini co
 ntinuano a produrre il vino con i sistemi dei padri. Tra questi\, Francesc
 o Mattera detto Raustella\, nella sua cantina in Serrara\, alla veneranda 
 eta’ di 90 anni continua a produrre il meraviglioso nettare degli dei. Com
 pletamente restaurata da Giuseppe Mattera oggi scrigno delle antiche tradi
 zioni vitivinicole...\nQuota di partecipazione 35\,00€ a persona\n\n\n&nbs
 p\;\n\n\n&nbsp\;\n\n&nbsp\;\n&nbsp\;\n\n\n\n\n https://www.prolocopanza.it
 /en/calendario-eventi-archiviati/event/14636-andar-per-cantine-2023-percor
 so-frassitelli
DTSTART:20230930T130000Z
DTEND:20230930T160000Z
LOCATION:Pro Loco Panza Ischia (Via Cavaliere Leonardo Impagliazzo\, 144\, 
 80075 Forio NA\, Italia)
SUMMARY:Andar per cantine 2023: Percorso Frassitelli
URL:https://www.prolocopanza.it/en/calendario-eventi-archiviati/event/14636
 -andar-per-cantine-2023-percorso-frassitelli
END:VEVENT
BEGIN:VEVENT
UID:20260421T052438CEST-5524ZS6VwD@https://www.prolocopanza.it/
DTSTAMP:20260421T032438Z
DESCRIPTION:Le cantine del percorso Piedirosso:\nCANTINA SCARDECCHIAVia Suc
 chivo - Serrara FontanaTel. 081 909062Cantina storica del paese\, passata 
 di generazione in generazione per tre secoli tra le mani sapienti della fa
 miglia Iacono. Attualmente si producono vino bianco\, rosso\, spumante mis
 to e Sorriso.\nCANTINA PASSARIELLOVia Tironi\, 29 *- ForioCell. 335 634129
 7La cantina si trova in località Tironi ed è di proprietà della famiglia R
 usso dal 1956. Costruita interamente in tufo verde nel lontano 1873\, era 
 adibita per la produzione e la vendita di vino locale. Rappresenta sicuram
 ente una delle cantine più antiche di Forio ed è perfettamente funzionante
 .\nCANTINE PIETRATORCIAVia Provinciale Panza\, 267 - ForioTel. 081 908206/
 081 907232 Fax: 081 908949www.pietratorcia.it - info@pietratorcia.itLe can
 tine di Pietratorcia sono state create da tre antiche famiglie contadine i
 schitane Iacono\, Regine e Verde. Oltre sette ettari di terreno sono stati
  ripiantati con vitigni selezionati.\nQuota di partecipazione 35\,00€ a pe
 rsona https://www.prolocopanza.it/en/calendario-eventi-archiviati/event/14
 640-andar-per-cantine-2023-percorso-piedirosso
DTSTART:20230930T130000Z
DTEND:20230930T170000Z
LOCATION:Piazza San Leonardo  (Via Cavaliere Leonardo Impagliazzo\, 65\, 80
 075 Forio NA\, Italia)
SUMMARY:Andar per cantine 2023: Percorso Piedirosso
URL:https://www.prolocopanza.it/en/calendario-eventi-archiviati/event/14640
 -andar-per-cantine-2023-percorso-piedirosso
END:VEVENT
BEGIN:VEVENT
UID:20260421T052438CEST-5529PXvJ17@https://www.prolocopanza.it/
DTSTAMP:20260421T032438Z
DESCRIPTION:Percorreremo i sentieri del tufo verde di “Santu Nicola” accomp
 agnati da antichi canti ischitani\, storie di contadini\, di vendemmie e l
 eggende locali\, a cura del prof. Denis Trani\, guida ambientale e cantore
  di Ischia. Intense emozioni affolleranno la mente del viandante che lasce
 rà un pezzo del suo cuore sul tetto dell’isola e porterà con sé le sue mel
 odie. Al termine\, degustazione con vino e “culurcio” di pane cotto a legn
 a con pomodori e altri prodotti genuini di “Miscillo sapori e...”\nWe will
  walk the paths of the green tuff of “Santu Nicola” accompanied by ancient
  Ischia songs\, stories of farmers\, harvests and local legends\, proposed
  by prof. Denis Trani\, environmental guide and singer of Ischia. Intense 
 emotions&nbsp\; will crowd the mind of the traveler who will leave a piece
  of his heart on the roof of the island and bring his melodies with him. A
 t the end\, tasting with wine and “culurcio” of woodfired bread with tomat
 oes and other genuine products&nbsp\; of “Miscillo flavors and...”\nINFO- 
 Punto Partenza/Arrivo: (Departure / arrival point): Sede Proloco Panza\, F
 orio- Difficoltà: Facile / Turistica (Difficulty: Easy)- Durata: 5h – 4km 
 (soste incluse) Duration: 5h – 4km (stops included)- Visita/Degustazione: 
 (Visit / Tasting): Miscillo Souvenir- Quota di partecipazione / Price: 40 
 € https://www.prolocopanza.it/en/calendario-eventi-archiviati/event/14663-
 andar-per-cantine-2023-il-sentiero-dell-eremo-del-monte-epomeo
DTSTART:20230930T073000Z
DTEND:20230930T123000Z
LOCATION:Pro Loco Panza Ischia (Via Cavaliere Leonardo Impagliazzo\, 144\, 
 80075 Forio NA\, Italia)
SUMMARY:Andar per Cantine 2023:  Il sentiero dell'Eremo del Monte Epomeo
URL:https://www.prolocopanza.it/en/calendario-eventi-archiviati/event/14663
 -andar-per-cantine-2023-il-sentiero-dell-eremo-del-monte-epomeo
END:VEVENT
BEGIN:VEVENT
UID:20260421T052438CEST-5533Aeg8li@https://www.prolocopanza.it/
DTSTAMP:20260421T032438Z
DESCRIPTION:Percorso guidato con degustazione di vini e prodotti tipici loc
 ali al chiaro di luna settembrina in alcune tra le più belle e suggestive 
 cantine ischitane.\nQuota di partecipazione € 40\,00 a persona https://www
 .prolocopanza.it/en/calendario-eventi-archiviati/event/14676-cantinando-so
 tto-le-stelle
DTSTART:20230930T164500Z
DTEND:20230930T215900Z
LOCATION:Pro Loco Panza Ischia (Via Cavaliere Leonardo Impagliazzo\, 144\, 
 80075 Forio NA\, Italia)
SUMMARY:Cantinando sotto le stelle
URL:https://www.prolocopanza.it/en/calendario-eventi-archiviati/event/14676
 -cantinando-sotto-le-stelle
END:VEVENT
BEGIN:VEVENT
UID:20260421T052438CEST-5537G3KSf6@https://www.prolocopanza.it/
DTSTAMP:20260421T032438Z
DESCRIPTION:Ideata per l’evento\, la degustazione di piatti tipici ischitan
 i in abbinamento ai pluripremiati vini dalle cantine affacciate sul mare d
 i Antonio Mazzella.\nAppuntamento nella piazzetta di Campagnano - Comune d
 i Ischia alle ore 16:00\nQuota di partecipazione 45\,00 € a persona https:
 //www.prolocopanza.it/en/calendario-eventi-archiviati/event/14678-andar-pe
 r-cantine-2023-i-premiati-vini-di-antonio-mazzella
DTSTART:20230930T140000Z
DTEND:20230930T170000Z
LOCATION:Campagnano (Cantine Antonio Mazzella)
SUMMARY:Andar per Cantine 2023: I premiati vini di Antonio Mazzella
URL:https://www.prolocopanza.it/en/calendario-eventi-archiviati/event/14678
 -andar-per-cantine-2023-i-premiati-vini-di-antonio-mazzella
END:VEVENT
BEGIN:VEVENT
UID:20260421T052438CEST-5540vv6XvB@https://www.prolocopanza.it/
DTSTAMP:20260421T032438Z
DESCRIPTION:Ore 9.30 - Incontro in cantina con caffè\, succo di frutta e co
 rnettoOre 10.00 - vendemmia manualeOre 12.00 - Visita guidata alle cantine
 Ore 12.45 - Pranzo tipico sulla terrazza panoramicaMENU: Calice di Spumant
 e\; Bruschetta con pomodori\, frittata di zucchine\, patate e cipolla\, Mo
 zzarella di Bufala\; Gnocchi con sugo di coniglio\; Coniglio all’Ischitana
  con patate fritte\, Delizia al limone (Acqua e 1 bottiglia di vino ogni 2
  persone scelte tra Pithecusa Bianco\, Rosamonti e Pithecusa Rosso)\nQuota
  di partecipazione 70\,00 € a persona https://www.prolocopanza.it/en/calen
 dario-eventi-archiviati/event/14688-andar-per-cantine-2023-vendemmia-con-n
 oi
DTSTART:20230930T073000Z
DTEND:20230930T133000Z
LOCATION:Cantine Tommasone (Lacco Ameno - Via Prov.le Lacco\, 98)
SUMMARY:Andar per Cantine 2023 -  Vendemmia con noi
URL:https://www.prolocopanza.it/en/calendario-eventi-archiviati/event/14688
 -andar-per-cantine-2023-vendemmia-con-noi
END:VEVENT
END:VCALENDAR
