BEGIN:VCALENDAR
VERSION:2.0
PRODID:-//https://www.prolocopanza.it///NONSGML kigkonsult.se iCalcreator 2.10.15//
METHOD:PUBLISH
BEGIN:VEVENT
UID:20260422T165010CEST-9722hw7s16@https://www.prolocopanza.it/
DTSTAMP:20260422T145010Z
DESCRIPTION:\nLe cantine del percorso Frassitelli:\n\n1. CANTINA RAUSTELLAI
 ndirizzo: Via Lorenzo Fiore\, - Serrara FontanaContatti: 3478128485Alle pe
 ndici del monte Epomeo\, in grotte scavate\, in grotte scavate nella monta
 gna dagli antichi ischitani\, saggi contadini continuano a produrre il vin
 o con i sistemi dei padri. Tra questi\, Francesco Mattera detto Raustella\
 , nella sua cantina in Serrara\, alla veneranda eta’ di 90 anni continua a
  produrre il meraviglioso nettare degli dei. Completamente restaurata da G
 iuseppe Mattera oggi scrigno delle antiche tradizioni vitivinicole...\n&nb
 sp\;\n2. A ‘CANTIN E CIR’Antico Borgo di Noia - Serrara FontanaTel. 081 99
 9477Anticamente era una grotta la quale serviva da rifugio alle varie incu
 rsioni di pirati. La famiglia Iacono la acquistò insieme al vigneto all’in
 izio del ‘900. Essendo una famiglia di contadini\, il signor Ciro Iacono\,
  dopo il ’30\, la trasformò in cantina ampliandola e rendendola un locale 
 funzionale per la produzione e la conservazione del vino.\n&nbsp\;\n3. CAN
 TINA 'U SCILATUROVia Angelo Migliaccio\, 151 Tel. 3426226910La cantina del
 la famiglia Di Costanzo si trova sulla parte alta di Barano\, in località 
 Toccaneto. Centocinquanta anni di tradizione racchiusi in un piccolo tempi
 o del vino sapientemente restaurato\, in cui è possibile ammirare le antic
 he pietre e i vecchi palmenti\, protagonisti di storiche vendemmie. L’azie
 nda agricola\, a conduzione famigliare\, produce un vino dal sapore&nbsp\;
  tipicamente ischitano.\nPrezzo del percorso € 35 https://www.prolocopanza
 .it/en/calendario-eventi-archiviati/event/14495-percorso-frassitelli
DTSTART:20220930T130000Z
DTEND:20220930T160000Z
LOCATION:Pro Loco Panza Ischia (Via Cavaliere Leonardo Impagliazzo\, 144\, 
 80075 Forio NA\, Italia)
SUMMARY:Percorso Frassitelli
URL:https://www.prolocopanza.it/en/calendario-eventi-archiviati/event/14495
 -percorso-frassitelli
END:VEVENT
BEGIN:VEVENT
UID:20260422T165010CEST-9730unkJX0@https://www.prolocopanza.it/
DTSTAMP:20260422T145010Z
DESCRIPTION:Le cantine del percorso San Lunardo:\n1. CANTINA PELLICCIONEVia
  San Pietro - BuonopaneTel. +39 349 578 0618In località San Pietro\, la ca
 ntina Pelliccione è riferimento di convivialità del borgo. Fermarsi a bere
  un buon bicchiere di vino nella frescura all’interno delle grandi grotte 
 scavate nel tufo è un rito collettivo al quale si aggregano con piacere i 
 forestieri. Il microclima delle grotte conserva alla perfezione il vino e 
 gli altri prodotti tipici.\n2. AZIENDA AGRICOLA FILIPPO FLORIOVia Ritola\,
  6 - Barano d’IschiaTel. 347.9333701 - 081990642Impegnata nella viticoltur
 a da cinque generazioni\, la famiglia Florio produce vino con lieviti Bian
 colella docg. Vanto dell’Azienda sono l’Epomeo Rosso e il Bianco Igp. Affi
 nati nell’antica cantina scavata nel tufo.\n3. AGRITURISMO GIASOLEVia Cand
 iano 31/A - Barano d’IschiaTel. 347 674 7979L’azienda agrituristica Giasol
 e grazie all’esposizione ideale dei suoi terreni\, vanta una grande variet
 à di frutti e verdure in ogni stagione. Oltre alla produzione di vino che 
 è tratto distintivo dell’Azienda. La trasformazione dei prodotti dell’orto
  di casa\, rigorosamente bio\, nei piatti tipici isolani ci permette di fa
 rli apprezzare a tutti i nostri visitatori.\nPrezzo del percorso € 30 http
 s://www.prolocopanza.it/en/calendario-eventi-archiviati/event/14516-percor
 so-san-lunardo
DTSTART:20220930T130000Z
DTEND:20220930T160000Z
LOCATION:Pro Loco Panza Ischia (Via Cavaliere Leonardo Impagliazzo\, 144\, 
 80075 Forio NA\, Italia)
SUMMARY:Percorso San Lunardo
URL:https://www.prolocopanza.it/en/calendario-eventi-archiviati/event/14516
 -percorso-san-lunardo
END:VEVENT
BEGIN:VEVENT
UID:20260422T165010CEST-9737i56s7h@https://www.prolocopanza.it/
DTSTAMP:20260422T145010Z
DESCRIPTION:Tramite via Pendio Oscuro arriveremo alla zona della Pietra del
 l’acqua. Da qui raggiungeremo la cima del blocco di tufo che sovrasta l’is
 ola d’Ischia: il Monte Epomeo.\nGodremo di un panorama unico con vista a 3
 60° sull’intero territorio dell’isola fino alla terraferma.\nScendendo dal
 la vetta faremo rientro al punto di inizio escursione in piazza a Fontana\
 , dove ad attenderci\, presso Scapricciatiello\, ci sarà una degustazione 
 di prodotti tipici e in particolare dei liquori isolani.\nThrough Pendio O
 scuro road we will arrive at the area of the ‘Pietra dell’Acqua’. From her
 e we will reach the top of the tuff block overlooking the island of Ischia
 : Monte Epomeo. We will enjoy a unique panorama with a 360 ° view over the
  entire territory of the island to the mainland.Descending from the summit
  we will return to the starting point of the excursion in the square in Fo
 ntana\, where a tasting of typical products and in particular of the islan
 d’s liqueurs will be waiting for us at Scapricciatiello.\nINFO- Punto Part
 enza/Arrivo:(Departure / arrival point): Sede Proloco Panza\, Forio- Diffi
 coltà: Facile / Turistica (Difficulty: Easy)- Durata: 5h – 4km (soste incl
 use) Duration: 5h – 4km (stops included)- Visita/Degustazione: (Visit / Ta
 sting): Elisir dello Scapriccio- Quota di partecipazione / Price: 35 € htt
 ps://www.prolocopanza.it/en/calendario-eventi-archiviati/event/14522-il-se
 ntiero-dell-eremo-del-monte-epomeo
DTSTART:20220930T073000Z
DTEND:20220930T133000Z
LOCATION:Pro Loco Panza Ischia (Via Cavaliere Leonardo Impagliazzo\, 144\, 
 80075 Forio NA\, Italia)
SUMMARY:Il sentiero dell'Eremo del Monte Epomeo
URL:https://www.prolocopanza.it/en/calendario-eventi-archiviati/event/14522
 -il-sentiero-dell-eremo-del-monte-epomeo
END:VEVENT
BEGIN:VEVENT
UID:20260422T165010CEST-9742L04V1G@https://www.prolocopanza.it/
DTSTAMP:20260422T145010Z
DESCRIPTION:Le cantine del percorso Epomeo:\n1. A' CANTIN LU' SCULTOREVia C
 asa Mattera\, 25 - FontanaCell. 3337663548Poco distante dalla piazza di Fo
 ntana\, si trova la cantina di Nicola Gioba. Cantina risalente al 1930 int
 eramente costruita in pietra di tufo da Nicolino 'a Panella.Ora rielaborat
 a da Nicola Gioba\, maestro scultore della pietra\, che attraverso le sue 
 opere ha voluto immortalare alcuni momenti significativi della vendemmia. 
 Ma potrete ammirare anche altre sculture che arricchiscono 'la cantina' e 
 che la rendono unica.\n2. CANTINA NONNO MICHELE DI TONYVia Pendio Oscuro -
  Serrara FontanaTel. 081 999570 - Mob. 3294410962La cantina di nonno Miche
 le scavata nel 1908 nelle rocce di tufo ed utilizzata fino a 30 anni fa pe
 r la conservazione del vino e delle botti. Caratteristica particolare dell
 a cantina\, ancora oggi visibile\, è la pietra sudaria\, da cui sgorga acq
 ua. La tradizione familiare\, oggi\, viene portata avanti dal nipote Anton
 io Galano che l’ha resa uno speciale luogo di ritrovo dove turisti ed isol
 ani.\n3. CANTINA RAUSTELLAVia Lorenzo Fiore - Serrara FontanaCell. 3478128
 485Alle pendici del monte Epomeo\, in grotte scavate\, in grotte scavate n
 ella montagna dagli antichi ischitani\, saggi contadini continuano a produ
 rre il vino con i sistemi dei padri. Tra questi\, Francesco Mattera detto 
 Raustella\, nella sua cantina in Serrara\, alla veneranda eta’ di 90 anni 
 continua a produrre il meraviglioso nettare degli dei. Completamente resta
 urata da Giuseppe Mattera oggi scrigno delle antiche tradizioni vitivinico
 le...\nPrezzo del percorso € 30 https://www.prolocopanza.it/en/calendario-
 eventi-archiviati/event/14534-percorso-epomeo
DTSTART:20220930T080000Z
DTEND:20220930T120000Z
LOCATION:Pro Loco Panza Ischia (Via Cavaliere Leonardo Impagliazzo\, 144\, 
 80075 Forio NA\, Italia)
SUMMARY:Percorso Epomeo
URL:https://www.prolocopanza.it/en/calendario-eventi-archiviati/event/14534
 -percorso-epomeo
END:VEVENT
BEGIN:VEVENT
UID:20260422T165010CEST-9748ZR7U5v@https://www.prolocopanza.it/
DTSTAMP:20260422T145010Z
DESCRIPTION:Le cantine del percorso Piedirosso:\n\n1. CANTINA SCARDECCHIAVi
 a Succhivo - Serrara FontanaTel. 081 909062Cantina storica del paese\, pas
 sata di generazione in generazione per tre secoli tra le mani sapienti del
 la famiglia Iacono. Attualmente si producono vino bianco\, rosso\, spumant
 e misto e Sorriso.\n2. CANTINA PASSARIELLOVia Tironi\, 29 - ForioCell. +39
  335 6341297La cantina si trova in località Tironi ed è di proprietà della
  famiglia Russo dal 1956. Costruita interamente in tufo verde nel lontano 
 1873\, era adibita per la produzione e la vendita di vino locale. Rapprese
 nta sicuramente una delle cantine più antiche di Forio ed è perfettamente 
 funzionante.\n2. AZIENDA AGRICOLA VILLA SPADARAVia Calosirto\, 82 - ForioT
 el. +39 081989584Visitare l’azienda Agricola La Spadara vuol dire imparare
  a conoscere la storia ischitana\, un viaggio nel passato e nelle tradizio
 ni. L’azienda si estende su 7 ettari coltivati interamente in biologico ad
  agrumeto\, vigneto\, uliveto e ortaggi. All’interno si trova anche l’anti
 ca casa colonica e le cantine risalenti al 1600.\n3. CANTINE PIETRATORCIAV
 ia Provinciale Panza\, 267 - ForioTel. 081 908206 / 081 907232www.pietrato
 rcia.it - info@pietratorcia.itLe cantine di Pietratorcia sono state create
  da tre antiche famiglie contadine ischitane Iacono\, Regine e Verde. Oltr
 e sette ettari di terreno sono stati ripiantati con vitigni selezionati.\n
 Prezzo del percorso € 35 https://www.prolocopanza.it/en/calendario-eventi-
 archiviati/event/14539-percorso-piedirosso-pomeriggio
DTSTART:20220930T130000Z
DTEND:20220930T160000Z
LOCATION:Pro Loco Panza Ischia (Via Cavaliere Leonardo Impagliazzo\, 144\, 
 80075 Forio NA\, Italia)
SUMMARY:Percorso Piedirosso (Pomeriggio)
URL:https://www.prolocopanza.it/en/calendario-eventi-archiviati/event/14539
 -percorso-piedirosso-pomeriggio
END:VEVENT
BEGIN:VEVENT
UID:20260422T165010CEST-9753T0S9SM@https://www.prolocopanza.it/
DTSTAMP:20260422T145010Z
DESCRIPTION:Le cantine del percorso Biancolella:\n1. CANTINA SCARDECCHIAVia
  Succhivo - Serrara FontanaTel. 081 909062Cantina storica del paese\, pass
 ata di generazione in generazione per tre secoli tra le mani sapienti dell
 a famiglia Iacono. Attualmente si producono vino bianco\, rosso\, spumante
  misto e Sorriso.\n2. ANTICA FATTORIA GRECAVia Sorgeto\, 51 - ForioTel: 08
 1 908102 - 081 909277www.puntachiarito.it - info@puntachiarito.itL’azienda
  si contraddistingue per la produzione di vini speciali locali come Ischia
  Bianco e Ischia Rosso. Presso la struttura è possibile degustare i vini\,
  visitare il vigneto. La produzione si basa sulla più genuina tradizione c
 ontadina ischitana.\n3. CANTINA RAUSTELLAVia Lorenzo Fiore - Serrara Fonta
 naCell. 3478128485Alle pendici del monte Epomeo\, in grotte scavate\, in g
 rotte scavate nella montagna dagli antichi ischitani\, saggi contadini con
 tinuano a produrre il vino con i sistemi dei padri. Tra questi\, Francesco
  Mattera detto Raustella\, nella sua cantina in Serrara\, alla veneranda e
 ta’ di 90 anni continua a produrre il meraviglioso nettare degli dei. Comp
 letamente restaurata da Giuseppe Mattera oggi scrigno delle antiche tradiz
 ioni vitivinicole...\nPrezzo del percorso € 30 https://www.prolocopanza.it
 /en/calendario-eventi-archiviati/event/14554-percorso-biancolella
DTSTART:20220930T080000Z
DTEND:20220930T120000Z
LOCATION:Pro Loco Panza Ischia (Via Cavaliere Leonardo Impagliazzo\, 144\, 
 80075 Forio NA\, Italia)
SUMMARY:Percorso Biancolella
URL:https://www.prolocopanza.it/en/calendario-eventi-archiviati/event/14554
 -percorso-biancolella
END:VEVENT
BEGIN:VEVENT
UID:20260422T165010CEST-9759ZSMeD3@https://www.prolocopanza.it/
DTSTAMP:20260422T145010Z
DESCRIPTION:Veliero La Rondine: imbarcazione di 23 mt del 1924 adibita a tr
 asporto delle botti e poi ristrutturata negli anni 80 e sulla quale sono s
 tati ospiti artisti quali Totò\, Gina Lollobrigida\, Sofia Loren.\nCon il 
 veliero La Rondine alla scoperta dei primi insediamenti sull’ isola di Phi
 tecusae\, passando per il promontorio di montevico e la Baia di San Montan
 o con degustazione di vino e prodotti tipici a bordo.\nPartenza da Ischia 
 Ponte alle ore 10.30Percorso guidato con degustazione di vini e bruschette
  a bordo. Prenotazione obbligatorio\, € 70 https://www.prolocopanza.it/en/
 calendario-eventi-archiviati/event/14565-le-vigne-del-mare-con-il-veliero-
 la-rondine
DTSTART:20220930T083000Z
DTEND:20220930T143000Z
LOCATION:Ischia Ponte (Lungomare Re Alfonzo D'Aragona\, 6\, 80077 Ischia NA
 \, Italia)
SUMMARY:Le vigne del mare con il veliero La Rondine
URL:https://www.prolocopanza.it/en/calendario-eventi-archiviati/event/14565
 -le-vigne-del-mare-con-il-veliero-la-rondine
END:VEVENT
BEGIN:VEVENT
UID:20260422T165010CEST-97644FH0rS@https://www.prolocopanza.it/
DTSTAMP:20260422T145010Z
DESCRIPTION:Percorso guidato con degustazione di vini e prodotti tipici loc
 ali al chiaro di luna settembrina in alcune tra le più belle e suggestive 
 cantine ischitane.\nPrezzo del percorso € 40 https://www.prolocopanza.it/e
 n/calendario-eventi-archiviati/event/14568-cantinando-sotto-le-stelle
DTSTART:20220930T164500Z
DTEND:20220930T215900Z
LOCATION:Pro Loco Panza Ischia (Via Cavaliere Leonardo Impagliazzo\, 144\, 
 80075 Forio NA\, Italia)
SUMMARY:Cantinando sotto le stelle
URL:https://www.prolocopanza.it/en/calendario-eventi-archiviati/event/14568
 -cantinando-sotto-le-stelle
END:VEVENT
END:VCALENDAR
