BEGIN:VCALENDAR
VERSION:2.0
PRODID:-//https://www.prolocopanza.it///NONSGML kigkonsult.se iCalcreator 2.10.15//
METHOD:PUBLISH
BEGIN:VEVENT
UID:20260421T052440CEST-04480t61gt@https://www.prolocopanza.it/
DTSTAMP:20260421T032440Z
DESCRIPTION:Le cantine del percorso Epomeo:\nCANTINA RAUSTELLAVia Lorenzo F
 iore - Serrara FontanaCell. 3478128485Alle pendici del monte Epomeo\, in g
 rotte scavate\, in grotte scavate nella montagna dagli antichi ischitani\,
  saggi contadini continuano a produrre il vino con i sistemi dei padri. Tr
 a questi\, Francesco Mattera detto Raustella\, nella sua cantina in Serrar
 a\, alla veneranda eta’ di 90 anni continua a produrre il meraviglioso net
 tare degli dei. Completamente restaurata da Giuseppe Mattera oggi scrigno 
 delle antiche tradizioni vitivinicole...\nA‘ CANTIN E CIR’Antico Borgo di 
 Noia - Serrara FontanaTel. 081 999477Anticamente era una grotta la quale s
 erviva da rifugio alle varie incursioni di pirati. La famiglia Iacono la a
 cquistò insieme al vigneto all’inizio del ‘900. Essendo una famiglia di co
 ntadini\, il signor Ciro Iacono\, dopo il ’30\, la trasformò in cantina am
 pliandola e rendendola un locale funzionale per la produzione e la conserv
 azione del vino.\nA' CANTIN LU' SCULTOREIndirizzo: Via Casa Mattera\, 25 -
  FontanaContatti: 3337663548Poco distante dalla piazza di Fontana\, si tro
 va la cantina di Nicola Gioba. Cantina risalente al 1930 interamente costr
 uita in pietra di tufo da Nicolino 'a Panella.Ora rielaborata da Nicola Gi
 oba\, maestro scultore della pietra\, che attraverso le sue opere ha volut
 o immortalare alcuni momenti significativi della vendemmia. Ma potrete amm
 irare anche altre sculture che arricchiscono 'la cantina' e che la rendono
  unica.\nQuota di partecipazione 35\,00€ a persona https://www.prolocopanz
 a.it/en/calendario-eventi-archiviati/event/14645-andar-per-cantine-2023-pe
 rcorso-epomeo
DTSTART:20230929T080000Z
DTEND:20230929T120000Z
LOCATION:Piazza San Leonardo  (Via Cavaliere Leonardo Impagliazzo\, 65\, 80
 075 Forio NA\, Italia)
SUMMARY:Andar per cantine 2023: Percorso Epomeo
URL:https://www.prolocopanza.it/en/calendario-eventi-archiviati/event/14645
 -andar-per-cantine-2023-percorso-epomeo
END:VEVENT
BEGIN:VEVENT
UID:20260421T052440CEST-0455jhV5W3@https://www.prolocopanza.it/
DTSTAMP:20260421T032440Z
DESCRIPTION:Le cantine del percorso Biancolella:\nCANTINA SCARDECCHIASerrar
 a Fontana - Via Succhivo - Tel. +39 081 909062Cantina storica del paese\, 
 tramandata per tre secoli da una generazione all’altra della famiglia Iaco
 no. Attualmente si producono vino bianco\, rosso\, spumante misto e Sorris
 o\nANTICA FATTORIA GRECAForio - Via Sorgeto\, 51 Tel: +39 081908102 081194
 65224L’azienda si contraddistingue per la produzione di vini speciali loca
 li come Ischia Bianco e Ischia Rosso. Presso la struttura è possibile degu
 stare i vini\, visitare il vigneto. La produzione si basa sulla più genuin
 a tradizione contadina ischitana.\nCANTINA CALIMERASerrara Fontana - Via P
 ietra dell’Acqua\, n1-Tel. +39 3282162841Ai piedi del monte Epomeo\, nell’
 antico borgo di Calimera\, troverete un’antica cantina dell’800\, dove si 
 produceva vino proveniente dai vigneti di Serrara Fontana. Abbandonata per
  molti anni\, nel 2021 è stata cquisita dalla famiglia Coppola-Mattera\, c
 he l’ha riportata all’antico splendore.\nQuota di partecipazione 35\,00€ a
  persona https://www.prolocopanza.it/en/calendario-eventi-archiviati/event
 /14656-andar-per-cantine-2023-percorso-biancolella
DTSTART:20230929T080000Z
DTEND:20230929T120000Z
LOCATION:Piazza San Leonardo  (Via Cavaliere Leonardo Impagliazzo\, 65\, 80
 075 Forio NA\, Italia)
SUMMARY:Andar per cantine 2023: Percorso Biancolella
URL:https://www.prolocopanza.it/en/calendario-eventi-archiviati/event/14656
 -andar-per-cantine-2023-percorso-biancolella
END:VEVENT
BEGIN:VEVENT
UID:20260421T052440CEST-0461K0sAVP@https://www.prolocopanza.it/
DTSTAMP:20260421T032440Z
DESCRIPTION:\nLe cantine del percorso Frassitelli:\n\n&nbsp\;A ‘CANTIN E CI
 R’Antico Borgo di Noia - Serrara FontanaTel. 081 999477Anticamente era una
  grotta la quale serviva da rifugio alle varie incursioni di pirati. La fa
 miglia Iacono la acquistò insieme al vigneto all’inizio del ‘900. Essendo 
 una famiglia di contadini\, il signor Ciro Iacono\, dopo il ’30\, la trasf
 ormò in cantina ampliandola e rendendola un locale funzionale per la produ
 zione e la conservazione del vino.\n&nbsp\;\nA' CANTIN LU' SCULTOREIndiriz
 zo: Via Casa Mattera\, 25 - FontanaContatti: 3337663548Poco distante dalla
  piazza di Fontana\, si trova la cantina di Nicola Gioba. Cantina risalent
 e al 1930 interamente costruita in pietra di tufo da Nicolino 'a Panella.O
 ra rielaborata da Nicola Gioba\, maestro scultore della pietra\, che attra
 verso le sue opere ha voluto immortalare alcuni momenti significativi dell
 a vendemmia. Ma potrete ammirare anche altre sculture che arricchiscono 'l
 a cantina' e che la rendono unica.\n&nbsp\;\nCANTINA 'U SCILATUROVia Angel
 o Migliaccio\, 151 Tel. 3426226910La cantina della famiglia Di Costanzo si
  trova sulla parte alta di Barano\, in località Toccaneto. Centocinquanta 
 anni di tradizione racchiusi in un piccolo tempio del vino sapientemente r
 estaurato\, in cui è possibile ammirare le antiche pietre e i vecchi palme
 nti\, protagonisti di storiche vendemmie. L’azienda agricola\, a conduzion
 e famigliare\, produce un vino dal sapore&nbsp\; tipicamente ischitano.\nQ
 uota di partecipazione 35\,00 € a persona https://www.prolocopanza.it/en/c
 alendario-eventi-archiviati/event/14657-andar-per-cantine-2023-percorso-fr
 assitelli
DTSTART:20230929T130000Z
DTEND:20230929T160000Z
LOCATION:Pro Loco Panza Ischia (Via Cavaliere Leonardo Impagliazzo\, 144\, 
 80075 Forio NA\, Italia)
SUMMARY:Andar per cantine 2023: Percorso Frassitelli
URL:https://www.prolocopanza.it/en/calendario-eventi-archiviati/event/14657
 -andar-per-cantine-2023-percorso-frassitelli
END:VEVENT
BEGIN:VEVENT
UID:20260421T052440CEST-0467sfglR8@https://www.prolocopanza.it/
DTSTAMP:20260421T032440Z
DESCRIPTION:Le cantine del percorso Piedirosso:\nTENUTA GIOSUÉ COLELLAForio
  - Via S.Giuseppe 24 - Tel. +39 328 068 1061L’azienda agricola Colella vi 
 accoglierà tra il verde dei vigneti delle colline foriane. Visiterete l’an
 tica cantina scavata a mano in un unico blocco di tufo verde dai nostri av
 i. Degusterete vini di icchia e assaporerete le nostre specialità\, prodot
 te secondo antiche ricette di famiglia\, rimaste invariate da generazioni.
 ..\nCANTINA BELLAVISTAIndirizzo: Via Montecorvo\, 75 - 80075 ForioContatti
 : Tel. 081997221A pochi passi dal più esteso campo di fumarole dell’intera
  isola d’Ischia\, testimonianza della natura vulcanica del territorio\, so
 rge da più di duecento anni una cantina quasi interamente ricavata nel tuf
 o verde. Francesco Castiglione ne cura ogni minimo dettaglio\, benché i du
 e fusti che vi campeggiano all’interno siano\, oggi\, inutilizzati.\nCANTI
 NE PIETRATORCIAVia Provinciale Panza\, 267 - ForioTel. 081 908206/081 9072
 32 Fax: 081 908949www.pietratorcia.it - info@pietratorcia.itLe cantine di 
 Pietratorcia sono state create da tre antiche famiglie contadine ischitane
  Iacono\, Regine e Verde. Oltre sette ettari di terreno sono stati ripiant
 ati con vitigni selezionati.\nQuota di partecipazione 35\,00€ a persona ht
 tps://www.prolocopanza.it/en/calendario-eventi-archiviati/event/14658-anda
 r-per-cantine-2023-percorso-piedirosso
DTSTART:20230929T130000Z
DTEND:20230929T170000Z
LOCATION:Piazza San Leonardo  (Via Cavaliere Leonardo Impagliazzo\, 65\, 80
 075 Forio NA\, Italia)
SUMMARY:Andar per cantine 2023: Percorso Piedirosso
URL:https://www.prolocopanza.it/en/calendario-eventi-archiviati/event/14658
 -andar-per-cantine-2023-percorso-piedirosso
END:VEVENT
BEGIN:VEVENT
UID:20260421T052440CEST-04724jjJKi@https://www.prolocopanza.it/
DTSTAMP:20260421T032440Z
DESCRIPTION:Le cantine del percorso San Lunardo:\nCANTINA PELLICCIONEBarano
  - Via San Pietro Tel. +39 349 578 0618In località San Pietro\, la cantina
  Pelliccione è riferimento di convivialità del borgo di Buonopane. Fermars
 i a bere un buon bicchiere di vino\, nella frescura all’interno delle gran
 di grotte scavate nel tufo\, è un rito collettivo al quale si aggregano co
 n piacere i forestieri. Il microclima delle grotte conserva alla perfezion
 e il vino e gli altri prodotti tipici.\nAZIENDA AGRICOLA FILIPPO FLORIOBar
 ano - Via Ritola\, 6 Tel: . +39 347.9333701Impegnata nella viticoltura da 
 cinque generazioni\, la famiglia Florio produce vino con lieviti Biancolel
 la docg. Vanto dell’Azienda sono l’Epomeo Rosso e il Bianco Igp. Affinati 
 nell’antica cantina scavata nel tufo.\nAGRITURISMO GIASOLEBarano - Via Can
 diano 31/A - Tel. +39 347 674 7979L’azienda agrituristica Giasole grazie a
 ll’esposizione ideale dei suoi terreni\, vanta una grande varietà di frutt
 i e verdure in ogni stagione. Oltre alla produzione di vino\, che è tratto
  distintivo dell’Azienda. La trasformazione dei prodotti dell’orto di casa
 \, rigorosamente bio\, nei piatti tipici isolani ci permette di farli appr
 ezzare a tutti i nostri visitatori.\nQuota di partecipazione 35\,00€ a per
 sona https://www.prolocopanza.it/en/calendario-eventi-archiviati/event/146
 59-andar-per-cantine-2023-percorso-san-lunardo
DTSTART:20230929T130000Z
DTEND:20230929T160000Z
LOCATION:Piazza San Leonardo  (Via Cavaliere Leonardo Impagliazzo\, 65\, 80
 075 Forio NA\, Italia)
SUMMARY:Andar per cantine 2023: Percorso San Lunardo
URL:https://www.prolocopanza.it/en/calendario-eventi-archiviati/event/14659
 -andar-per-cantine-2023-percorso-san-lunardo
END:VEVENT
END:VCALENDAR
