BEGIN:VCALENDAR
VERSION:2.0
PRODID:-//https://www.prolocopanza.it///NONSGML kigkonsult.se iCalcreator 2.10.15//
METHOD:PUBLISH
BEGIN:VEVENT
UID:20260422T181727CEST-1243NFXRwi@https://www.prolocopanza.it/
DTSTAMP:20260422T161727Z
DESCRIPTION:Le cantine del percorso Epomeo:\n1. ANTICA FATTORIA GRECAVia So
 rgeto\, 51 - ForioTel. 081 908102 - 081 909277www.puntachiarito.it - info@
 puntachiarito.itL’azienda si contraddistingue per la produzione di vini sp
 eciali locali come Ischia Bianco e Ischia Rosso. Presso la struttura è pos
 sibile degustare i vini\, visitare il vigneto. La produzione si basa sulla
  più genuina tradizione contadina ischitana.\n2. A ‘CANTIN E CIR’Antico Bo
 rgo di Noia - Serrara FontanaTel. 081 999477Anticamente era una grotta la 
 quale serviva da rifugio alle varie incursioni di pirati. La famiglia Iaco
 no la acquistò insieme al vigneto all’inizio del ‘900. Essendo una famigli
 a di contadini\, il signor Ciro Iacono\, dopo il ’30\, la trasformò in can
 tina ampliandola e rendendola un locale funzionale per la produzione e la 
 conservazione del vino.\n3. CANTINA NONNO MICHELE DI TONYVia Pendio Oscuro
  - Serrara FontanaTel. 081 999570 - Mob. 3294410962La cantina di nonno Mic
 hele scavata nel 1908 nelle rocce di tufo ed utilizzata fino a 30 anni fa 
 per la conservazione del vino e delle botti. Caratteristica particolare de
 lla cantina\, ancora oggi visibile\, è la pietra sudaria\, da cui sgorga a
 cqua. La tradizione familiare\, oggi\, viene portata avanti dal nipote Ant
 onio Galano che l’ha resa uno speciale luogo di ritrovo dove turisti ed is
 olani.\nPrezzo del percorso € 30 https://www.prolocopanza.it/en/calendario
 -eventi-archiviati/event/14490-percorso-epomeo
DTSTART:20220929T080000Z
DTEND:20220929T120000Z
LOCATION:Pro Loco Panza Ischia (Via Cavaliere Leonardo Impagliazzo\, 144\, 
 80075 Forio NA\, Italia)
SUMMARY:Percorso Epomeo
URL:https://www.prolocopanza.it/en/calendario-eventi-archiviati/event/14490
 -percorso-epomeo
END:VEVENT
BEGIN:VEVENT
UID:20260422T181727CEST-1253RxwkeA@https://www.prolocopanza.it/
DTSTAMP:20260422T161727Z
DESCRIPTION:\nLe cantine del percorso Frassitelli:\n\n1. A' CANTIN E CIR’An
 tico Borgo di Noia - Serrara FontanaTel. 081 999477Anticamente era una gro
 tta la quale serviva da rifugio alle varie incursioni di pirati. La famigl
 ia Iacono la acquistò insieme al vigneto all’inizio del ‘900. Essendo una 
 famiglia di contadini\, il signor Ciro Iacono\, dopo il ’30\, la trasformò
  in cantina ampliandola e rendendola un locale funzionale per la produzion
 e e la conservazione del vino.\n&nbsp\;\n2. A' CANTIN LU' SCULTOREIndirizz
 o: Via Casa Mattera\, 25 - FontanaContatti: 3337663548Poco distante dalla 
 piazza di Fontana\, si trova la cantina di Nicola Gioba. Cantina risalente
  al 1930 interamente costruita in pietra di tufo da Nicolino 'a Panella.Or
 a rielaborata da Nicola Gioba\, maestro scultore della pietra\, che attrav
 erso le sue opere ha voluto immortalare alcuni momenti significativi della
  vendemmia. Ma potrete ammirare anche altre sculture che arricchiscono 'la
  cantina' e che la rendono unica.\n&nbsp\;\n3. CANTINA U' SCILATUROVia Ang
 elo Migliaccio\, 151 - Barano Cell. 3476243693 La cantina della famiglia D
 i Costanzo si trova sulla parte alta di Barano\, in località Toccaneto. Ce
 ntocinquanta anni di tradizione racchiusi in un piccolo tempio del vino sa
 pientemente restaurato\, in cui è possibile ammirare le antiche pietre e i
  vecchi palmenti\, protagonisti di storiche vendemmie. L’azienda agricola\
 , a conduzione famigliare\, produce\, a poca distanza da un orto rigoglios
 o\, un vino dal sapore tipicamente ischitano.\nPartenza dalla sede della P
 ro loco in piazza San Leonardo - Panza alle ore 15.00Prenotazione obbligat
 oria.Le escursioni comprendono: servizio navetta – guida – degustazione vi
 ni e prodotti tipici. I percorsi possono subire variazioni e modifiche in 
 base alle prenotazioni e alla disponibilità delle cantine.\n\n\n&nbsp\;\n
 \n\n&nbsp\;\n\n&nbsp\;\n&nbsp\;\n\n\n\n\n https://www.prolocopanza.it/en/c
 alendario-eventi-archiviati/event/14501-percorso-frassitelli
DTSTART:20220929T130000Z
DTEND:20220929T160000Z
LOCATION:Pro Loco Panza Ischia (Via Cavaliere Leonardo Impagliazzo\, 144\, 
 80075 Forio NA\, Italia)
SUMMARY:Percorso Frassitelli
URL:https://www.prolocopanza.it/en/calendario-eventi-archiviati/event/14501
 -percorso-frassitelli
END:VEVENT
BEGIN:VEVENT
UID:20260422T181727CEST-1264jhlX9p@https://www.prolocopanza.it/
DTSTAMP:20260422T161727Z
DESCRIPTION:Le cantine del percorso San Lunardo:\n1. CANTINA PELLICCIONEVia
  San Pietro - BuonopaneTel. +39 349 578 0618In località San Pietro\, la ca
 ntina Pelliccione è riferimento di convivialità del borgo. Fermarsi a bere
  un buon bicchiere di vino nella frescura all’interno delle grandi grotte 
 scavate nel tufo è un rito collettivo al quale si aggregano con piacere i 
 forestieri. Il microclima delle grotte conserva alla perfezione il vino e 
 gli altri prodotti tipici.\n2. AZIENDA AGRICOLA FILIPPO FLORIOVia Ritola\,
  6 - Barano d’IschiaTel. 347.9333701 - 081990642Impegnata nella viticoltur
 a da cinque generazioni\, la famiglia Florio produce vino con lieviti Bian
 colella docg. Vanto dell’Azienda sono l’Epomeo Rosso e il Bianco Igp. Affi
 nati nell’antica cantina scavata nel tufo.\n3. AGRITURISMO GIASOLEVia Cand
 iano 31/A - Barano d’IschiaTel. 347 674 7979L’azienda agrituristica Giasol
 e grazie all’esposizione ideale dei suoi terreni\, vanta una grande variet
 à di frutti e verdure in ogni stagione. Oltre alla produzione di vino che 
 è tratto distintivo dell’Azienda. La trasformazione dei prodotti dell’orto
  di casa\, rigorosamente bio\, nei piatti tipici isolani ci permette di fa
 rli apprezzare a tutti i nostri visitatori.\nPrezzo del percorso € 30 http
 s://www.prolocopanza.it/en/calendario-eventi-archiviati/event/14515-percor
 so-san-lunardo
DTSTART:20220929T130000Z
DTEND:20220929T160000Z
LOCATION:Pro Loco Panza Ischia (Via Cavaliere Leonardo Impagliazzo\, 144\, 
 80075 Forio NA\, Italia)
SUMMARY:Percorso San Lunardo
URL:https://www.prolocopanza.it/en/calendario-eventi-archiviati/event/14515
 -percorso-san-lunardo
END:VEVENT
BEGIN:VEVENT
UID:20260422T181727CEST-1270liIsv2@https://www.prolocopanza.it/
DTSTAMP:20260422T161727Z
DESCRIPTION:Le cantine del percorso Piedirosso:\n\n1. CANTINA SCARDECCHIAVi
 a Succhivo - Serrara FontanaTel. 081 909062Cantina storica del paese\, pas
 sata di generazione in generazione per tre secoli tra le mani sapienti del
 la famiglia Iacono. Attualmente si producono vino bianco\, rosso\, spumant
 e misto e Sorriso.\n2. CANTINA BELLAVISTAIndirizzo: Via Montecorvo\, 75 - 
 80075 ForioContatti: Tel. 081997221A pochi passi dal più esteso campo di f
 umarole dell’intera isola d’Ischia\, testimonianza della natura vulcanica 
 del territorio\, sorge da più di duecento anni una cantina quasi interamen
 te ricavata nel tufo verde. Francesco Castiglione ne cura ogni minimo dett
 aglio\, benché i due fusti che vi campeggiano all’interno siano\, oggi\, i
 nutilizzati.\n3. CANTINE PIETRATORCIAForio - Via Provinciale Panza\, 267Te
 l: 081 908206/081 907232 Fax: 081 908949www.pietratorcia.it - info@pietrat
 orcia.itLe cantine di Pietratorcia sono state create da tre antiche famigl
 ie contadine ischitane Iacono\, Regine e Verde. Oltre sette ettari di terr
 eno sono stati ripiantati con vitigni selezionati.\nPrezzo del percorso € 
 35 https://www.prolocopanza.it/en/calendario-eventi-archiviati/event/14532
 -percorso-piedirosso-pomeriggio
DTSTART:20220929T130000Z
DTEND:20220929T160000Z
LOCATION:Pro Loco Panza Ischia (Via Cavaliere Leonardo Impagliazzo\, 144\, 
 80075 Forio NA\, Italia)
SUMMARY:Percorso Piedirosso (Pomeriggio)
URL:https://www.prolocopanza.it/en/calendario-eventi-archiviati/event/14532
 -percorso-piedirosso-pomeriggio
END:VEVENT
BEGIN:VEVENT
UID:20260422T181727CEST-1274OvGnPb@https://www.prolocopanza.it/
DTSTAMP:20260422T161727Z
DESCRIPTION:Le cantine del percorso Piedirosso:\n\n1. CANTINA PASSARIELLOVi
 a Tironi\, 29 - ForioCell. +39 335 6341297La cantina si trova in località 
 Tironi ed è di proprietà della famiglia Russo dal 1956. Costruita interame
 nte in tufo verde nel lontano 1873\, era adibita per la produzione e la ve
 ndita di vino locale. Rappresenta sicuramente una delle cantine più antich
 e di Forio ed è perfettamente funzionante.\n2. CANTINA SCARDECCHIAVia Succ
 hivo - Serrara FontanaTel. 081 909062Cantina storica del paese\, passata d
 i generazione in generazione per tre secoli tra le mani sapienti della fam
 iglia Iacono. Attualmente si producono vino bianco\, rosso\, spumante mist
 o e Sorriso.\n3. AGRITURISMO SAPORI DELLA NONNAVia San Giuliano\, 27 - For
 ioCell. +39 3770843681L’agriturismo “I Sapori della nonna” rimarca l’antic
 a tradizione agricola della Famiglia Impagliazzo che dura da decenni\, la 
 cantina presente nella struttura è scavata nel tufo verde e risale al 1600
 . La cantina compare anche nel libro “Le case di pietra” di Luigi Ziviello
  dove sono presenti le più antiche grotte di tufo dell’isola d’Ischia.\nPr
 ezzo del percorso € 30 https://www.prolocopanza.it/en/calendario-eventi-ar
 chiviati/event/14543-percorso-piedirosso
DTSTART:20220929T080000Z
DTEND:20220929T110000Z
LOCATION:Pro Loco Panza Ischia (Via Cavaliere Leonardo Impagliazzo\, 144\, 
 80075 Forio NA\, Italia)
SUMMARY:Percorso Piedirosso
URL:https://www.prolocopanza.it/en/calendario-eventi-archiviati/event/14543
 -percorso-piedirosso
END:VEVENT
BEGIN:VEVENT
UID:20260422T181727CEST-1460bLox2m@https://www.prolocopanza.it/
DTSTAMP:20260422T161727Z
DESCRIPTION:Attraversando la zona di Torre di Mezzo tra vigneti a picco sul
  mare e roccia vulcanica biancastra raggiungeremo il paesino semi-abbandon
 ato di Piano Liguori\, fino ad arrivare ad ammirare&nbsp\; dall’alto la ba
 ia della Sgarrupata.\nDa questo punto\, proseguiremo percorrendo il sentie
 ro verso Monte Vezzi (400m). Ci dirigeremo poi\, presso l’Azienda Agricola
  “Pignatiello” dove&nbsp\; assaporeremo&nbsp\; na selezione di prodotti ti
 pici a cm 0.\nCrossing the Torre di Mezzo area through vineyards overlooki
 ng the sea and whitish volcanic rock we will reach the semi-abandoned vill
 age of Piano Liguori until you get to admire the Scarrupata bay from above
 . From this point\, we will continue along the path towards Monte Vezzi (4
 00m). We will then head to the “Pignatiello” farm where we will taste a se
 lection of typical products at 0 cm.\nINFO- Punto Partenza/Arrivo: (Depart
 ure / arrival point): Sede Proloco Panza\, Forio- Difficoltà: Media / Escu
 rsionista(Difficulty: Medium )- Durata: 6\,5h – 8km (soste incluse) Durati
 on: 6\,5h – 8km (stops included)- Degustazione: (Visit / Tasting): Azienda
  Agricola Pignatiello- Quota di partecipazione / Price 40 €\n&nbsp\;\n&nbs
 p\;\n&nbsp\; https://www.prolocopanza.it/en/calendario-eventi-archiviati/e
 vent/14557-il-sentiero-dei-vigneti-eroici
DTSTART:20220929T073000Z
DTEND:20220929T123000Z
LOCATION:Pro Loco Panza Ischia (Via Cavaliere Leonardo Impagliazzo\, 144\, 
 80075 Forio NA\, Italia)
SUMMARY:Il sentiero dei vigneti eroici
URL:https://www.prolocopanza.it/en/calendario-eventi-archiviati/event/14557
 -il-sentiero-dei-vigneti-eroici
END:VEVENT
BEGIN:VEVENT
UID:20260422T181727CEST-1465rWf7iE@https://www.prolocopanza.it/
DTSTAMP:20260422T161727Z
DESCRIPTION:Percorso guidato con degustazione di vini e prodotti tipici loc
 ali al chiaro di luna settembrina in alcune tra le più belle e suggestive 
 cantine ischitane.\nCOMPLETO https://www.prolocopanza.it/en/calendario-eve
 nti-archiviati/event/14563-cantinando-sotto-le-stelle
DTSTART:20220929T164500Z
DTEND:20220929T215900Z
LOCATION:Pro Loco Panza Ischia (Via Cavaliere Leonardo Impagliazzo\, 144\, 
 80075 Forio NA\, Italia)
SUMMARY:Cantinando sotto le stelle
URL:https://www.prolocopanza.it/en/calendario-eventi-archiviati/event/14563
 -cantinando-sotto-le-stelle
END:VEVENT
END:VCALENDAR
