BEGIN:VCALENDAR
VERSION:2.0
PRODID:-//https://www.prolocopanza.it///NONSGML kigkonsult.se iCalcreator 2.10.15//
METHOD:PUBLISH
BEGIN:VEVENT
UID:20260422T102139CEST-3867AbDEgU@https://www.prolocopanza.it/
DTSTAMP:20260422T082139Z
DESCRIPTION:Le cantine del percorso Epomeo:\n1. A ‘CANTIN E CIR’Antico Borg
 o di Noia - Serrara FontanaTel. 081 999477Anticamente era una grotta la qu
 ale serviva da rifugio alle varie incursioni di pirati. La famiglia Iacono
  la acquistò insieme al vigneto all’inizio del ‘900. Essendo una famiglia 
 di contadini\, il signor Ciro Iacono\, dopo il ’30\, la trasformò in canti
 na ampliandola e rendendola un locale funzionale per la produzione e la co
 nservazione del vino.\n2. CANTINA NONNO MICHELE DI TONYVia Pendio Oscuro -
  Serrara FontanaTel. 081 999570 - Mob. 3294410962La cantina di nonno Miche
 le scavata nel 1908 nelle rocce di tufo ed utilizzata fino a 30 anni fa pe
 r la conservazione del vino e delle botti. Caratteristica particolare dell
 a cantina\, ancora oggi visibile\, è la pietra sudaria\, da cui sgorga acq
 ua. La tradizione familiare\, oggi\, viene portata avanti dal nipote Anton
 io Galano che l’ha resa uno speciale luogo di ritrovo dove turisti ed isol
 ani.\n&nbsp\;3. CANTINA ‘O SCILATUROVia Angelo Migliaccio\, 151 - BaranoMo
 b. +39 3476243693La cantina della famiglia Di Costanzo si trova sulla part
 e alta di Barano\, in località Toccaneto. Centocinquanta anni di tradizion
 e racchiusi in un piccolo tempio del vino sapientemente restaurato\, in cu
 i è possibile ammirare le antiche pietre e i vecchi palmenti\, protagonist
 i di storiche vendemmie. L’azienda agricola\, a conduzione famigliare\, pr
 oduce\, a poca distanza da un orto rigoglioso\, un vino dal sapore tipicam
 ente ischitano.\nPartenza da Piazza S.Leonardo\, Panza ore 15.00 Prenotazi
 one obbligatoria per tutti i percorsi costo singolo percorso € 30\,00 Incl
 uso: navetta - visita alle cantine - guida - degustazione I percorsi posso
 no subire variazioni e modifiche in base alle prenotazioni e alla disponib
 ilità delle cantine.\nLa manifestazione si svolgerà nel pieno rispetto del
 le normative anticovid e si potrà partecipare esclusivamente se in possess
 o del Green Pass. https://www.prolocopanza.it/en/calendario-eventi-archivi
 ati/event/14361-andar-per-cantine-2021-percorso-epomeo
DTSTART:20210929T130000Z
DTEND:20210929T160000Z
LOCATION:Pro Loco Panza Ischia (Via Cavaliere Leonardo Impagliazzo\, 144\, 
 80075 Forio NA\, Italia)
SUMMARY:Andar per cantine 2021 - Percorso Epomeo
URL:https://www.prolocopanza.it/en/calendario-eventi-archiviati/event/14361
 -andar-per-cantine-2021-percorso-epomeo
END:VEVENT
BEGIN:VEVENT
UID:20260422T102139CEST-3876W9UIGO@https://www.prolocopanza.it/
DTSTAMP:20260422T082139Z
DESCRIPTION:Cantinando sotto le stelle... Percorso guidato con degustazioni
  di vini e prodotti tipici al chiaro di luna settembrina in alcune tra le 
 più belle e suggestive cantine ischitane.\nPercorso con Trenino.\nPartenza
  da Piazza S.Leonardo\, Panza Prenotazione obbligatoria per tutti i percor
 si costo singolo percorso € 40\,00Incluso: navetta - visita alle cantine -
  guida - degustazione I percorsi possono subire variazioni e modifiche in 
 base alle prenotazioni e alla disponibilità delle cantine.\nLa manifestazi
 one si svolgerà nel pieno rispetto delle normative anticovid e si potrà pa
 rtecipare esclusivamente se in possesso del Green Pass. https://www.proloc
 opanza.it/en/calendario-eventi-archiviati/event/14375-andar-per-cantine-20
 21-cantinando-sotto-le-stelle
DTSTART:20210929T170000Z
DTEND:20210929T215900Z
LOCATION:Pro Loco Panza Ischia (Via Cavaliere Leonardo Impagliazzo\, 144\, 
 80075 Forio NA\, Italia)
SUMMARY:Andar per cantine 2021 - Cantinando sotto le stelle
URL:https://www.prolocopanza.it/en/calendario-eventi-archiviati/event/14375
 -andar-per-cantine-2021-cantinando-sotto-le-stelle
END:VEVENT
BEGIN:VEVENT
UID:20260422T102139CEST-3880A0JHH9@https://www.prolocopanza.it/
DTSTAMP:20260422T082139Z
DESCRIPTION:\nLe cantine del percorso Frassitelli:\n\n1. CANTINA RAUSTELLAI
 ndirizzo: Via Lorenzo Fiore\, - Serrara FontanaContatti: 3478128485Alle pe
 ndici del monte Epomeo\, in grotte scavate\, in grotte scavate nella monta
 gna dagli antichi ischitani\, saggi contadini continuano a produrre il vin
 o con i sistemi dei padri. Tra questi\, Francesco Mattera detto Raustella\
 , nella sua cantina in Serrara\, alla veneranda eta’ di 90 anni continua a
  produrre il meraviglioso nettare degli dei. Completamente restaurata da G
 iuseppe Mattera oggi scrigno delle antiche tradizioni vitivinicole...\n&nb
 sp\;\n2. A ‘CANTIN E CIR’Antico Borgo di Noia - Serrara FontanaTel. 081 99
 9477Anticamente era una grotta la quale serviva da rifugio alle varie incu
 rsioni di pirati. La famiglia Iacono la acquistò insieme al vigneto all’in
 izio del ‘900. Essendo una famiglia di contadini\, il signor Ciro Iacono\,
  dopo il ’30\, la trasformò in cantina ampliandola e rendendola un locale 
 funzionale per la produzione e la conservazione del vino.\n&nbsp\;\n3. CAN
 TINA NONNO MICHELE DI TONYVia Pendio Oscuro - Serrara FontanaTel. 081 9995
 70 - Mob. 3294410962La cantina di nonno Michele scavata nel 1908 nelle roc
 ce di tufo ed utilizzata fino a 30 anni fa per la conservazione del vino e
  delle botti. Caratteristica particolare della cantina\, ancora oggi visib
 ile\, è la pietra sudaria\, da cui sgorga acqua. La tradizione familiare\,
  oggi\, viene portata avanti dal nipote Antonio Galano che l’ha resa uno s
 peciale luogo di ritrovo dove turisti ed isolani.\n\n\nPartenza da Piazza 
 S.Leonardo\, Panza ore 10:00Prenotazione obbligatoria per tutti i percorsi
  costo singolo percorso € 30\,00\nIncluso: navetta - visita alle cantine -
  guida - degustazione\nI percorsi possono subire variazioni e modifiche in
  base alle prenotazioni e alla disponibilità delle cantine.\n\n\nLa manife
 stazione si svolgerà nel pieno rispetto delle normative anticovid e si pot
 rà partecipare esclusivamente se in possesso del Green Pass. https://www.p
 rolocopanza.it/en/calendario-eventi-archiviati/event/14383-andar-per-canti
 ne-2021-percorso-frassitelli
DTSTART:20210929T080000Z
DTEND:20210929T110000Z
LOCATION:Pro Loco Panza Ischia (Via Cavaliere Leonardo Impagliazzo\, 144\, 
 80075 Forio NA\, Italia)
SUMMARY:Andar per cantine 2021 - Percorso Frassitelli
URL:https://www.prolocopanza.it/en/calendario-eventi-archiviati/event/14383
 -andar-per-cantine-2021-percorso-frassitelli
END:VEVENT
BEGIN:VEVENT
UID:20260422T102139CEST-3886IUjZof@https://www.prolocopanza.it/
DTSTAMP:20260422T082139Z
DESCRIPTION:\nPartiremo in prossimità del ristorante il Bracconiere\, nella
  zona di Bocca di Serra\, nel comune di Serrara Fontana. Ci dirigeremo in 
 direzione dei Frassitelli attraverso un paesaggio selvaggio ed affascinant
 e che ci porterà ad un affaccio sensazionale sul versante occidentale dell
 'isola. Tra massi erosi e sospesi da un lato e il mare dall'altro\, giunge
 remo all'ombra del bosco. Ammirata l'opera d'ingegneria che ha segnato il 
 volto dell'isola\, ricomincieremo il nostro cammino con gli occhi pieni di
  mare fino a giungere\, tramite una mulattiera\, Santa Maria al Monte\, ne
 l comune di Forio.Ci fermeremo per degustare prodotti tipici all'agrituris
 mo Malvsiello per poi riprendere il nostro cammino. Ci addentreremo nel bo
 sco della Falanga alla scoperta delle Case di Pietra.Lasciato il castagnet
 o\, rientreremo ai Frassitelli per tornare al nostro punto di partenza\, i
 l Bracconiere.tro.\nDifficoltà: E MediaDurata: 5 ore circaDislivello massi
 mo: 150 mLunghezza massima: 6\,5 kmLuogo di Incontro: Piazza di Panza\, Co
 mune di ForioCantina/Tenuta Visitata: Azienda Agricola MalvsielloAdatto a 
 bambini: Si\nGuide: Stefania – Alessandro\nPartenza in prossimità del rist
 orante il Bracconiere - ore 09:30&nbsp\; Prenotazione obbligatoria per tut
 ti i percorsi costo singolo percorso € 25\,00 Incluso: navetta - visita al
 le cantine - guida - degustazione I percorsi possono subire variazioni e m
 odifiche in base alle prenotazioni e alla disponibilità delle cantine.Info
  e prenotazioni: Tel. +39 081 908436 - Mob.+39 3345787963 +39 3496125250 +
 39 3385015970 www.prolocopanzaischia.it\n\nLa manifestazione si svolgerà n
 el pieno rispetto delle normative anticovid e si potrà partecipare esclusi
 vamente se in possesso del Green Pass. https://www.prolocopanza.it/en/cale
 ndario-eventi-archiviati/event/14402-andar-per-sentieri-2021-il-sentiero-d
 elle-case-di-pietra
DTSTART:20210929T073000Z
DTEND:20210929T123000Z
LOCATION:Piazza San Leonardo  (Via Cavaliere Leonardo Impagliazzo\, 65\, 80
 075 Forio NA\, Italia)
SUMMARY:Andar per sentieri 2021 - Il sentiero delle case di pietra
URL:https://www.prolocopanza.it/en/calendario-eventi-archiviati/event/14402
 -andar-per-sentieri-2021-il-sentiero-delle-case-di-pietra
END:VEVENT
BEGIN:VEVENT
UID:20260422T102139CEST-38941gasb5@https://www.prolocopanza.it/
DTSTAMP:20260422T082139Z
DESCRIPTION:Le cantine del percorso San Lunardo:\n1. CANTINA PASSARIELLOFor
 io - Via Tironi 29\,cell.: 335 6341297La cantina si trova in località Tiro
 ni ed è di proprietà della famiglia Russo dal 1956. Costruita interamente 
 in tufo verde nel lontano 1873\, era adibita per la produzione e la vendit
 a di vino locale. Rappresenta sicuramente una&nbsp\; delle cantine più ant
 iche di Forio ed è perfettamente funzionante.\n2. AZIENDA AGRICOLA VILLA S
 PADARAForio - Via Calosirto\, 82 Tel. 081.989584 | 011.5162038 Fax.081.986
 131 | 011. 5175486info@villaspadara.it | info@cooperativadoc.itVisitare l’
 azienda Agricola La Spadara vuol dire imparare a conoscere la storia ischi
 tana\, un viaggio nel passato e nelle tradizioni. L’azienda si estende su 
 7 ettari coltivati interamente in biologico ad agrumeto\, vigneto\, ulivet
 o e ortaggi. All’interno si trova anche l’antica casa colonica e le cantin
 e risalenti al 1600.\n3. CANTINA PIETRATORCIAForio - Via Provinciale Panza
 \, 267Tel: 081 908206/081 907232 Fax: 081 908949www.pietratorcia.it - info
 @pietratorcia.itLe cantine di Pietratorcia sono state create da tre antich
 e famiglie contadine ischitane Iacono\, Regine e Verde. Oltre sette ettari
  di terreno sono stati ripiantati con vitigni selezionati.\nPartenza da Pi
 azza S.Leonardo\, Panza ore 10:00 Prenotazione obbligatoria per tutti i pe
 rcorsi costo singolo percorso € 30\,00 Incluso: navetta - visita alle cant
 ine - guida - degustazione I percorsi possono subire variazioni e modifich
 e in base alle prenotazioni e alla disponibilità delle cantine. Info e pre
 notazioni: Tel. +39 081 908436 - Mob. +39 3345787963 +39 3496125250 +39 33
 85015970 www.prolocopanzaischia.it\nLa manifestazione si svolgerà nel pien
 o rispetto delle normative anticovid e si potrà partecipare esclusivamente
  se in possesso del Green Pass. https://www.prolocopanza.it/en/calendario-
 eventi-archiviati/event/14403-andar-per-cantine-2021-percorso-san-lunardo-
 mattina
DTSTART:20210929T080000Z
DTEND:20210929T110000Z
LOCATION:Pro Loco Panza Ischia (Via Cavaliere Leonardo Impagliazzo\, 144\, 
 80075 Forio NA\, Italia)
SUMMARY:Andar per cantine 2021 - Percorso San Lunardo (mattina)
URL:https://www.prolocopanza.it/en/calendario-eventi-archiviati/event/14403
 -andar-per-cantine-2021-percorso-san-lunardo-mattina
END:VEVENT
BEGIN:VEVENT
UID:20260422T102139CEST-3902RCjTlK@https://www.prolocopanza.it/
DTSTAMP:20260422T082139Z
DESCRIPTION:Le cantine del percorso San Lunardo:\n1. CANTINA PASSARIELLOFor
 io - Via Tironi 29\,cell.: 335 6341297La cantina si trova in località Tiro
 ni ed è di proprietà della famiglia Russo dal 1956. Costruita interamente 
 in tufo verde nel lontano 1873\, era adibita per la produzione e la vendit
 a di vino locale. Rappresenta sicuramente una&nbsp\; delle cantine più ant
 iche di Forio ed è perfettamente funzionante.\n2. CANTINA SCARDECCHIASerra
 ra Fontana - Via SucchivoTel. 081 909062Cantina storica del paese\, passat
 a di generazione in generazione per tre secoli tra le mani sapienti della 
 famiglia Iacono. Attualmente si producono vino bianco\, rosso\, spumante m
 isto e Sorriso.\n3. CANTINA PIETRATORCIAForio - Via Provinciale Panza\, 26
 7Tel: 081 908206/081 907232 Fax: 081 908949www.pietratorcia.it - info@piet
 ratorcia.itLe cantine di Pietratorcia sono state create da tre antiche fam
 iglie contadine ischitane Iacono\, Regine e Verde. Oltre sette ettari di t
 erreno sono stati ripiantati con vitigni selezionati.\nPartenza da Piazza 
 S.Leonardo\, Panza ore 15:00 Prenotazione obbligatoria per tutti i percors
 i costo singolo percorso € 30\,00 Incluso: navetta - visita alle cantine -
  guida - degustazione I percorsi possono subire variazioni e modifiche in 
 base alle prenotazioni e alla disponibilità delle cantine. Info e prenotaz
 ioni: Tel. +39 081 908436 - Mob. +39 3345787963 +39 3496125250 +39 3385015
 970 www.prolocopanzaischia.it\nLa manifestazione si svolgerà nel pieno ris
 petto delle normative anticovid e si potrà partecipare esclusivamente se i
 n possesso del Green Pass. https://www.prolocopanza.it/en/calendario-event
 i-archiviati/event/14404-andar-per-cantine-2021-percorso-san-lunardo-pomer
 iggio
DTSTART:20210929T130000Z
DTEND:20210929T160000Z
LOCATION:Pro Loco Panza Ischia (Via Cavaliere Leonardo Impagliazzo\, 144\, 
 80075 Forio NA\, Italia)
SUMMARY:Andar per cantine 2021 - Percorso San Lunardo (pomeriggio)
URL:https://www.prolocopanza.it/en/calendario-eventi-archiviati/event/14404
 -andar-per-cantine-2021-percorso-san-lunardo-pomeriggio
END:VEVENT
BEGIN:VEVENT
UID:20260422T102139CEST-3910BWkvnl@https://www.prolocopanza.it/
DTSTAMP:20260422T082139Z
DESCRIPTION:Alla scoperta del centro storico di Panza\n&nbsp\;\nPartendo da
 lla sede della Pro Loco Panza\, il percorso ci porterà alla scoperta del c
 aratteristico borgo di Panza\, noto sin dall'antichità per la sua pace e t
 ranquillità. Partendo dalla Parrocchia di San Leonardo\, patrono del luogo
 \, dove la fede si intreccia con storie di briganti e famiglie reali\, si 
 percorrerà l'antica via San Gennaro per visitare la chiesetta agostiniana 
 della Madonna delle Grazie. Si proseguirà verso la Congrega dell'Annunziat
 a e attraverso un vicoletto costellato da antichi portoni ed edicole votiv
 e\, si raggiungerà la caratteristica Tenuta Piromallo immersa nei vitigni\
 , per la degustazione finale. Il percorso sarà arricchito da momenti teatr
 ali e musicali.\nPunto di incontro: Pro Loco Panza. Prenotazione obbligato
 ria per tutti i percorsi costo singolo percorso € 25\,00.Include: escursio
 ne con guida\, sketch teatrali e musicali\, visita alla cantina\, degustaz
 ione. I percorsi possono subire variazioni e modifiche in base alle prenot
 azioni e alla disponibilità delle cantine.\nLa manifestazione si svolgerà 
 nel pieno rispetto delle normative anticovid e si potrà partecipare esclus
 ivamente se in possesso del Green Pass. https://www.prolocopanza.it/en/cal
 endario-eventi-archiviati/event/14405-andar-per-cantine-2021-percorso-arte
 splorando
DTSTART:20210929T133000Z
DTEND:20210929T163000Z
LOCATION:Piazza San Leonardo  (Via Cavaliere Leonardo Impagliazzo\, 65\, 80
 075 Forio NA\, Italia)
SUMMARY:Andar per cantine 2021 - Percorso Artesplorando
URL:https://www.prolocopanza.it/en/calendario-eventi-archiviati/event/14405
 -andar-per-cantine-2021-percorso-artesplorando
END:VEVENT
BEGIN:VEVENT
UID:20260422T102139CEST-39186jVG0E@https://www.prolocopanza.it/
DTSTAMP:20260422T082139Z
DESCRIPTION:\nPartenza nel paesino del Ciglio (Serrara Fontana) di fronte l
 a Chiesa di San Ciro. Il percorso ha inizio con i gradoni di Via Piedicuoz
 zo che ci collega alla strada provinciale 270 raggiungendo l’inizio vero e
  proprio del sentiero in Via Scarrupata.Percorrendo questa mulattiera attr
 averseremo vigneti\, le tipiche parracine e le cantine scavate nella pietr
 a\, giungendo poi alla Pietra Martone\, importante area vitivinicola che a
 ffaccia sull’intero territorio del comune di Forio.Qui avverrà la degustaz
 ione di prodotti locali presso la cantina Meletone dove immersi nei vignet
 i godremo di un fantastico tramonto.Al termine ripercorreremo Via Sgarrupa
 ta\, i gradoni di Via Piedicuozzo giungendo nuovamente alla Chiesa di San 
 Ciro.\nDifficoltà: E MediaDurata: 4 ore circaDislivello massimo: 100 mLung
 hezza massima: 2\,5kmLuogo di Incontro: Piazza di Panza\, Comune di ForioC
 antina/Tenuta Visitata: Cantina MeletoneAdatto a bambini: No\nGuide: Aless
 andro - Stefania\nPartenza&nbsp\;nel paesino del Ciglio (Serrara Fontana) 
 - ore 16:30&nbsp\; Prenotazione obbligatoria per tutti i percorsi. costo s
 ingolo percorso € 25\,00Incluso: navetta - visita alle cantine - guida - d
 egustazioneI percorsi possono subire variazioni e modifiche in base alle p
 renotazioni e alla disponibilità delle cantine.\n\nLa manifestazione si sv
 olgerà nel pieno rispetto delle normative anticovid e si potrà partecipare
  esclusivamente se in possesso del Green Pass. https://www.prolocopanza.it
 /en/calendario-eventi-archiviati/event/14406-andar-per-sentieri-2021-il-se
 ntiero-della-pietra-martone-al-tramonto
DTSTART:20210929T133000Z
DTEND:20210929T173000Z
LOCATION:Piazza San Leonardo  (Via Cavaliere Leonardo Impagliazzo\, 65\, 80
 075 Forio NA\, Italia)
SUMMARY:Andar per sentieri 2021 - Il sentiero della Pietra Martone al tramo
 nto
URL:https://www.prolocopanza.it/en/calendario-eventi-archiviati/event/14406
 -andar-per-sentieri-2021-il-sentiero-della-pietra-martone-al-tramonto
END:VEVENT
END:VCALENDAR
