BEGIN:VCALENDAR
VERSION:2.0
PRODID:-//https://www.prolocopanza.it///NONSGML kigkonsult.se iCalcreator 2.10.15//
METHOD:PUBLISH
BEGIN:VEVENT
UID:20260421T052446CEST-863836HEgG@https://www.prolocopanza.it/
DTSTAMP:20260421T032446Z
DESCRIPTION:Un sentiero ricco di essenze e colori delle piante tipiche dell
 a macchia mediterranea ci condurrà verso il monte di Panza. Attraverseremo
 \, poi\, un fitto boschetto e un tratto di radura caratterizzata da un man
 to di felci\, per raggiungere la baia della Pelara\, pregevole geosito di 
 carattere vulcanico.\n&nbsp\;Punto Partenza/Arrivo (Departure / arrival po
 int): Sede Proloco Panza\, Forio- Difficoltà: Facile / Turistica (Difficul
 ty: Easy)- Durata: 5\,5h – 6km (soste incluse) Duration: 5\,5h – 6km (stop
 s included)- Visita/Degustazione (Visit / Tasting): Antica Fattoria Greca
 \nQuota di partecipazione 30\,00€ a persona https://www.prolocopanza.it/en
 /calendario-eventi-archiviati/event/14587-andar-per-cantine-2023-il-sentie
 ro-delle-due-baie
DTSTART:20230928T073000Z
DTEND:20230928T120000Z
LOCATION:Pro Loco Panza Ischia (Via Cavaliere Leonardo Impagliazzo\, 144\, 
 80075 Forio NA\, Italia)
SUMMARY:Andar per cantine 2023: il sentiero delle due baie 
URL:https://www.prolocopanza.it/en/calendario-eventi-archiviati/event/14587
 -andar-per-cantine-2023-il-sentiero-delle-due-baie
END:VEVENT
BEGIN:VEVENT
UID:20260421T052446CEST-8643maC18g@https://www.prolocopanza.it/
DTSTAMP:20260421T032446Z
DESCRIPTION:Le cantine del percorso Biancolella:\nCANTINA SCARDECCHIASerrar
 a Fontana - Via Succhivo - Tel. +39 081 909062Cantina storica del paese\, 
 tramandata per tre secoli da una generazione all’altra della famiglia Iaco
 no. Attualmente si producono vino bianco\, rosso\, spumante misto e Sorris
 o\nANTICA FATTORIA GRECAForio - Via Sorgeto\, 51 Tel: +39 081908102 081194
 65224L’azienda si contraddistingue per la produzione di vini speciali loca
 li come Ischia Bianco e Ischia Rosso. Presso la struttura è possibile degu
 stare i vini\, visitare il vigneto. La produzione si basa sulla più genuin
 a tradizione contadina ischitana.\nTENUTA GIOSUÉ COLELLAForio - Via S.Gius
 eppe 24 - Tel. +39 328 068 1061L’azienda agricola Colella vi accoglierà tr
 a il verde dei vigneti delle colline foriane. Visiterete l’antica cantina 
 scavata a mano in un unico blocco di tufo verde dai nostri avi. Degusteret
 e vini di nicchia e assaporerete le nostre specialità\, prodotte secondo a
 ntiche ricette di famiglia\, rimaste invariate da generazioni...\nQuota di
  partecipazione 35\,00€ a persona https://www.prolocopanza.it/en/calendari
 o-eventi-archiviati/event/14604-andar-per-cantine-2023-percorso-biancolell
 a
DTSTART:20230928T080000Z
DTEND:20230928T120000Z
LOCATION:Piazza San Leonardo  (Via Cavaliere Leonardo Impagliazzo\, 65\, 80
 075 Forio NA\, Italia)
SUMMARY:Andar per cantine 2023: Percorso Biancolella
URL:https://www.prolocopanza.it/en/calendario-eventi-archiviati/event/14604
 -andar-per-cantine-2023-percorso-biancolella
END:VEVENT
BEGIN:VEVENT
UID:20260421T052446CEST-8647R3pINN@https://www.prolocopanza.it/
DTSTAMP:20260421T032446Z
DESCRIPTION:Le cantine del percorso San Lunardo:\nCANTINA PELLICCIONEBarano
  - Via San Pietro Tel. +39 349 578 0618In località San Pietro\, la cantina
  Pelliccione è riferimento di convivialità del borgo di Buonopane. Fermars
 i a bere un buon bicchiere di vino\, nella frescura all’interno delle gran
 di grotte scavate nel tufo\, è un rito collettivo al quale si aggregano co
 n piacere i forestieri. Il microclima delle grotte conserva alla perfezion
 e il vino e gli altri prodotti tipici.\nAZIENDA AGRICOLA FILIPPO FLORIOBar
 ano - Via Ritola\, 6 Tel: . +39 347.9333701Impegnata nella viticoltura da 
 cinque generazioni\, la famiglia Florio produce vino con lieviti Biancolel
 la docg. Vanto dell’Azienda sono l’Epomeo Rosso e il Bianco Igp. Affinati 
 nell’antica cantina scavata nel tufo.\nAGRITURISMO GIASOLEBarano - Via Can
 diano 31/A - Tel. +39 347 674 7979L’azienda agrituristica Giasole grazie a
 ll’esposizione ideale dei suoi terreni\, vanta una grande varietà di frutt
 i e verdure in ogni stagione. Oltre alla produzione di vino\, che è tratto
  distintivo dell’Azienda. La trasformazione dei prodotti dell’orto di casa
 \, rigorosamente bio\, nei piatti tipici isolani ci permette di farli appr
 ezzare a tutti i nostri visitatori.\nQuota di partecipazione 35\,00€ a per
 sona https://www.prolocopanza.it/en/calendario-eventi-archiviati/event/146
 12-andar-per-cantine-2023-percorso-san-lunardo
DTSTART:20230928T130000Z
DTEND:20230928T160000Z
LOCATION:Piazza San Leonardo  (Via Cavaliere Leonardo Impagliazzo\, 65\, 80
 075 Forio NA\, Italia)
SUMMARY:Andar per cantine 2023: Percorso San Lunardo
URL:https://www.prolocopanza.it/en/calendario-eventi-archiviati/event/14612
 -andar-per-cantine-2023-percorso-san-lunardo
END:VEVENT
BEGIN:VEVENT
UID:20260421T052446CEST-8652zGKIGt@https://www.prolocopanza.it/
DTSTAMP:20260421T032446Z
DESCRIPTION:Le cantine del percorso Aragonese:\nLA VIGNA DEL CASTELLO ARAGO
 NESEIschia - Castello Aragonese - Tel. +39 081 99 28 34Il vino nasce da uv
 e Biancolella che maturano in pieno sole sul Castello Aragonese di Ischia\
 , in un vigneto panoramico riattivato grazie alla volontà di Gabriele Matt
 era e sua moglie Karin con i figli Nicola e Anna Cristina Un vino prodotto
  secondo la tradizione isolana\, in un terreno a vigna fin dal Medioevo.\n
 Quota di partecipazione 40\,00 € a persona https://www.prolocopanza.it/en/
 calendario-eventi-archiviati/event/14619-andar-per-cantine-2023-percorso-a
 ragonese
DTSTART:20230928T130000Z
DTEND:20230928T170000Z
LOCATION:Piazzale delle alghe (Via Boccaccio\, 1\, 80077 Ischia NA\, Italia
 )
SUMMARY:Andar per cantine 2023: Percorso Aragonese
URL:https://www.prolocopanza.it/en/calendario-eventi-archiviati/event/14619
 -andar-per-cantine-2023-percorso-aragonese
END:VEVENT
BEGIN:VEVENT
UID:20260421T052446CEST-8656r00nfm@https://www.prolocopanza.it/
DTSTAMP:20260421T032446Z
DESCRIPTION:\nLe cantine del percorso Frassitelli:\n\nA ‘CANTIN E CIR’Antic
 o Borgo di Noia - Serrara FontanaTel. 081 999477Anticamente era una grotta
  la quale serviva da rifugio alle varie incursioni di pirati. La famiglia 
 Iacono la acquistò insieme al vigneto all’inizio del ‘900. Essendo una fam
 iglia di contadini\, il signor Ciro Iacono\, dopo il ’30\, la trasformò in
  cantina ampliandola e rendendola un locale funzionale per la produzione e
  la conservazione del vino.\n&nbsp\;\nCANTINA 'U SCILATUROVia Angelo Migli
 accio\, 151 Tel. 3426226910La cantina della famiglia Di Costanzo si trova 
 sulla parte alta di Barano\, in località Toccaneto. Centocinquanta anni di
  tradizione racchiusi in un piccolo tempio del vino sapientemente restaura
 to\, in cui è possibile ammirare le antiche pietre e i vecchi palmenti\, p
 rotagonisti di storiche vendemmie. L’azienda agricola\, a conduzione famig
 liare\, produce un vino dal sapore&nbsp\; tipicamente ischitano.\n&nbsp\;
 \nA‘ CANTINA DI NONNO MICHELE DA TONYSerrara Fontana - Via Pendio OscuroCe
 ll. 3294410962 - Tel. 081 999570La cantina di nonno Michele scavata nel 19
 08 nelle rocce di tufo ed utilizzata fino a 30 anni fa per la conservazion
 e del vino e delle botti. Caratteristica particolare della cantina\, ancor
 a oggi visibile\, è la pietra sudaria\, da cui sgorga acqua. La tradizione
  familiare\, oggi\, viene portata avanti dal nipote Antonio Galano che l’h
 a resa uno speciale luogo di ritrovo dove turisti ed isolani.\nQuota di pa
 rtecipazione 35\,00€ a persona https://www.prolocopanza.it/en/calendario-e
 venti-archiviati/event/14630-andar-per-cantine-2023-percorso-frassitelli
DTSTART:20230928T130000Z
DTEND:20230928T160000Z
LOCATION:Pro Loco Panza Ischia (Via Cavaliere Leonardo Impagliazzo\, 144\, 
 80075 Forio NA\, Italia)
SUMMARY:Andar per cantine 2023: Percorso Frassitelli
URL:https://www.prolocopanza.it/en/calendario-eventi-archiviati/event/14630
 -andar-per-cantine-2023-percorso-frassitelli
END:VEVENT
BEGIN:VEVENT
UID:20260421T052446CEST-8661n9325u@https://www.prolocopanza.it/
DTSTAMP:20260421T032446Z
DESCRIPTION:Le cantine del percorso Piedirosso:\nCANTINA PASSARIELLOVia Tir
 oni\, 29 *- ForioCell. 335 6341297La cantina si trova in località Tironi e
 d è di proprietà della famiglia Russo dal 1956. Costruita interamente in t
 ufo verde nel lontano 1873\, era adibita per la produzione e la vendita di
  vino locale. Rappresenta sicuramente una delle cantine più antiche di For
 io ed è perfettamente funzionante.\nCANTINA SCARDECCHIAVia Succhivo - Serr
 ara FontanaTel. 081 909062Cantina storica del paese\, passata di generazio
 ne in generazione per tre secoli tra le mani sapienti della famiglia Iacon
 o. Attualmente si producono vino bianco\, rosso\, spumante misto e Sorriso
 .\nTENUTA CALITTOForio - Via Provinciale Panza 486 Tel. 081 90 72 46Una di
 mora nobiliare di campagna del XVIII secolo\, finemente restaurata\, al ce
 ntro di un esteso vigneto in una valletta inondata di sole e dominata dall
 ’inconfondibile sagoma del massiccio dell’Epomeo. Vini i qualità in un luo
 go di grande suggestione.\nQuota di partecipazione 35\,00€ a persona https
 ://www.prolocopanza.it/en/calendario-eventi-archiviati/event/14648-andar-p
 er-cantine-2023-percorso-piedirosso
DTSTART:20230928T130000Z
DTEND:20230928T170000Z
LOCATION:Piazza San Leonardo  (Via Cavaliere Leonardo Impagliazzo\, 65\, 80
 075 Forio NA\, Italia)
SUMMARY:Andar per cantine 2023: Percorso Piedirosso
URL:https://www.prolocopanza.it/en/calendario-eventi-archiviati/event/14648
 -andar-per-cantine-2023-percorso-piedirosso
END:VEVENT
BEGIN:VEVENT
UID:20260421T052446CEST-8665GcwP2v@https://www.prolocopanza.it/
DTSTAMP:20260421T032446Z
DESCRIPTION:Le cantine del percorso Epomeo:\nCANTINA CALIMERASerrara Fontan
 a - Via Pietra dell’Acqua\, n1-Tel. +39 3282162841Ai piedi del monte Epome
 o\, nell’antico borgo di Calimera\, troverete un’antica cantina dell’800\,
  dove si produceva vino proveniente dai vigneti di Serrara Fontana. Abband
 onata per molti anni\, nel 2021 è stata cquisita dalla famiglia Coppola-Ma
 ttera\, che l’ha riportata all’antico splendore.\nA‘ CANTIN E CIR’Antico B
 orgo di Noia - Serrara FontanaTel. 081 999477Anticamente era una grotta la
  quale serviva da rifugio alle varie incursioni di pirati. La famiglia Iac
 ono la acquistò insieme al vigneto all’inizio del ‘900. Essendo una famigl
 ia di contadini\, il signor Ciro Iacono\, dopo il ’30\, la trasformò in ca
 ntina ampliandola e rendendola un locale funzionale per la produzione e la
  conservazione del vino.\nCANTINA RAUSTELLAVia Lorenzo Fiore - Serrara Fon
 tanaCell. 3478128485Alle pendici del monte Epomeo\, in grotte scavate\, in
  grotte scavate nella montagna dagli antichi ischitani\, saggi contadini c
 ontinuano a produrre il vino con i sistemi dei padri. Tra questi\, Frances
 co Mattera detto Raustella\, nella sua cantina in Serrara\, alla veneranda
  eta’ di 90 anni continua a produrre il meraviglioso nettare degli dei. Co
 mpletamente restaurata da Giuseppe Mattera oggi scrigno delle antiche trad
 izioni vitivinicole...\nQuota di partecipazione 35\,00€ a persona https://
 www.prolocopanza.it/en/calendario-eventi-archiviati/event/14655-andar-per-
 cantine-2023-percorso-epomeo
DTSTART:20230928T080000Z
DTEND:20230928T120000Z
LOCATION:Piazza San Leonardo  (Via Cavaliere Leonardo Impagliazzo\, 65\, 80
 075 Forio NA\, Italia)
SUMMARY:Andar per cantine 2023: Percorso Epomeo
URL:https://www.prolocopanza.it/en/calendario-eventi-archiviati/event/14655
 -andar-per-cantine-2023-percorso-epomeo
END:VEVENT
BEGIN:VEVENT
UID:20260421T052446CEST-8670zVD1mc@https://www.prolocopanza.it/
DTSTAMP:20260421T032446Z
DESCRIPTION:Percorso guidato con degustazione di vini e prodotti tipici loc
 ali al chiaro di luna settembrina in alcune tra le più belle e suggestive 
 cantine ischitane.\nQuota di partecipazione € 40\,00 a persona https://www
 .prolocopanza.it/en/calendario-eventi-archiviati/event/14675-cantinando-so
 tto-le-stelle
DTSTART:20230928T164500Z
DTEND:20230928T215900Z
LOCATION:Pro Loco Panza Ischia (Via Cavaliere Leonardo Impagliazzo\, 144\, 
 80075 Forio NA\, Italia)
SUMMARY:Cantinando sotto le stelle
URL:https://www.prolocopanza.it/en/calendario-eventi-archiviati/event/14675
 -cantinando-sotto-le-stelle
END:VEVENT
END:VCALENDAR
