BEGIN:VCALENDAR
VERSION:2.0
PRODID:-//https://www.prolocopanza.it///NONSGML kigkonsult.se iCalcreator 2.10.15//
METHOD:PUBLISH
BEGIN:VEVENT
UID:20260422T142414CEST-4842uXcbC4@https://www.prolocopanza.it/
DTSTAMP:20260422T122414Z
DESCRIPTION:Partendo dalla piazzetta della frazione Panza si attraverserà l
 ’abitato fino a raggiungere un sentiero ricco di essenze e colori delle pi
 ante tipiche della macchia mediterranea che ci condurrà verso il promontor
 io di Capo Negro. Questo luogo ci darà la stessa sensazione che potremmo a
 vere dalla prua di una nave permettendoci di scorgere a destra e sinistra 
 le meravigliose baie della Pelara e di Sorgeto. Dopo la sosta in questo pu
 nto panoramico\, attraverseremo un fitto boschetto di lecci ed eriche e un
  tratto di radura caratterizzata da un manto di felci\, per raggiungere la
  baia della Pelara\, pregevole geosito di carattere vulcanico. La seconda 
 perla rappresentata dalla baia di Sorgeto si raggiungerà percorrendo a rit
 roso un tratto del sentiero fino ad incontrare una stradina che condurrà a
 l belvedere che si affaccia sulla baia di Sorgeto. La sosta prevede anche 
 la permanenza al Ristorante Chiarito per una degustazione di prodotti tipi
 ci\, con la possibilità di ammirare la baia di Sorgeto dall’alto. Dopo la 
 sosta un percorso gradonato con circa 100 scalini ci consentirà di raggiun
 gere le vasche naturali intagliate nel tufo in cui si miscela l’acqua term
 ale che emerge a 90° con l’acqua di mare e per chi lo vorrà ci sarà la pos
 sibilità di fare un bagno nelle miracolose acque della baia.\nDETTAGLI - P
 unto Partenza/Arrivo: Panza\, Forio- Luogo di incontro: Sede Pro Loco - Pi
 azza san Leonardo\, Panza\, Forio - Difficoltà: Facile / Turistica- Durata
 : 5h – 6km (soste incluse)- Degustazione: Ristorante Chiarito- Quota di pa
 rtecipazione 30 €\n&nbsp\; https://www.prolocopanza.it/en/calendario-event
 i-archiviati/event/14471-il-sentiero-delle-due-baie
DTSTART:20220928T073000Z
DTEND:20220928T123000Z
LOCATION:Pro Loco Panza Ischia (Via Cavaliere Leonardo Impagliazzo\, 144\, 
 80075 Forio NA\, Italia)
SUMMARY:Il sentiero delle due baie
URL:https://www.prolocopanza.it/en/calendario-eventi-archiviati/event/14471
 -il-sentiero-delle-due-baie
END:VEVENT
BEGIN:VEVENT
UID:20260422T142414CEST-4850fUPRJa@https://www.prolocopanza.it/
DTSTAMP:20260422T122414Z
DESCRIPTION:Le cantine del percorso Epomeo:\n1. A ‘CANTIN E CIR’Antico Borg
 o di Noia - Serrara FontanaTel. 081 999477Anticamente era una grotta la qu
 ale serviva da rifugio alle varie incursioni di pirati. La famiglia Iacono
  la acquistò insieme al vigneto all’inizio del ‘900. Essendo una famiglia 
 di contadini\, il signor Ciro Iacono\, dopo il ’30\, la trasformò in canti
 na ampliandola e rendendola un locale funzionale per la produzione e la co
 nservazione del vino.\n2. CANTINA NONNO MICHELE DI TONYVia Pendio Oscuro -
  Serrara FontanaTel. 081 999570 - Mob. 3294410962La cantina di nonno Miche
 le scavata nel 1908 nelle rocce di tufo ed utilizzata fino a 30 anni fa pe
 r la conservazione del vino e delle botti. Caratteristica particolare dell
 a cantina\, ancora oggi visibile\, è la pietra sudaria\, da cui sgorga acq
 ua. La tradizione familiare\, oggi\, viene portata avanti dal nipote Anton
 io Galano che l’ha resa uno speciale luogo di ritrovo dove turisti ed isol
 ani.\n3. CANTINA RAUSTELLAIndirizzo: Via Lorenzo Fiore\, - Serrara Fontana
 Contatti: 3478128485Alle pendici del monte Epomeo\, in grotte scavate\, in
  grotte scavate nella montagna dagli antichi ischitani\, saggi contadini c
 ontinuano a produrre il vino con i sistemi dei padri. Tra questi\, Frances
 co Mattera detto Raustella\, nella sua cantina in Serrara\, alla veneranda
  eta’ di 90 anni continua a produrre il meraviglioso nettare degli dei. Co
 mpletamente restaurata da Giuseppe Mattera oggi scrigno delle antiche trad
 izioni vitivinicole...\nPrezzo del percorso € 30 https://www.prolocopanza.
 it/en/calendario-eventi-archiviati/event/14484-percorso-epomeo
DTSTART:20220928T080000Z
DTEND:20220928T120000Z
LOCATION:Pro Loco Panza Ischia (Via Cavaliere Leonardo Impagliazzo\, 144\, 
 80075 Forio NA\, Italia)
SUMMARY:Percorso Epomeo
URL:https://www.prolocopanza.it/en/calendario-eventi-archiviati/event/14484
 -percorso-epomeo
END:VEVENT
BEGIN:VEVENT
UID:20260422T142414CEST-4857enExwb@https://www.prolocopanza.it/
DTSTAMP:20260422T122414Z
DESCRIPTION:\nLe cantine del percorso Frassitelli:\n\n1. A ‘CANTIN E CIR’An
 tico Borgo di Noia - Serrara FontanaTel. 081 999477Anticamente era una gro
 tta la quale serviva da rifugio alle varie incursioni di pirati. La famigl
 ia Iacono la acquistò insieme al vigneto all’inizio del ‘900. Essendo una 
 famiglia di contadini\, il signor Ciro Iacono\, dopo il ’30\, la trasformò
  in cantina ampliandola e rendendola un locale funzionale per la produzion
 e e la conservazione del vino.\n&nbsp\;\n2. A ‘CANTINA DI NONNO MICHELE DA
  TONYSerrara Fontana - Via Pendio OscuroCell. 3294410962 - Tel. 081 999570
 La cantina di nonno Michele scavata nel 1908 nelle rocce di tufo ed utiliz
 zata fino a 30 anni fa per la conservazione del vino e delle botti. Caratt
 eristica particolare della cantina\, ancora oggi visibile\, è la pietra su
 daria\, da cui sgorga acqua. La tradizione familiare\, oggi\, viene portat
 a avanti dal nipote Antonio Galano che l’ha resa uno speciale luogo di rit
 rovo dove turisti ed isolani.\n&nbsp\;\n3. CANTINA CENATIEMPO***\nPartenza
  dalla sede della Pro loco in piazza San Leonardo - Panza alle ore 15.00Pr
 enotazione obbligatoria.Le escursioni comprendono: servizio navetta – guid
 a – degustazione vini e prodotti tipici. I percorsi possono subire variazi
 oni e modifiche in base alle prenotazioni e alla disponibilità delle canti
 ne.\nPrezzo del percorso € 30 https://www.prolocopanza.it/en/calendario-ev
 enti-archiviati/event/14499-percorso-frassitelli
DTSTART:20220928T130000Z
DTEND:20220928T160000Z
LOCATION:Pro Loco Panza Ischia (Via Cavaliere Leonardo Impagliazzo\, 144\, 
 80075 Forio NA\, Italia)
SUMMARY:Percorso Frassitelli
URL:https://www.prolocopanza.it/en/calendario-eventi-archiviati/event/14499
 -percorso-frassitelli
END:VEVENT
BEGIN:VEVENT
UID:20260422T142414CEST-48653kPITR@https://www.prolocopanza.it/
DTSTAMP:20260422T122414Z
DESCRIPTION:Le cantine del percorso San Lunardo:\n1. CANTINA PELLICCIONEVia
  San Pietro - BuonopaneTel. +39 349 578 0618In località San Pietro\, la ca
 ntina Pelliccione è riferimento di convivialità del borgo. Fermarsi a bere
  un buon bicchiere di vino nella frescura all’interno delle grandi grotte 
 scavate nel tufo è un rito collettivo al quale si aggregano con piacere i 
 forestieri. Il microclima delle grotte conserva alla perfezione il vino e 
 gli altri prodotti tipici.\n2. AZIENDA AGRICOLA FILIPPO FLORIOVia Ritola\,
  6 - Barano d’IschiaTel. 347.9333701 - 081990642Impegnata nella viticoltur
 a da cinque generazioni\, la famiglia Florio produce vino con lieviti Bian
 colella docg. Vanto dell’Azienda sono l’Epomeo Rosso e il Bianco Igp. Affi
 nati nell’antica cantina scavata nel tufo.\n3. AGRITURISMO GIASOLEVia Cand
 iano 31/A - Barano d’IschiaTel. 347 674 7979L’azienda agrituristica Giasol
 e grazie all’esposizione ideale dei suoi terreni\, vanta una grande variet
 à di frutti e verdure in ogni stagione. Oltre alla produzione di vino che 
 è tratto distintivo dell’Azienda. La trasformazione dei prodotti dell’orto
  di casa\, rigorosamente bio\, nei piatti tipici isolani ci permette di fa
 rli apprezzare a tutti i nostri visitatori.\nPrezzo del percorso € 30 http
 s://www.prolocopanza.it/en/calendario-eventi-archiviati/event/14514-percor
 so-san-lunardo
DTSTART:20220928T130000Z
DTEND:20220928T160000Z
LOCATION:Pro Loco Panza Ischia (Via Cavaliere Leonardo Impagliazzo\, 144\, 
 80075 Forio NA\, Italia)
SUMMARY:Percorso San Lunardo
URL:https://www.prolocopanza.it/en/calendario-eventi-archiviati/event/14514
 -percorso-san-lunardo
END:VEVENT
BEGIN:VEVENT
UID:20260422T142414CEST-4870gzWXkJ@https://www.prolocopanza.it/
DTSTAMP:20260422T122414Z
DESCRIPTION:Un sentiero ricco di essenze e colori delle piante tipiche dell
 a macchia mediterranea ci condurrà verso il monte di Panza. Attraverseremo
  poi\, un fitto boschetto e un tratto di radura&nbsp\; aratterizzata da un
  manto di felci\, per raggiungere la baia della Pelara\, pregevole geosito
  di carattere vulcanico. Successivamente andremo in direzione della tenuta
  di alveari Oro d’Ischia con&nbsp\; visita e degustazione del miele ed alt
 ri prodotti delle loro api.\nA path full of essences and colors of the typ
 ical plants of the Mediterranean scrub will lead us to Mount Panza. We wil
 l then cross a dense grove of holm oaks and heather and a stretch of clear
 ing characterized by a mantle of ferns\, to reach Pelara bay\, a valuable 
 site of volcanic nature. Then we will go in the direction of the Oro d’Isc
 hia beehive estate with a visit and tasting of honey and other products of
  their bees.\nINFO- Punto Partenza/Arrivo (Departure / arrival point): Sed
 e Proloco Panza\, Forio- Difficoltà: Facile / Turistica (Difficulty: Easy)
 - Durata: 5\,5h – 6km (soste incluse) Duration: 5\,5h – 6km (stops include
 d)- Visita/Degustazione (Visit / Tasting): Tenuta Alveari Oro d’Ischia- Qu
 ota di partecipazione / Price: 30 € https://www.prolocopanza.it/en/calenda
 rio-eventi-archiviati/event/14519-il-sentiero-delle-due-baie
DTSTART:20220928T073000Z
DTEND:20220928T123000Z
LOCATION:Pro Loco Panza Ischia (Via Cavaliere Leonardo Impagliazzo\, 144\, 
 80075 Forio NA\, Italia)
SUMMARY:Il sentiero delle due baie
URL:https://www.prolocopanza.it/en/calendario-eventi-archiviati/event/14519
 -il-sentiero-delle-due-baie
END:VEVENT
BEGIN:VEVENT
UID:20260422T142414CEST-4877x6lfkj@https://www.prolocopanza.it/
DTSTAMP:20260422T122414Z
DESCRIPTION:Le cantine del percorso Piedirosso:\n\n1. CANTINA SCARDECCHIAVi
 a Succhivo - Serrara FontanaTel. 081 909062Cantina storica del paese\, pas
 sata di generazione in generazione per tre secoli tra le mani sapienti del
 la famiglia Iacono. Attualmente si producono vino bianco\, rosso\, spumant
 e misto e Sorriso.\n2. CANTINA PASSARIELLOVia Tironi\, 29 - ForioCell. +39
  335 6341297La cantina si trova in località Tironi ed è di proprietà della
  famiglia Russo dal 1956. Costruita interamente in tufo verde nel lontano 
 1873\, era adibita per la produzione e la vendita di vino locale. Rapprese
 nta sicuramente una delle cantine più antiche di Forio ed è perfettamente 
 funzionante.\n2. AZIENDA AGRICOLA VILLA SPADARAVia Calosirto\, 82 - ForioT
 el. +39 081989584Visitare l’azienda Agricola La Spadara vuol dire imparare
  a conoscere la storia ischitana\, un viaggio nel passato e nelle tradizio
 ni. L’azienda si estende su 7 ettari coltivati interamente in biologico ad
  agrumeto\, vigneto\, uliveto e ortaggi. All’interno si trova anche l’anti
 ca casa colonica e le cantine risalenti al 1600.\n3. CANTINE PIETRATORCIAV
 ia Provinciale Panza\, 267 - ForioTel. 081 908206 / 081 907232www.pietrato
 rcia.it - info@pietratorcia.itLe cantine di Pietratorcia sono state create
  da tre antiche famiglie contadine ischitane Iacono\, Regine e Verde. Oltr
 e sette ettari di terreno sono stati ripiantati con vitigni selezionati.\n
 Prezzo del percorso € 35 https://www.prolocopanza.it/en/calendario-eventi-
 archiviati/event/14538-percorso-piedirosso-pomeriggio
DTSTART:20220928T130000Z
DTEND:20220928T160000Z
LOCATION:Pro Loco Panza Ischia (Via Cavaliere Leonardo Impagliazzo\, 144\, 
 80075 Forio NA\, Italia)
SUMMARY:Percorso Piedirosso (Pomeriggio)
URL:https://www.prolocopanza.it/en/calendario-eventi-archiviati/event/14538
 -percorso-piedirosso-pomeriggio
END:VEVENT
BEGIN:VEVENT
UID:20260422T142414CEST-4884vHTMDr@https://www.prolocopanza.it/
DTSTAMP:20260422T122414Z
DESCRIPTION:\nLe cantine del percorso Frassitelli:\n\n1. A ‘CANTIN E CIR’An
 tico Borgo di Noia - Serrara FontanaTel. 081 999477Anticamente era una gro
 tta la quale serviva da rifugio alle varie incursioni di pirati. La famigl
 ia Iacono la acquistò insieme al vigneto all’inizio del ‘900. Essendo una 
 famiglia di contadini\, il signor Ciro Iacono\, dopo il ’30\, la trasformò
  in cantina ampliandola e rendendola un locale funzionale per la produzion
 e e la conservazione del vino.\n&nbsp\;\n2. A‘ CANTINA DI NONNO MICHELE DA
  TONYSerrara Fontana - Via Pendio OscuroCell. 3294410962 - Tel. 081 999570
 La cantina di nonno Michele scavata nel 1908 nelle rocce di tufo ed utiliz
 zata fino a 30 anni fa per la conservazione del vino e delle botti. Caratt
 eristica particolare della cantina\, ancora oggi visibile\, è la pietra su
 daria\, da cui sgorga acqua. La tradizione familiare\, oggi\, viene portat
 a avanti dal nipote Antonio Galano che l’ha resa uno speciale luogo di rit
 rovo dove turisti ed isolani.\n&nbsp\;\n3. CANTINE CENATIEMPOVia Baldassar
 re Cossa\, 84 - IschiaTel. +39 081 981107«Il nostro vino deve esprimere la
  natura vulcanica e marinara della terra ischitana»È l’idea grazie alla qu
 ale\, nella prima metà del secolo scorso\, è stata fondata la Cenatiempo V
 ini d’Ischia\, con una impostazione familiare che conserva il legame con l
 a storia: è rappresentata in modo emblematico dalla nostra cantina del ‘60
 0\, un’opera stupenda scavata nella collina di Kalimera.\nPartenza dalla s
 ede della Pro loco in piazza San Leonardo - Panza alle ore 15.00Prenotazio
 ne obbligatoria.Le escursioni comprendono: servizio navetta – guida – degu
 stazione vini e prodotti tipici. I percorsi possono subire variazioni e mo
 difiche in base alle prenotazioni e alla disponibilità delle cantine. http
 s://www.prolocopanza.it/en/calendario-eventi-archiviati/event/14552-percor
 so-frassitelli
DTSTART:20220928T130000Z
DTEND:20220928T160000Z
LOCATION:Pro Loco Panza Ischia (Via Cavaliere Leonardo Impagliazzo\, 144\, 
 80075 Forio NA\, Italia)
SUMMARY:Percorso Frassitelli
URL:https://www.prolocopanza.it/en/calendario-eventi-archiviati/event/14552
 -percorso-frassitelli
END:VEVENT
BEGIN:VEVENT
UID:20260422T142414CEST-4892aU159f@https://www.prolocopanza.it/
DTSTAMP:20260422T122414Z
DESCRIPTION:La storia millenaria della nostra viticultura risale all VIII s
 ecolo a.c. e trova testimonianza in alcuni reperti custoditi al museo di V
 illa Arbusto a Lacco Ameno dove vi condurremo per una visita alla famosiss
 ima Coppa di Nestore.\nQuesto reperto e’ uno dei massimi esempi delle rela
 zioni commerciali che l’antica Pithecusa intratteneva in tutto il mediterr
 aneo e nella sua scritta “ chi beva da questa coppa subito quello sarà pre
 so dal desiderio d’amore per Afrodite dalla bella corona”\, vi è uno degli
  esempi piu’ antichi di scrittura greca.\nVisiteremo inoltre il Museo del 
 contadino di Casa D’Ambra con degustazione di sfizioserie tipiche locali c
 on i seguenti vini:Biancolella - Le Ninfe - Per e Palumm - La vigna dei Mi
 lle Anni\nPrezzo del percorso € 50 https://www.prolocopanza.it/en/calendar
 io-eventi-archiviati/event/14558-percorso-gourmet
DTSTART:20220928T080000Z
DTEND:20220928T110000Z
LOCATION:Piazza San Leonardo  (Via Cavaliere Leonardo Impagliazzo\, 65\, 80
 075 Forio NA\, Italia)
SUMMARY:Percorso gourmet
URL:https://www.prolocopanza.it/en/calendario-eventi-archiviati/event/14558
 -percorso-gourmet
END:VEVENT
BEGIN:VEVENT
UID:20260422T142414CEST-4897VXsfm0@https://www.prolocopanza.it/
DTSTAMP:20260422T122414Z
DESCRIPTION:Le cantine del percorso Piedirosso:\n\n1. CANTINA SCARDECCHIAVi
 a Succhivo - Serrara FontanaTel. 081 909062Cantina storica del paese\, pas
 sata di generazione in generazione per tre secoli tra le mani sapienti del
 la famiglia Iacono. Attualmente si producono vino bianco\, rosso\, spumant
 e misto e Sorriso.\n2. CANTINA PASSARIELLOVia Tironi\, 29 - ForioCell. +39
  335 6341297La cantina si trova in località Tironi ed è di proprietà della
  famiglia Russo dal 1956. Costruita interamente in tufo verde nel lontano 
 1873\, era adibita per la produzione e la vendita di vino locale. Rapprese
 nta sicuramente una delle cantine più antiche di Forio ed è perfettamente 
 funzionante.\n2. AZIENDA AGRICOLA VILLA SPADARAVia Calosirto\, 82 - ForioT
 el. +39 081989584Visitare l’azienda Agricola La Spadara vuol dire imparare
  a conoscere la storia ischitana\, un viaggio nel passato e nelle tradizio
 ni. L’azienda si estende su 7 ettari coltivati interamente in biologico ad
  agrumeto\, vigneto\, uliveto e ortaggi. All’interno si trova anche l’anti
 ca casa colonica e le cantine risalenti al 1600.\n3. CANTINE PIETRATORCIAV
 ia Provinciale Panza\, 267 - ForioTel. 081 908206 / 081 907232www.pietrato
 rcia.it - info@pietratorcia.itLe cantine di Pietratorcia sono state create
  da tre antiche famiglie contadine ischitane Iacono\, Regine e Verde. Oltr
 e sette ettari di terreno sono stati ripiantati con vitigni selezionati.\n
 Prezzo del percorso € 35 https://www.prolocopanza.it/en/calendario-eventi-
 archiviati/event/14615-copia-da-percorso-piedirosso-pomeriggio
DTSTART:20220928T130000Z
DTEND:20220928T160000Z
LOCATION:Pro Loco Panza Ischia (Via Cavaliere Leonardo Impagliazzo\, 144\, 
 80075 Forio NA\, Italia)
SUMMARY:Copia da Percorso Piedirosso (Pomeriggio)
URL:https://www.prolocopanza.it/en/calendario-eventi-archiviati/event/14615
 -copia-da-percorso-piedirosso-pomeriggio
END:VEVENT
END:VCALENDAR
