BEGIN:VCALENDAR
VERSION:2.0
PRODID:-//https://www.prolocopanza.it///NONSGML kigkonsult.se iCalcreator 2.10.15//
METHOD:PUBLISH
BEGIN:VEVENT
UID:20260421T052447CEST-8043pVtXn6@https://www.prolocopanza.it/
DTSTAMP:20260421T032447Z
DESCRIPTION:Le cantine del percorso Epomeo:\nA‘ CANTIN E CIR’Antico Borgo d
 i Noia - Serrara FontanaTel. 081 999477Anticamente era una grotta la quale
  serviva da rifugio alle varie incursioni di pirati. La famiglia Iacono la
  acquistò insieme al vigneto all’inizio del ‘900. Essendo una famiglia di 
 contadini\, il signor Ciro Iacono\, dopo il ’30\, la trasformò in cantina 
 ampliandola e rendendola un locale funzionale per la produzione e la conse
 rvazione del vino.\nA‘ CANTINA DI NONNO MICHELE DA TONYSerrara Fontana\, T
 el. +39 081 999570 | +39 3294410962La cantina di nonno Michele\, scavata n
 el 1908 nelle rocce di tufo e utilizzata fino a 30 anni fa per la conserva
 zione del vino e delle botti. Caratteristica particolare della cantina\, a
 ncora oggi visibile\, è la pietra sudaria\, da cui sgorga acqua. La tradiz
 ione familiare\, oggi\, viene portata avanti dal nipote Antonio Galano\, c
 he l’ha resa uno speciale luogo di ritrovo per turisti ed isolani.\nA' CAN
 TIN LU' SCULTOREIndirizzo: Via Casa Mattera\, 25 - FontanaContatti: 333766
 3548Poco distante dalla piazza di Fontana\, si trova la cantina di Nicola 
 Gioba. Cantina risalente al 1930 interamente costruita in pietra di tufo d
 a Nicolino 'a Panella.Ora rielaborata da Nicola Gioba\, maestro scultore d
 ella pietra\, che attraverso le sue opere ha voluto immortalare alcuni mom
 enti significativi della vendemmia. Ma potrete ammirare anche altre scultu
 re che arricchiscono 'la cantina' e che la rendono unica.\nQuota di partec
 ipazione 35\,00€ a persona https://www.prolocopanza.it/en/calendario-event
 i-archiviati/event/14622-andar-per-cantine-2023-percorso-epomeo
DTSTART:20230927T080000Z
DTEND:20230927T120000Z
LOCATION:Piazza San Leonardo  (Via Cavaliere Leonardo Impagliazzo\, 65\, 80
 075 Forio NA\, Italia)
SUMMARY:Andar per cantine 2023: Percorso Epomeo
URL:https://www.prolocopanza.it/en/calendario-eventi-archiviati/event/14622
 -andar-per-cantine-2023-percorso-epomeo
END:VEVENT
BEGIN:VEVENT
UID:20260421T052447CEST-80495vXWC9@https://www.prolocopanza.it/
DTSTAMP:20260421T032447Z
DESCRIPTION:Le cantine del percorso San Lunardo:\nCANTINA PELLICCIONEBarano
  - Via San Pietro Tel. +39 349 578 0618In località San Pietro\, la cantina
  Pelliccione è riferimento di convivialità del borgo di Buonopane. Fermars
 i a bere un buon bicchiere di vino\, nella frescura all’interno delle gran
 di grotte scavate nel tufo\, è un rito collettivo al quale si aggregano co
 n piacere i forestieri. Il microclima delle grotte conserva alla perfezion
 e il vino e gli altri prodotti tipici.\nAZIENDA AGRICOLA FILIPPO FLORIOBar
 ano - Via Ritola\, 6 Tel: . +39 347.9333701Impegnata nella viticoltura da 
 cinque generazioni\, la famiglia Florio produce vino con lieviti Biancolel
 la docg. Vanto dell’Azienda sono l’Epomeo Rosso e il Bianco Igp. Affinati 
 nell’antica cantina scavata nel tufo.\nAGRITURISMO GIASOLEBarano - Via Can
 diano 31/A - Tel. +39 347 674 7979L’azienda agrituristica Giasole grazie a
 ll’esposizione ideale dei suoi terreni\, vanta una grande varietà di frutt
 i e verdure in ogni stagione. Oltre alla produzione di vino\, che è tratto
  distintivo dell’Azienda. La trasformazione dei prodotti dell’orto di casa
 \, rigorosamente bio\, nei piatti tipici isolani ci permette di farli appr
 ezzare a tutti i nostri visitatori.\nQuota di partecipazione 35\,00€ a per
 sona https://www.prolocopanza.it/en/calendario-eventi-archiviati/event/146
 27-andar-per-cantine-2023-percorso-san-lunardo
DTSTART:20230927T130000Z
DTEND:20230927T160000Z
LOCATION:Piazza San Leonardo  (Via Cavaliere Leonardo Impagliazzo\, 65\, 80
 075 Forio NA\, Italia)
SUMMARY:Andar per cantine 2023: Percorso San Lunardo
URL:https://www.prolocopanza.it/en/calendario-eventi-archiviati/event/14627
 -andar-per-cantine-2023-percorso-san-lunardo
END:VEVENT
BEGIN:VEVENT
UID:20260421T052447CEST-8054bMMIPS@https://www.prolocopanza.it/
DTSTAMP:20260421T032447Z
DESCRIPTION:Le cantine del percorso Piedirosso:\nCANTINA SCARDECCHIAVia Suc
 chivo - Serrara FontanaTel. 081 909062Cantina storica del paese\, passata 
 di generazione in generazione per tre secoli tra le mani sapienti della fa
 miglia Iacono. Attualmente si producono vino bianco\, rosso\, spumante mis
 to e Sorriso.\nCANTINA PASSARIELLOVia Tironi\, 29 *- ForioCell. 335 634129
 7La cantina si trova in località Tironi ed è di proprietà della famiglia R
 usso dal 1956. Costruita interamente in tufo verde nel lontano 1873\, era 
 adibita per la produzione e la vendita di vino locale. Rappresenta sicuram
 ente una delle cantine più antiche di Forio ed è perfettamente funzionante
 .\nCANTINE PIETRATORCIAVia Provinciale Panza\, 267 - ForioTel. 081 908206/
 081 907232 Fax: 081 908949www.pietratorcia.it - info@pietratorcia.itLe can
 tine di Pietratorcia sono state create da tre antiche famiglie contadine i
 schitane Iacono\, Regine e Verde. Oltre sette ettari di terreno sono stati
  ripiantati con vitigni selezionati.\nQuota di partecipazione 35\,00€ a pe
 rsona https://www.prolocopanza.it/en/calendario-eventi-archiviati/event/14
 639-andar-per-cantine-2023-percorso-piedirosso
DTSTART:20230927T130000Z
DTEND:20230927T170000Z
LOCATION:Piazza San Leonardo  (Via Cavaliere Leonardo Impagliazzo\, 65\, 80
 075 Forio NA\, Italia)
SUMMARY:Andar per cantine 2023: Percorso Piedirosso
URL:https://www.prolocopanza.it/en/calendario-eventi-archiviati/event/14639
 -andar-per-cantine-2023-percorso-piedirosso
END:VEVENT
BEGIN:VEVENT
UID:20260421T052447CEST-8059xBvgoO@https://www.prolocopanza.it/
DTSTAMP:20260421T032447Z
DESCRIPTION:Le cantine del percorso Biancolella:\nCANTINE D’AMBRAVia Mario 
 D’Ambra\, 16 - ForioTel. 081 907246 - 081 907210Casa D’Ambra\, fondata nel
  1888\, continua\, nell’innovazione della tradizione\, la storia di una cu
 ltura millenaria\, cercando di raccontare\, attraverso i vini\, il territo
 rio unico dell’isola d’Ischia\, esaltando in purezza le prerogative qualit
 ative delle uve\, dei terreni e dei microclimi.\nTENUTA GIOSUÉ COLELLAFori
 o - Via S.Giuseppe 24 - Tel. +39 328 068 1061L’azienda agricola Colella vi
  accoglierà tra il verde dei vigneti delle colline foriane. Visiterete l’a
 ntica cantina scavata a mano in un unico blocco di tufo verde dai nostri a
 vi. Degusterete vini di nicchia e assaporerete le nostre specialità\, prod
 otte secondo antiche ricette di famiglia\, rimaste invariate da generazion
 i...\nANTICA FATTORIA GRECAForio - Via Sorgeto\, 51 Tel: +39 081908102 081
 19465224L’azienda si contraddistingue per la produzione di vini speciali l
 ocali come Ischia Bianco e Ischia Rosso. Presso la struttura è possibile d
 egustare i vini\, visitare il vigneto. La produzione si basa sulla più gen
 uina tradizione contadina ischitana.\nQuota di partecipazione 35\,00€ a pe
 rsona https://www.prolocopanza.it/en/calendario-eventi-archiviati/event/14
 653-andar-per-cantine-2023-percorso-biancolella
DTSTART:20230927T080000Z
DTEND:20230927T120000Z
LOCATION:Piazza San Leonardo  (Via Cavaliere Leonardo Impagliazzo\, 65\, 80
 075 Forio NA\, Italia)
SUMMARY:Andar per cantine 2023: Percorso Biancolella
URL:https://www.prolocopanza.it/en/calendario-eventi-archiviati/event/14653
 -andar-per-cantine-2023-percorso-biancolella
END:VEVENT
BEGIN:VEVENT
UID:20260421T052447CEST-8063TuUtJO@https://www.prolocopanza.it/
DTSTAMP:20260421T032447Z
DESCRIPTION:\nLe cantine del percorso Frassitelli:\n\n&nbsp\;A ‘CANTIN E CI
 R’Antico Borgo di Noia - Serrara FontanaTel. 081 999477Anticamente era una
  grotta la quale serviva da rifugio alle varie incursioni di pirati. La fa
 miglia Iacono la acquistò insieme al vigneto all’inizio del ‘900. Essendo 
 una famiglia di contadini\, il signor Ciro Iacono\, dopo il ’30\, la trasf
 ormò in cantina ampliandola e rendendola un locale funzionale per la produ
 zione e la conservazione del vino.\n&nbsp\;\nCANTINA CALIMERASerrara Fonta
 na - Via Pietra dell’Acqua\, n1-Tel. +39 3282162841Ai piedi del monte Epom
 eo\, nell’antico borgo di Calimera\, troverete un’antica cantina dell’800\
 , dove si produceva vino proveniente dai vigneti di Serrara Fontana. Abban
 donata per molti anni\, nel 2021 è stata cquisita dalla famiglia Coppola-M
 attera\, che l’ha riportata all’antico splendore.\n&nbsp\;\nCANTINA RAUSTE
 LLAVia Lorenzo Fiore - Serrara FontanaCell. 3478128485Alle pendici del mon
 te Epomeo\, in grotte scavate\, in grotte scavate nella montagna dagli ant
 ichi ischitani\, saggi contadini continuano a produrre il vino con i siste
 mi dei padri. Tra questi\, Francesco Mattera detto Raustella\, nella sua c
 antina in Serrara\, alla veneranda eta’ di 90 anni continua a produrre il 
 meraviglioso nettare degli dei. Completamente restaurata da Giuseppe Matte
 ra oggi scrigno delle antiche tradizioni vitivinicole...\nQuota di parteci
 pazione 35\,00€ a persona https://www.prolocopanza.it/en/calendario-eventi
 -archiviati/event/14654-andar-per-cantine-2023-percorso-frassitelli
DTSTART:20230927T130000Z
DTEND:20230927T160000Z
LOCATION:Pro Loco Panza Ischia (Via Cavaliere Leonardo Impagliazzo\, 144\, 
 80075 Forio NA\, Italia)
SUMMARY:Andar per cantine 2023: Percorso Frassitelli
URL:https://www.prolocopanza.it/en/calendario-eventi-archiviati/event/14654
 -andar-per-cantine-2023-percorso-frassitelli
END:VEVENT
BEGIN:VEVENT
UID:20260421T052447CEST-8068v0NW53@https://www.prolocopanza.it/
DTSTAMP:20260421T032447Z
DESCRIPTION:Percorrendo via Montecorvo e salendo poi dei gradoni scavati ne
 lla roccia giungeremo fin sopra la “Bocca di Tifeo”: affascinante bocca fu
 marolica con emissioni di vapore acqueo a circa 115°.\nDa qui godremo di u
 na vista unica sull’intero promontorio del comune di Forio. Ci dirigeremo 
 presso la tenuta C’est la Vie\, da cui si avrà una vista mare e alle spall
 e la spettacolare vista delle fumarole di “Donna Rachele”\, dove godremo d
 i una degustazione di prodotti locali.\n&nbsp\;\nAlong via Montecorvo\, an
 d then\, climbing steps dug into the rock we will reach the “Bocca di Tife
 o”: a fascinating fumarolic mouth with water vapor emissions at about 115 
 °. From here we will enjoy a unique view of the entire promontory of the m
 unicipality of Forio. We will head to the C’est la Vie estate\, from which
  you will have a sea view and behind you the spectacular view of the “Donn
 a Rachele” fumaroles\, where we will enjoy a tasting of local products.\nI
 NFO\n- Punto Partenza/Arrivo (Departure / arrival point): Sede Proloco Pan
 za\, Forio- Difficoltà: Facile / Turistica (Difficulty: Easy)- Durata: 5h 
 – 4km (soste incluse) Duration: 5h – 4km (stops included)- Visita/Degustaz
 ione: (Visit / Tasting): Tenuta C’est la Vie- Quota di partecipazione / Pr
 ice 40 € https://www.prolocopanza.it/en/calendario-eventi-archiviati/event
 /14667-andar-per-cantine-2023-il-sentiero-della-bocca-di-tifeo-al-tramonto
DTSTART:20230927T140000Z
DTEND:20230927T190000Z
LOCATION:Piazza San Leonardo  (Via Cavaliere Leonardo Impagliazzo\, 65\, 80
 075 Forio NA\, Italia)
SUMMARY:Andar per Cantine 2023: Il sentiero della Bocca di Tifeo al Tramont
 o
URL:https://www.prolocopanza.it/en/calendario-eventi-archiviati/event/14667
 -andar-per-cantine-2023-il-sentiero-della-bocca-di-tifeo-al-tramonto
END:VEVENT
BEGIN:VEVENT
UID:20260421T052447CEST-8073ijcHaU@https://www.prolocopanza.it/
DTSTAMP:20260421T032447Z
DESCRIPTION:Percorso guidato con degustazione di vini e prodotti tipici loc
 ali al chiaro di luna settembrina in alcune tra le più belle e suggestive 
 cantine ischitane.\nQuota di partecipazione € 40\,00 a persona https://www
 .prolocopanza.it/en/calendario-eventi-archiviati/event/14674-cantinando-so
 tto-le-stelle
DTSTART:20230927T164500Z
DTEND:20230927T215900Z
LOCATION:Pro Loco Panza Ischia (Via Cavaliere Leonardo Impagliazzo\, 144\, 
 80075 Forio NA\, Italia)
SUMMARY:Cantinando sotto le stelle
URL:https://www.prolocopanza.it/en/calendario-eventi-archiviati/event/14674
 -cantinando-sotto-le-stelle
END:VEVENT
END:VCALENDAR
