BEGIN:VCALENDAR
VERSION:2.0
PRODID:-//https://www.prolocopanza.it///NONSGML kigkonsult.se iCalcreator 2.10.15//
METHOD:PUBLISH
BEGIN:VEVENT
UID:20260421T063650CEST-1145LPOm4o@https://www.prolocopanza.it/
DTSTAMP:20260421T043650Z
DESCRIPTION:Le cantine del percorso Epomeo:\n‘A CANTIN ‘E CIR’Serrara Fonta
 na - Borgo di Noia -Tel: +39 081999477| 3478953232Anticamente era una grot
 ta che serviva da rifugio durante le varie incursioni di pirati. La famigl
 ia lacono la acquistò insieme al vigneto all’inizio del ‘900. Essendo una 
 famiglia di contadini\, il signor Ciro lacono\, dopo il ‘30\, la trasformò
  in cantina\, ampliandola e rendendola funzionale alla produzione e conser
 vazionedel vino.\n‘A CANTINA di nonno michele da TONYSerrara Fontana\, Tel
 . +39 081 999570 | +39 3294410962La cantina di nonno Michele\, scavata nel
  1908 nelle rocce di tufo e utilizzata fino a 30 anni fa per la conservazi
 one del vino e delle botti. Caratteristica particolare della cantina\, anc
 ora oggi visibile\, è la pietra sudaria\, da cui sgorga acqua. La tradizio
 ne familiare\, oggi\, viene portata avanti dal nipote Antonio Galano\, che
  l’ha resa uno speciale luogo di ritrovo per turisti ed isolani.\nCANTINA 
 RAUSTELLASerrara Fontana -Via Lorenzo Fiore - Tel: +39 3317848052Alle pend
 ici del monte Epomeo\, in grotte scavate nella montagna dagli antichi isch
 itani\, saggi contadini continuano a produrre il vino con i sistemi dei pa
 dri. Tra questi\, Francesco Mattera detto Raustella\, nella sua cantina a 
 Serrara\, continua a produrre il meraviglioso nettare degli dei. Completam
 ente restaurata da Giuseppe Mattera oggi scrigno delle antiche tradizioni 
 vitivinicole...\nQuota di partecipazione 35\,00€ a persona https://www.pro
 locopanza.it/en/calendario-eventi-archiviati/event/14608-andar-per-cantine
 -2023-percorso-epomeo
DTSTART:20230926T080000Z
DTEND:20230926T120000Z
LOCATION:Piazza San Leonardo  (Via Cavaliere Leonardo Impagliazzo\, 65\, 80
 075 Forio NA\, Italia)
SUMMARY:Andar per cantine 2023: Percorso Epomeo
URL:https://www.prolocopanza.it/en/calendario-eventi-archiviati/event/14608
 -andar-per-cantine-2023-percorso-epomeo
END:VEVENT
BEGIN:VEVENT
UID:20260421T063650CEST-1155fCAWvC@https://www.prolocopanza.it/
DTSTAMP:20260421T043650Z
DESCRIPTION:Le cantine del percorso Epomeo:\nCANTINA RAUSTELLAVia Lorenzo F
 iore - Serrara FontanaCell. 3478128485Alle pendici del monte Epomeo\, in g
 rotte scavate\, in grotte scavate nella montagna dagli antichi ischitani\,
  saggi contadini continuano a produrre il vino con i sistemi dei padri. Tr
 a questi\, Francesco Mattera detto Raustella\, nella sua cantina in Serrar
 a\, alla veneranda eta’ di 90 anni continua a produrre il meraviglioso net
 tare degli dei. Completamente restaurata da Giuseppe Mattera oggi scrigno 
 delle antiche tradizioni vitivinicole...\nA‘ CANTIN E CIR’Antico Borgo di 
 Noia - Serrara FontanaTel. 081 999477Anticamente era una grotta la quale s
 erviva da rifugio alle varie incursioni di pirati. La famiglia Iacono la a
 cquistò insieme al vigneto all’inizio del ‘900. Essendo una famiglia di co
 ntadini\, il signor Ciro Iacono\, dopo il ’30\, la trasformò in cantina am
 pliandola e rendendola un locale funzionale per la produzione e la conserv
 azione del vino.\nA‘ CANTINA DI NONNO MICHELE DA TONYSerrara Fontana - Via
  Pendio OscuroCell. 3294410962 - Tel. 081 999570La cantina di nonno Michel
 e scavata nel 1908 nelle rocce di tufo ed utilizzata fino a 30 anni fa per
  la conservazione del vino e delle botti. Caratteristica particolare della
  cantina\, ancora oggi visibile\, è la pietra sudaria\, da cui sgorga acqu
 a. La tradizione familiare\, oggi\, viene portata avanti dal nipote Antoni
 o Galano che l’ha resa uno speciale luogo di ritrovo dove turisti ed isola
 ni.\n https://www.prolocopanza.it/en/calendario-eventi-archiviati/event/14
 649-andar-per-cantine-2023-percorso-epomeo
DTSTART:20230926T080000Z
DTEND:20230926T120000Z
LOCATION:Piazza San Leonardo  (Via Cavaliere Leonardo Impagliazzo\, 65\, 80
 075 Forio NA\, Italia)
SUMMARY:Andar per cantine 2023: Percorso Epomeo
URL:https://www.prolocopanza.it/en/calendario-eventi-archiviati/event/14649
 -andar-per-cantine-2023-percorso-epomeo
END:VEVENT
BEGIN:VEVENT
UID:20260421T063650CEST-1163lUZS5s@https://www.prolocopanza.it/
DTSTAMP:20260421T043650Z
DESCRIPTION:Le cantine del percorso Biancolella:\nCANTINA SCARDECCHIASerrar
 a Fontana - Via Succhivo - Tel. +39 081 909062Cantina storica del paese\, 
 tramandata per tre secoli da una generazione all’altra della famiglia Iaco
 no. Attualmente si producono vino bianco\, rosso\, spumante misto e Sorris
 o\nANTICA FATTORIA GRECAForio - Via Sorgeto\, 51 Tel: +39 081908102 081194
 65224L’azienda si contraddistingue per la produzione di vini speciali loca
 li come Ischia Bianco e Ischia Rosso. Presso la struttura è possibile degu
 stare i vini\, visitare il vigneto. La produzione si basa sulla più genuin
 a tradizione contadina ischitana.\nCANTINE D’AMBRAVia Mario D’Ambra\, 16 -
  ForioTel. 081 907246 - 081 907210Casa D’Ambra\, fondata nel 1888\, contin
 ua\, nell’innovazione della tradizione\, la storia di una cultura millenar
 ia\, cercando di raccontare\, attraverso i vini\, il territorio unico dell
 ’isola d’Ischia\, esaltando in purezza le prerogative qualitative delle uv
 e\, dei terreni e dei microclimi.\nQuota di partecipazione 35\,00€ a perso
 na https://www.prolocopanza.it/en/calendario-eventi-archiviati/event/14650
 -andar-per-cantine-2023-percorso-biancolella
DTSTART:20230926T080000Z
DTEND:20230926T120000Z
LOCATION:Piazza San Leonardo  (Via Cavaliere Leonardo Impagliazzo\, 65\, 80
 075 Forio NA\, Italia)
SUMMARY:Andar per cantine 2023: Percorso Biancolella
URL:https://www.prolocopanza.it/en/calendario-eventi-archiviati/event/14650
 -andar-per-cantine-2023-percorso-biancolella
END:VEVENT
BEGIN:VEVENT
UID:20260421T063650CEST-1170Pb1VAZ@https://www.prolocopanza.it/
DTSTAMP:20260421T043650Z
DESCRIPTION:\nLe cantine del percorso Frassitelli:\n\nCANTINA 'U SCILATUROV
 ia Angelo Migliaccio\, 151 Tel. 3426226910La cantina della famiglia Di Cos
 tanzo si trova sulla parte alta di Barano\, in località Toccaneto. Centoci
 nquanta anni di tradizione racchiusi in un piccolo tempio del vino sapient
 emente restaurato\, in cui è possibile ammirare le antiche pietre e i vecc
 hi palmenti\, protagonisti di storiche vendemmie. L’azienda agricola\, a c
 onduzione famigliare\, produce un vino dal sapore&nbsp\; tipicamente ischi
 tano.\n&nbsp\;\nCANTINA RAUSTELLAVia Lorenzo Fiore - Serrara FontanaCell. 
 3478128485Alle pendici del monte Epomeo\, in grotte scavate\, in grotte sc
 avate nella montagna dagli antichi ischitani\, saggi contadini continuano 
 a produrre il vino con i sistemi dei padri. Tra questi\, Francesco Mattera
  detto Raustella\, nella sua cantina in Serrara\, alla veneranda eta’ di 9
 0 anni continua a produrre il meraviglioso nettare degli dei. Completament
 e restaurata da Giuseppe Mattera oggi scrigno delle antiche tradizioni vit
 ivinicole...\n&nbsp\;\nA‘ CANTINA DI NONNO MICHELE DA TONYSerrara Fontana 
 - Via Pendio OscuroCell. 3294410962 - Tel. 081 999570La cantina di nonno M
 ichele scavata nel 1908 nelle rocce di tufo ed utilizzata fino a 30 anni f
 a per la conservazione del vino e delle botti. Caratteristica particolare 
 della cantina\, ancora oggi visibile\, è la pietra sudaria\, da cui sgorga
  acqua. La tradizione familiare\, oggi\, viene portata avanti dal nipote A
 ntonio Galano che l’ha resa uno speciale luogo di ritrovo dove turisti ed 
 isolani.\nQuota di partecipazione 35\,00€ a persona https://www.prolocopan
 za.it/en/calendario-eventi-archiviati/event/14651-andar-per-cantine-2023-p
 ercorso-frassitelli
DTSTART:20230926T130000Z
DTEND:20230926T160000Z
LOCATION:Pro Loco Panza Ischia (Via Cavaliere Leonardo Impagliazzo\, 144\, 
 80075 Forio NA\, Italia)
SUMMARY:Andar per cantine 2023: Percorso Frassitelli
URL:https://www.prolocopanza.it/en/calendario-eventi-archiviati/event/14651
 -andar-per-cantine-2023-percorso-frassitelli
END:VEVENT
BEGIN:VEVENT
UID:20260421T063650CEST-1179kWiSZk@https://www.prolocopanza.it/
DTSTAMP:20260421T043650Z
DESCRIPTION:\nLe cantine del percorso Forastera:\n\n&nbsp\;CANTINA BELLAVIS
 TAIndirizzo: Via Montecorvo\, 75 - 80075 ForioContatti: Tel. 081997221A po
 chi passi dal più esteso campo di fumarole dell’intera isola d’Ischia\, te
 stimonianza della natura vulcanica del territorio\, sorge da più di duecen
 to anni una cantina quasi interamente ricavata nel tufo verde. Francesco C
 astiglione ne cura ogni minimo dettaglio\, benché i due fusti che vi campe
 ggiano all’interno siano\, oggi\, inutilizzati.\n&nbsp\;\nTENUTA GIOSUÉ CO
 LELLAForio - Via S.Giuseppe 24 - Tel. +39 328 068 1061L’azienda agricola C
 olella vi accoglierà tra il verde dei vigneti delle colline foriane. Visit
 erete l’antica cantina scavata a mano in un unico blocco di tufo verde dai
  nostri avi. Degusterete vini di icchia e assaporerete le nostre specialit
 à\, prodotte secondo antiche ricette di famiglia\, rimaste invariate da ge
 nerazioni...\nTENUTA CALITTOForio - Via Provinciale Panza 486 Tel. 081 90 
 72 46Una dimora nobiliare di campagna del XVIII secolo\, finemente restaur
 ata\, al centro di un esteso vigneto in una valletta inondata di sole e do
 minata dall’inconfondibile sagoma del massiccio dell’Epomeo. Vini i qualit
 à in un luogo di grande suggestione.\nQuota di partecipazione 35\,00€ a pe
 rsona https://www.prolocopanza.it/en/calendario-eventi-archiviati/event/14
 652-andar-per-cantine-2023-percorso-forastera
DTSTART:20230926T130000Z
DTEND:20230926T160000Z
LOCATION:Pro Loco Panza Ischia (Via Cavaliere Leonardo Impagliazzo\, 144\, 
 80075 Forio NA\, Italia)
SUMMARY:Andar per cantine 2023: Percorso Forastera
URL:https://www.prolocopanza.it/en/calendario-eventi-archiviati/event/14652
 -andar-per-cantine-2023-percorso-forastera
END:VEVENT
BEGIN:VEVENT
UID:20260421T063650CEST-1186dhBU1A@https://www.prolocopanza.it/
DTSTAMP:20260421T043650Z
DESCRIPTION:Percorrendo via Montecorvo e salendo poi dei gradoni scavati ne
 lla roccia giungeremo fin sopra la “Bocca di Tifeo”: affascinante bocca fu
 marolica con emissioni di vapore acqueo a circa 115°.\nDa qui godremo di u
 na vista unica sull’intero promontorio del comune di Forio. Ci dirigeremo 
 presso la tenuta C’est la Vie\, da cui si avrà una vista mare e alle spall
 e la spettacolare vista delle fumarole di “Donna Rachele”\, dove godremo d
 i una degustazione di prodotti locali.\n&nbsp\;\nAlong via Montecorvo\, an
 d then\, climbing steps dug into the rock we will reach the “Bocca di Tife
 o”: a fascinating fumarolic mouth with water vapor emissions at about 115 
 °. From here we will enjoy a unique view of the entire promontory of the m
 unicipality of Forio. We will head to the C’est la Vie estate\, from which
  you will have a sea view and behind you the spectacular view of the “Donn
 a Rachele” fumaroles\, where we will enjoy a tasting of local products.\nI
 NFO\n- Punto Partenza/Arrivo (Departure / arrival point): Sede Proloco Pan
 za\, Forio- Difficoltà: Facile / Turistica (Difficulty: Easy)- Durata: 5h 
 – 4km (soste incluse) Duration: 5h – 4km (stops included)- Visita/Degustaz
 ione: (Visit / Tasting): Tenuta C’est la Vie- Quota di partecipazione / Pr
 ice 40 € https://www.prolocopanza.it/en/calendario-eventi-archiviati/event
 /14666-andar-per-cantine-2023-il-sentiero-della-bocca-di-tifeo-al-tramonto
DTSTART:20230926T140000Z
DTEND:20230926T190000Z
LOCATION:Piazza San Leonardo  (Via Cavaliere Leonardo Impagliazzo\, 65\, 80
 075 Forio NA\, Italia)
SUMMARY:Andar per Cantine 2023: Il sentiero della Bocca di Tifeo al Tramont
 o
URL:https://www.prolocopanza.it/en/calendario-eventi-archiviati/event/14666
 -andar-per-cantine-2023-il-sentiero-della-bocca-di-tifeo-al-tramonto
END:VEVENT
BEGIN:VEVENT
UID:20260421T063650CEST-1194TIcW6c@https://www.prolocopanza.it/
DTSTAMP:20260421T043650Z
DESCRIPTION:Partendo dalla fontana sul corso principale di Forio\, il perco
 rso si snoderà attraverso i caratteristici vicoli del centro storico con l
 e sue maestose torri\, gli antichi palazzi nobiliari\, le edicole votive e
  le chiese ricche di opere d’arte\, in un&nbsp\; intreccio di storia\, art
 e\,fede e tradizione popolare.\nSi raggiungerà il nucleo più antico del pa
 ese\, San Vito\, dal nome della basilica intitolata al Santo patrono di Fo
 rio. Passando per l’antico quartiere del Cierco si raggiungerà il borgo di
 &nbsp\; Monterone e si visiterà la cantina Passariello\, che ospiterà la d
 egustazione finale.\nL’itinerario a piedi prevede scale e salite\, per cui
  si raccomandano scarpe comode.\n\nStarting from the fountain on the main 
 street of Forio\, the route will wind through the characteristic alleys of
  the historic center with its majestic towers\, ancient noble palaces\, vo
 tive aedicules and churches rich in works of art\, in a mix&nbsp\; of hist
 ory\, art\, faith and popular tradition.\nWe will reach the oldest nucleus
  of the town\, San Vito\, from the name of the basilica dedicated to the p
 atron saint of Forio. Passing through the ancient district of Cierco\, you
  will reach the village of Monterone and visit the Passariello winery\, wh
 ich will host the final tasting.\nThe walking itinerary includes stairs an
 d climbs\, so comfortable shoes are recommended.\n\nPunto di incontro: Fon
 tana del corso principale di Forio. Prenotazione obbligatoria - costo del 
 percorso € 30\,00.Include: escursione con guida - visita alla cantina - de
 gustazione. https://www.prolocopanza.it/en/calendario-eventi-archiviati/ev
 ent/14668-andar-per-cantine-2023-percorso-andar-per-l-arte
DTSTART:20230926T133000Z
DTEND:20230926T163000Z
LOCATION:Comune di Forio (Corso Francesco Regine\, 95\, 80075 Forio NA\, It
 alia)
SUMMARY:Andar per cantine 2023 - Percorso Andar per l'arte
URL:https://www.prolocopanza.it/en/calendario-eventi-archiviati/event/14668
 -andar-per-cantine-2023-percorso-andar-per-l-arte
END:VEVENT
BEGIN:VEVENT
UID:20260421T063650CEST-1202rvdbfM@https://www.prolocopanza.it/
DTSTAMP:20260421T043650Z
DESCRIPTION:Percorso guidato con degustazione di vini e prodotti tipici loc
 ali al chiaro di luna settembrina in alcune tra le più belle e suggestive 
 cantine ischitane.\nQuota di partecipazione € 40\,00 a persona https://www
 .prolocopanza.it/en/calendario-eventi-archiviati/event/14673-cantinando-so
 tto-le-stelle
DTSTART:20230926T164500Z
DTEND:20230926T215900Z
LOCATION:Pro Loco Panza Ischia (Via Cavaliere Leonardo Impagliazzo\, 144\, 
 80075 Forio NA\, Italia)
SUMMARY:Cantinando sotto le stelle
URL:https://www.prolocopanza.it/en/calendario-eventi-archiviati/event/14673
 -cantinando-sotto-le-stelle
END:VEVENT
BEGIN:VEVENT
UID:20260421T063650CEST-1207x21rhU@https://www.prolocopanza.it/
DTSTAMP:20260421T043650Z
DESCRIPTION:Immersi tra i vigneti e le atmosfere della Tenuta Calitto\, in 
 collaborazione con la famiglia D’Ambra e lo chef Pasquale Palamaro\, marte
 dì 26 settembre ci sarà la possibilità di riservare un tavolo per partecip
 are alla cena “Mediterraneo in vigna”\, con un menu degustazione dedicato 
 alla cucina di mare dello chef Palamaro e abbinato ai vini dell’azienda vi
 nicola D’Ambra.\nPrezzo € 100 https://www.prolocopanza.it/en/calendario-ev
 enti-archiviati/event/14686-stelle-in-cantina-con-pasquale-palamaro
DTSTART:20230926T183000Z
DTEND:20230926T213000Z
LOCATION:Tenuta Piromallo (Località Calitto - Panza - Forio d'Ischia)
SUMMARY:Stelle in cantina con Pasquale Palamaro
URL:https://www.prolocopanza.it/en/calendario-eventi-archiviati/event/14686
 -stelle-in-cantina-con-pasquale-palamaro
END:VEVENT
END:VCALENDAR
