BEGIN:VCALENDAR
VERSION:2.0
PRODID:-//https://www.prolocopanza.it///NONSGML kigkonsult.se iCalcreator 2.10.15//
METHOD:PUBLISH
BEGIN:VEVENT
UID:20260422T172832CEST-4823nWOTio@https://www.prolocopanza.it/
DTSTAMP:20260422T152832Z
DESCRIPTION:Le cantine del percorso Biancolella:\n1. CANTINA SCARDECCHIAVia
  Succhivo - Serrara FontanaTel. 081 909062Cantina storica del paese\, pass
 ata di generazione in generazione per tre secoli tra le mani sapienti dell
 a famiglia Iacono. Attualmente si producono vino bianco\, rosso\, spumante
  misto e Sorriso.\n2. ANTICA FATTORIA GRECAVia Sorgeto\, 51 - ForioTel: 08
 1 908102 - 081 909277www.puntachiarito.it - info@puntachiarito.itL’azienda
  si contraddistingue per la produzione di vini speciali locali come Ischia
  Bianco e Ischia Rosso. Presso la struttura è possibile degustare i vini\,
  visitare il vigneto. La produzione si basa sulla più genuina tradizione c
 ontadina ischitana.\n3. CANTINE D’AMBRAVia Mario D’Ambra\, 16 - ForioTel. 
 081 907246 - 081 907210Casa D’Ambra\, fondata nel 1888\, continua\, nell’i
 nnovazione della tradizione\, la storia di una cultura millenaria\, cercan
 do di raccontare\, attraverso i vini\, il territorio unico dell’isola d’Is
 chia\, esaltando in purezza le prerogative qualitative delle uve\, dei ter
 reni e dei microclimi.\nPrezzo del percorso € 35 https://www.prolocopanza.
 it/en/calendario-eventi-archiviati/event/14474-percorso-biancolella
DTSTART:20220926T080000Z
DTEND:20220926T120000Z
LOCATION:Pro Loco Panza Ischia (Via Cavaliere Leonardo Impagliazzo\, 144\, 
 80075 Forio NA\, Italia)
SUMMARY:Percorso Biancolella
URL:https://www.prolocopanza.it/en/calendario-eventi-archiviati/event/14474
 -percorso-biancolella
END:VEVENT
BEGIN:VEVENT
UID:20260422T172832CEST-482912x6oP@https://www.prolocopanza.it/
DTSTAMP:20260422T152832Z
DESCRIPTION:Le cantine del percorso Epomeo:\n1. A ‘CANTIN E CIR’Antico Borg
 o di Noia - Serrara FontanaTel. 081 999477Anticamente era una grotta la qu
 ale serviva da rifugio alle varie incursioni di pirati. La famiglia Iacono
  la acquistò insieme al vigneto all’inizio del ‘900. Essendo una famiglia 
 di contadini\, il signor Ciro Iacono\, dopo il ’30\, la trasformò in canti
 na ampliandola e rendendola un locale funzionale per la produzione e la co
 nservazione del vino.\n2. CANTINA NONNO MICHELE DI TONYVia Pendio Oscuro -
  Serrara FontanaTel. 081 999570 - Mob. 3294410962La cantina di nonno Miche
 le scavata nel 1908 nelle rocce di tufo ed utilizzata fino a 30 anni fa pe
 r la conservazione del vino e delle botti. Caratteristica particolare dell
 a cantina\, ancora oggi visibile\, è la pietra sudaria\, da cui sgorga acq
 ua. La tradizione familiare\, oggi\, viene portata avanti dal nipote Anton
 io Galano che l’ha resa uno speciale luogo di ritrovo dove turisti ed isol
 ani.\n3. CANTINA RAUSTELLAIndirizzo: Via Lorenzo Fiore\, - Serrara Fontana
 Contatti: 3478128485Alle pendici del monte Epomeo\, in grotte scavate\, in
  grotte scavate nella montagna dagli antichi ischitani\, saggi contadini c
 ontinuano a produrre il vino con i sistemi dei padri. Tra questi\, Frances
 co Mattera detto Raustella\, nella sua cantina in Serrara\, alla veneranda
  eta’ di 90 anni continua a produrre il meraviglioso nettare degli dei. Co
 mpletamente restaurata da Giuseppe Mattera oggi scrigno delle antiche trad
 izioni vitivinicole...\nPrezzo del percorso € 30 https://www.prolocopanza.
 it/en/calendario-eventi-archiviati/event/14482-percorso-epomeo
DTSTART:20220926T080000Z
DTEND:20220926T120000Z
LOCATION:Pro Loco Panza Ischia (Via Cavaliere Leonardo Impagliazzo\, 144\, 
 80075 Forio NA\, Italia)
SUMMARY:Percorso Epomeo
URL:https://www.prolocopanza.it/en/calendario-eventi-archiviati/event/14482
 -percorso-epomeo
END:VEVENT
BEGIN:VEVENT
UID:20260422T172832CEST-4835fhnWlm@https://www.prolocopanza.it/
DTSTAMP:20260422T152832Z
DESCRIPTION:\nLe cantine del percorso Frassitelli:\n\n1. CANTINA RAUSTELLAI
 ndirizzo: Via Lorenzo Fiore\, - Serrara FontanaContatti: 3478128485Alle pe
 ndici del monte Epomeo\, in grotte scavate\, in grotte scavate nella monta
 gna dagli antichi ischitani\, saggi contadini continuano a produrre il vin
 o con i sistemi dei padri. Tra questi\, Francesco Mattera detto Raustella\
 , nella sua cantina in Serrara\, alla veneranda eta’ di 90 anni continua a
  produrre il meraviglioso nettare degli dei. Completamente restaurata da G
 iuseppe Mattera oggi scrigno delle antiche tradizioni vitivinicole...\n&nb
 sp\;\n2. A ‘CANTIN E CIR’Antico Borgo di Noia - Serrara FontanaTel. 081 99
 9477Anticamente era una grotta la quale serviva da rifugio alle varie incu
 rsioni di pirati. La famiglia Iacono la acquistò insieme al vigneto all’in
 izio del ‘900. Essendo una famiglia di contadini\, il signor Ciro Iacono\,
  dopo il ’30\, la trasformò in cantina ampliandola e rendendola un locale 
 funzionale per la produzione e la conservazione del vino.\n&nbsp\;\n3. CAN
 TINA 'U SCILATUROVia Angelo Migliaccio\, 151 Tel. 3426226910La cantina del
 la famiglia Di Costanzo si trova sulla parte alta di Barano\, in località 
 Toccaneto. Centocinquanta anni di tradizione racchiusi in un piccolo tempi
 o del vino sapientemente restaurato\, in cui è possibile ammirare le antic
 he pietre e i vecchi palmenti\, protagonisti di storiche vendemmie. L’azie
 nda agricola\, a conduzione famigliare\, produce un vino dal sapore&nbsp\;
  tipicamente ischitano.\nPrezzo del percorso € 35 https://www.prolocopanza
 .it/en/calendario-eventi-archiviati/event/14494-percorso-frassitelli
DTSTART:20220926T130000Z
DTEND:20220926T160000Z
LOCATION:Pro Loco Panza Ischia (Via Cavaliere Leonardo Impagliazzo\, 144\, 
 80075 Forio NA\, Italia)
SUMMARY:Percorso Frassitelli
URL:https://www.prolocopanza.it/en/calendario-eventi-archiviati/event/14494
 -percorso-frassitelli
END:VEVENT
BEGIN:VEVENT
UID:20260422T172832CEST-4840T8VJeU@https://www.prolocopanza.it/
DTSTAMP:20260422T152832Z
DESCRIPTION:Le cantine del percorso San Lunardo:\n1. CANTINA PELLICCIONEVia
  San Pietro - BuonopaneTel. +39 349 578 0618In località San Pietro\, la ca
 ntina Pelliccione è riferimento di convivialità del borgo. Fermarsi a bere
  un buon bicchiere di vino nella frescura all’interno delle grandi grotte 
 scavate nel tufo è un rito collettivo al quale si aggregano con piacere i 
 forestieri. Il microclima delle grotte conserva alla perfezione il vino e 
 gli altri prodotti tipici.\n2. AZIENDA AGRICOLA FILIPPO FLORIOVia Ritola\,
  6 - Barano d’IschiaTel. 347.9333701 - 081990642Impegnata nella viticoltur
 a da cinque generazioni\, la famiglia Florio produce vino con lieviti Bian
 colella docg. Vanto dell’Azienda sono l’Epomeo Rosso e il Bianco Igp. Affi
 nati nell’antica cantina scavata nel tufo.\n3. AGRITURISMO GIASOLEVia Cand
 iano 31/A - Barano d’IschiaTel. 347 674 7979L’azienda agrituristica Giasol
 e grazie all’esposizione ideale dei suoi terreni\, vanta una grande variet
 à di frutti e verdure in ogni stagione. Oltre alla produzione di vino che 
 è tratto distintivo dell’Azienda. La trasformazione dei prodotti dell’orto
  di casa\, rigorosamente bio\, nei piatti tipici isolani ci permette di fa
 rli apprezzare a tutti i nostri visitatori.\nPrezzo del percorso € 30 http
 s://www.prolocopanza.it/en/calendario-eventi-archiviati/event/14512-percor
 so-san-lunardo
DTSTART:20220926T130000Z
DTEND:20220926T160000Z
LOCATION:Pro Loco Panza Ischia (Via Cavaliere Leonardo Impagliazzo\, 144\, 
 80075 Forio NA\, Italia)
SUMMARY:Percorso San Lunardo
URL:https://www.prolocopanza.it/en/calendario-eventi-archiviati/event/14512
 -percorso-san-lunardo
END:VEVENT
BEGIN:VEVENT
UID:20260422T172832CEST-4845ZONw7w@https://www.prolocopanza.it/
DTSTAMP:20260422T152832Z
DESCRIPTION:Le cantine del percorso Biancolella:\n1. CANTINA SCARDECCHIAVia
  Succhivo - Serrara FontanaTel. 081 909062Cantina storica del paese\, pass
 ata di generazione in generazione per tre secoli tra le mani sapienti dell
 a famiglia Iacono. Attualmente si producono vino bianco\, rosso\, spumante
  misto e Sorriso.\n2. ANTICA FATTORIA GRECAVia Sorgeto\, 51 - ForioTel: 08
 1 908102 - 081 909277www.puntachiarito.it - info@puntachiarito.itL’azienda
  si contraddistingue per la produzione di vini speciali locali come Ischia
  Bianco e Ischia Rosso. Presso la struttura è possibile degustare i vini\,
  visitare il vigneto. La produzione si basa sulla più genuina tradizione c
 ontadina ischitana.\n3. CANTINE D’AMBRAVia Mario D’Ambra\, 16 - ForioTel. 
 081 907246 - 081 907210Casa D’Ambra\, fondata nel 1888\, continua\, nell’i
 nnovazione della tradizione\, la storia di una cultura millenaria\, cercan
 do di raccontare\, attraverso i vini\, il territorio unico dell’isola d’Is
 chia\, esaltando in purezza le prerogative qualitative delle uve\, dei ter
 reni e dei microclimi.\nTutti i percorsi partono dalla sede della Pro loco
  in piazza San Leonardo\, Panza alle ore 10.00Prenotazione obbligatoria es
 clusivamente con green pass.Le escursioni comprendono: servizio navetta – 
 guida – degustazione vini e prodotti tipici della tradizione natalizia I p
 ercorsi possono subire variazioni e modifiche in base alle prenotazioni e 
 alla disponibilità delle cantine.\nLa manifestazione si svolgerà nel pieno
  rispetto delle normative anticovid e si potrà partecipare esclusivamente 
 se in possesso del Green Pass.\nSarà possibile prenotare i percorsi anche 
 di pomeriggio con partenza alle 15.00 solo ed esclusivamente per gruppi co
 n un minimo di 15 persone.  https://www.prolocopanza.it/en/calendario-even
 ti-archiviati/event/14549-percorso-biancolella
DTSTART:20220926T080000Z
DTEND:20220926T120000Z
LOCATION:Pro Loco Panza Ischia (Via Cavaliere Leonardo Impagliazzo\, 144\, 
 80075 Forio NA\, Italia)
SUMMARY:Percorso Biancolella
URL:https://www.prolocopanza.it/en/calendario-eventi-archiviati/event/14549
 -percorso-biancolella
END:VEVENT
BEGIN:VEVENT
UID:20260422T172832CEST-48502tHMeS@https://www.prolocopanza.it/
DTSTAMP:20260422T152832Z
DESCRIPTION:Percorrendo via Montecorvo e salendo poi dei gradoni scavati ne
 lla roccia giungeremo fin sopra la “Bocca di Tifeo”: affascinante bocca fu
 marolica con emissioni di vapore acqueo a circa&nbsp\; 15°. Da qui godremo
  di una vista unica sull’intero promontorio del comune di Forio.\nCi dirig
 eremo presso la tenuta C’est la Vie\, da cui si avrà una vista mare ed all
 e spalle la spettacolare&nbsp\; vista delle fumarole di “Donna Rachele”\, 
 dove godremo di una degustazione di prodotti locali.\nAlong via Montecorvo
 \, and then\, climbing steps dug into the rock we will reach the “Bocca di
  Tifeo”: a fascinating fumarolic mouth with water vapor emissions at about
  115 °. From here we will enjoy a unique view of the entire promontory of 
 the municipality of Forio. We will head to the C’est la Vie estate\, from 
 which you will have a sea view and behind you the spectacular view of the 
 “Donna Rachele” fumaroles\, where we will enjoy a tasting of local product
 s.\nINFO\n- Punto Partenza/Arrivo (Departure / arrival point): Sede Proloc
 o Panza\, Forio- Difficoltà: Facile / Turistica (Difficulty: Easy)- Durata
 : 5h – 4km (soste incluse) Duration: 5\,5h – 4km (stops included)- Visita/
 Degustazione: (Visit / Tasting): Tenuta C’est la Vie- Quota di partecipazi
 one / Price 30 € https://www.prolocopanza.it/en/calendario-eventi-archivia
 ti/event/14550-il-sentiero-della-bocca-di-tifeo-al-tramonto
DTSTART:20220926T140000Z
DTEND:20220926T183000Z
LOCATION:Piazza San Leonardo  (Via Cavaliere Leonardo Impagliazzo\, 65\, 80
 075 Forio NA\, Italia)
SUMMARY:Il sentiero della Bocca di Tifeo al Tramonto
URL:https://www.prolocopanza.it/en/calendario-eventi-archiviati/event/14550
 -il-sentiero-della-bocca-di-tifeo-al-tramonto
END:VEVENT
END:VCALENDAR
