BEGIN:VCALENDAR
VERSION:2.0
PRODID:-//https://www.prolocopanza.it///NONSGML kigkonsult.se iCalcreator 2.10.15//
METHOD:PUBLISH
BEGIN:VEVENT
UID:20260421T052448CEST-6798fsObAU@https://www.prolocopanza.it/
DTSTAMP:20260421T032448Z
DESCRIPTION:Un sentiero ricco di essenze e colori delle piante tipiche dell
 a macchia mediterranea ci condurrà verso il monte di Panza. Attraverseremo
 \, poi\, un fitto boschetto e un tratto di radura caratterizzata da un man
 to di felci\, per raggiungere la baia della Pelara\, pregevole geosito di 
 carattere vulcanico.\n&nbsp\;Punto Partenza/Arrivo (Departure / arrival po
 int): Sede Proloco Panza\, Forio- Difficoltà: Facile / Turistica (Difficul
 ty: Easy)- Durata: 5\,5h – 6km (soste incluse) Duration: 5\,5h – 6km (stop
 s included)- Visita/Degustazione (Visit / Tasting): Antica Fattoria Greca
 \nQuota di partecipazione 30\,00€ a persona https://www.prolocopanza.it/en
 /calendario-eventi-archiviati/event/14586-andar-per-cantine-2023-il-sentie
 ro-delle-due-baie
DTSTART:20230925T073000Z
DTEND:20230925T120000Z
LOCATION:Pro Loco Panza Ischia (Via Cavaliere Leonardo Impagliazzo\, 144\, 
 80075 Forio NA\, Italia)
SUMMARY:Andar per cantine 2023: il sentiero delle due baie 
URL:https://www.prolocopanza.it/en/calendario-eventi-archiviati/event/14586
 -andar-per-cantine-2023-il-sentiero-delle-due-baie
END:VEVENT
BEGIN:VEVENT
UID:20260421T052448CEST-6803ShfEAR@https://www.prolocopanza.it/
DTSTAMP:20260421T032448Z
DESCRIPTION:Le cantine del percorso San Lunardo:\nCANTINA PELLICCIONEBarano
  - Via San Pietro Tel. +39 349 578 0618In località San Pietro\, la cantina
  Pelliccione è riferimento di convivialità del borgo di Buonopane. Fermars
 i a bere un buon bicchiere di vino\, nella frescura all’interno delle gran
 di grotte scavate nel tufo\, è un rito collettivo al quale si aggregano co
 n piacere i forestieri. Il microclima delle grotte conserva alla perfezion
 e il vino e gli altri prodotti tipici.\nAZIENDA AGRICOLA FILIPPO FLORIOBar
 ano - Via Ritola\, 6 Tel: . +39 347.9333701Impegnata nella viticoltura da 
 cinque generazioni\, la famiglia Florio produce vino con lieviti Biancolel
 la docg. Vanto dell’Azienda sono l’Epomeo Rosso e il Bianco Igp. Affinati 
 nell’antica cantina scavata nel tufo.\nAGRITURISMO GIASOLEBarano - Via Can
 diano 31/A - Tel. +39 347 674 7979L’azienda agrituristica Giasole grazie a
 ll’esposizione ideale dei suoi terreni\, vanta una grande varietà di frutt
 i e verdure in ogni stagione. Oltre alla produzione di vino\, che è tratto
  distintivo dell’Azienda. La trasformazione dei prodotti dell’orto di casa
 \, rigorosamente bio\, nei piatti tipici isolani ci permette di farli appr
 ezzare a tutti i nostri visitatori.\nQuota di partecipazione 35\,00€ a per
 sona https://www.prolocopanza.it/en/calendario-eventi-archiviati/event/146
 11-andar-per-cantine-2023-percorso-san-lunardo
DTSTART:20230925T130000Z
DTEND:20230925T160000Z
LOCATION:Piazza San Leonardo  (Via Cavaliere Leonardo Impagliazzo\, 65\, 80
 075 Forio NA\, Italia)
SUMMARY:Andar per cantine 2023: Percorso San Lunardo
URL:https://www.prolocopanza.it/en/calendario-eventi-archiviati/event/14611
 -andar-per-cantine-2023-percorso-san-lunardo
END:VEVENT
BEGIN:VEVENT
UID:20260421T052448CEST-68085vSEVO@https://www.prolocopanza.it/
DTSTAMP:20260421T032448Z
DESCRIPTION:Le cantine del percorso Aragonese:\nLA VIGNA DEL CASTELLO ARAGO
 NESEIschia - Castello Aragonese - Tel. +39 081 99 28 34Il vino nasce da uv
 e Biancolella che maturano in pieno sole sul Castello Aragonese di Ischia\
 , in un vigneto panoramico riattivato grazie alla volontà di Gabriele Matt
 era e sua moglie Karin con i figli Nicola e Anna Cristina Un vino prodotto
  secondo la tradizione isolana\, in un terreno a vigna fin dal Medioevo.\n
 Quota di partecipazione 40\,00 € a persona https://www.prolocopanza.it/en/
 calendario-eventi-archiviati/event/14618-andar-per-cantine-2023-percorso-a
 ragonese
DTSTART:20230925T130000Z
DTEND:20230925T170000Z
LOCATION:Piazzale delle alghe (Via Boccaccio\, 1\, 80077 Ischia NA\, Italia
 )
SUMMARY:Andar per cantine 2023: Percorso Aragonese
URL:https://www.prolocopanza.it/en/calendario-eventi-archiviati/event/14618
 -andar-per-cantine-2023-percorso-aragonese
END:VEVENT
BEGIN:VEVENT
UID:20260421T052448CEST-6812FhUNpr@https://www.prolocopanza.it/
DTSTAMP:20260421T032448Z
DESCRIPTION:\nLe cantine del percorso Frassitelli:\n\n&nbsp\;\nA ‘CANTIN E 
 CIR’Antico Borgo di Noia - Serrara FontanaTel. 081 999477Anticamente era u
 na grotta la quale serviva da rifugio alle varie incursioni di pirati. La 
 famiglia Iacono la acquistò insieme al vigneto all’inizio del ‘900. Essend
 o una famiglia di contadini\, il signor Ciro Iacono\, dopo il ’30\, la tra
 sformò in cantina ampliandola e rendendola un locale funzionale per la pro
 duzione e la conservazione del vino.\n&nbsp\;\nCANTINA 'U SCILATUROVia Ang
 elo Migliaccio\, 151 Tel. 3426226910La cantina della famiglia Di Costanzo 
 si trova sulla parte alta di Barano\, in località Toccaneto. Centocinquant
 a anni di tradizione racchiusi in un piccolo tempio del vino sapientemente
  restaurato\, in cui è possibile ammirare le antiche pietre e i vecchi pal
 menti\, protagonisti di storiche vendemmie. L’azienda agricola\, a conduzi
 one famigliare\, produce un vino dal sapore&nbsp\; tipicamente ischitano.
 \n&nbsp\;\nCANTINA RAUSTELLAVia Lorenzo Fiore - Serrara FontanaCell. 34781
 28485Alle pendici del monte Epomeo\, in grotte scavate\, in grotte scavate
  nella montagna dagli antichi ischitani\, saggi contadini continuano a pro
 durre il vino con i sistemi dei padri. Tra questi\, Francesco Mattera dett
 o Raustella\, nella sua cantina in Serrara\, alla veneranda eta’ di 90 ann
 i continua a produrre il meraviglioso nettare degli dei. Completamente res
 taurata da Giuseppe Mattera oggi scrigno delle antiche tradizioni vitivini
 cole...\nQuota di partecipazione 35\,00€ a persona https://www.prolocopanz
 a.it/en/calendario-eventi-archiviati/event/14635-andar-per-cantine-2023-pe
 rcorso-frassitelli
DTSTART:20230925T130000Z
DTEND:20230925T160000Z
LOCATION:Pro Loco Panza Ischia (Via Cavaliere Leonardo Impagliazzo\, 144\, 
 80075 Forio NA\, Italia)
SUMMARY:Andar per cantine 2023: Percorso Frassitelli
URL:https://www.prolocopanza.it/en/calendario-eventi-archiviati/event/14635
 -andar-per-cantine-2023-percorso-frassitelli
END:VEVENT
BEGIN:VEVENT
UID:20260421T052448CEST-6817heZRBE@https://www.prolocopanza.it/
DTSTAMP:20260421T032448Z
DESCRIPTION:Le cantine del percorso Biancolella:\nCANTINA SCARDECCHIASerrar
 a Fontana - Via Succhivo - Tel. +39 081 909062Cantina storica del paese\, 
 tramandata per tre secoli da una generazione all’altra della famiglia Iaco
 no. Attualmente si producono vino bianco\, rosso\, spumante misto e Sorris
 o\nTENUTA GIOSUÉ COLELLAForio - Via S.Giuseppe 24 - Tel. +39 328 068 1061L
 ’azienda agricola Colella vi accoglierà tra il verde dei vigneti delle col
 line foriane. Visiterete l’antica cantina scavata a mano in un unico blocc
 o di tufo verde dai nostri avi. Degusterete vini di nicchia e assaporerete
  le nostre specialità\, prodotte secondo antiche ricette di famiglia\, rim
 aste invariate da generazioni...\nCANTINA CALIMERASerrara Fontana - Via Pi
 etra dell’Acqua\, n1-Tel. +39 3282162841Ai piedi del monte Epomeo\, nell’a
 ntico borgo di Calimera\, troverete un’antica cantina dell’800\, dove si p
 roduceva vino proveniente dai vigneti di Serrara Fontana. Abbandonata per 
 molti anni\, nel 2021 è stata acquisita dalla famiglia Coppola-Mattera\, c
 he l’ha riportata all’antico splendore.\nQuota di partecipazione 35\,00€ a
  persona https://www.prolocopanza.it/en/calendario-eventi-archiviati/event
 /14643-andar-per-cantine-2023-percorso-biancolella
DTSTART:20230925T080000Z
DTEND:20230925T120000Z
LOCATION:Piazza San Leonardo  (Via Cavaliere Leonardo Impagliazzo\, 65\, 80
 075 Forio NA\, Italia)
SUMMARY:Andar per cantine 2023: Percorso Biancolella
URL:https://www.prolocopanza.it/en/calendario-eventi-archiviati/event/14643
 -andar-per-cantine-2023-percorso-biancolella
END:VEVENT
BEGIN:VEVENT
UID:20260421T052448CEST-6822RVvXPB@https://www.prolocopanza.it/
DTSTAMP:20260421T032448Z
DESCRIPTION:Le cantine del percorso Epomeo:\nCANTINA RAUSTELLAVia Lorenzo F
 iore - Serrara FontanaCell. 3478128485Alle pendici del monte Epomeo\, in g
 rotte scavate\, in grotte scavate nella montagna dagli antichi ischitani\,
  saggi contadini continuano a produrre il vino con i sistemi dei padri. Tr
 a questi\, Francesco Mattera detto Raustella\, nella sua cantina in Serrar
 a\, alla veneranda eta’ di 90 anni continua a produrre il meraviglioso net
 tare degli dei. Completamente restaurata da Giuseppe Mattera oggi scrigno 
 delle antiche tradizioni vitivinicole...\nA‘ CANTIN E CIR’Antico Borgo di 
 Noia - Serrara FontanaTel. 081 999477Anticamente era una grotta la quale s
 erviva da rifugio alle varie incursioni di pirati. La famiglia Iacono la a
 cquistò insieme al vigneto all’inizio del ‘900. Essendo una famiglia di co
 ntadini\, il signor Ciro Iacono\, dopo il ’30\, la trasformò in cantina am
 pliandola e rendendola un locale funzionale per la produzione e la conserv
 azione del vino.\nA' CANTIN LU' SCULTOREIndirizzo: Via Casa Mattera\, 25 -
  FontanaContatti: 3337663548Poco distante dalla piazza di Fontana\, si tro
 va la cantina di Nicola Gioba. Cantina risalente al 1930 interamente costr
 uita in pietra di tufo da Nicolino 'a Panella.Ora rielaborata da Nicola Gi
 oba\, maestro scultore della pietra\, che attraverso le sue opere ha volut
 o immortalare alcuni momenti significativi della vendemmia. Ma potrete amm
 irare anche altre sculture che arricchiscono 'la cantina' e che la rendono
  unica.\nQuota di partecipazione 35\,00€ a persona https://www.prolocopanz
 a.it/en/calendario-eventi-archiviati/event/14644-andar-per-cantine-2023-pe
 rcorso-epomeo
DTSTART:20230925T080000Z
DTEND:20230925T120000Z
LOCATION:Piazza San Leonardo  (Via Cavaliere Leonardo Impagliazzo\, 65\, 80
 075 Forio NA\, Italia)
SUMMARY:Andar per cantine 2023: Percorso Epomeo
URL:https://www.prolocopanza.it/en/calendario-eventi-archiviati/event/14644
 -andar-per-cantine-2023-percorso-epomeo
END:VEVENT
BEGIN:VEVENT
UID:20260421T052448CEST-682995TDrI@https://www.prolocopanza.it/
DTSTAMP:20260421T032448Z
DESCRIPTION:Le cantine del percorso Piedirosso:\nCANTINA PASSARIELLOVia Tir
 oni\, 29 *- ForioCell. 335 6341297La cantina si trova in località Tironi e
 d è di proprietà della famiglia Russo dal 1956. Costruita interamente in t
 ufo verde nel lontano 1873\, era adibita per la produzione e la vendita di
  vino locale. Rappresenta sicuramente una delle cantine più antiche di For
 io ed è perfettamente funzionante.\nCANTINA SCARDECCHIAVia Succhivo - Serr
 ara FontanaTel. 081 909062Cantina storica del paese\, passata di generazio
 ne in generazione per tre secoli tra le mani sapienti della famiglia Iacon
 o. Attualmente si producono vino bianco\, rosso\, spumante misto e Sorriso
 .\nTENUTA CALITTOForio - Via Provinciale Panza 486 Tel. 081 90 72 46Una di
 mora nobiliare di campagna del XVIII secolo\, finemente restaurata\, al ce
 ntro di un esteso vigneto in una valletta inondata di sole e dominata dall
 ’inconfondibile sagoma del massiccio dell’Epomeo. Vini i qualità in un luo
 go di grande suggestione.\nQuota di partecipazione 35\,00€ a persona https
 ://www.prolocopanza.it/en/calendario-eventi-archiviati/event/14647-andar-p
 er-cantine-2023-percorso-piedirosso
DTSTART:20230925T130000Z
DTEND:20230925T170000Z
LOCATION:Piazza San Leonardo  (Via Cavaliere Leonardo Impagliazzo\, 65\, 80
 075 Forio NA\, Italia)
SUMMARY:Andar per cantine 2023: Percorso Piedirosso
URL:https://www.prolocopanza.it/en/calendario-eventi-archiviati/event/14647
 -andar-per-cantine-2023-percorso-piedirosso
END:VEVENT
BEGIN:VEVENT
UID:20260421T052448CEST-6833fcuRVs@https://www.prolocopanza.it/
DTSTAMP:20260421T032448Z
DESCRIPTION:Percorso guidato con degustazione di vini e prodotti tipici loc
 ali al chiaro di luna settembrina in alcune tra le più belle e suggestive 
 cantine ischitane.\nQuota di partecipazione € 40\,00 a persona https://www
 .prolocopanza.it/en/calendario-eventi-archiviati/event/14672-cantinando-so
 tto-le-stelle
DTSTART:20230925T164500Z
DTEND:20230925T215900Z
LOCATION:Pro Loco Panza Ischia (Via Cavaliere Leonardo Impagliazzo\, 144\, 
 80075 Forio NA\, Italia)
SUMMARY:Cantinando sotto le stelle
URL:https://www.prolocopanza.it/en/calendario-eventi-archiviati/event/14672
 -cantinando-sotto-le-stelle
END:VEVENT
END:VCALENDAR
