BEGIN:VCALENDAR
VERSION:2.0
PRODID:-//https://www.prolocopanza.it///NONSGML kigkonsult.se iCalcreator 2.10.15//
METHOD:PUBLISH
BEGIN:VEVENT
UID:20260422T181853CEST-7704B1Mcxx@https://www.prolocopanza.it/
DTSTAMP:20260422T161853Z
DESCRIPTION:\nLe cantine del percorso Frassitelli:\n\n1. CANTINA RAUSTELLAI
 ndirizzo: Via Lorenzo Fiore\, - Serrara FontanaContatti: 3478128485Alle pe
 ndici del monte Epomeo\, in grotte scavate\, in grotte scavate nella monta
 gna dagli antichi ischitani\, saggi contadini continuano a produrre il vin
 o con i sistemi dei padri. Tra questi\, Francesco Mattera detto Raustella\
 , nella sua cantina in Serrara\, alla veneranda eta’ di 90 anni continua a
  produrre il meraviglioso nettare degli dei. Completamente restaurata da G
 iuseppe Mattera oggi scrigno delle antiche tradizioni vitivinicole...\n&nb
 sp\;\n2. A ‘CANTIN E CIR’Antico Borgo di Noia - Serrara FontanaTel. 081 99
 9477Anticamente era una grotta la quale serviva da rifugio alle varie incu
 rsioni di pirati. La famiglia Iacono la acquistò insieme al vigneto all’in
 izio del ‘900. Essendo una famiglia di contadini\, il signor Ciro Iacono\,
  dopo il ’30\, la trasformò in cantina ampliandola e rendendola un locale 
 funzionale per la produzione e la conservazione del vino.\n&nbsp\;\n3. CAN
 TINA 'U SCILATUROVia Angelo Migliaccio\, 151 Tel. 3426226910La cantina del
 la famiglia Di Costanzo si trova sulla parte alta di Barano\, in località 
 Toccaneto. Centocinquanta anni di tradizione racchiusi in un piccolo tempi
 o del vino sapientemente restaurato\, in cui è possibile ammirare le antic
 he pietre e i vecchi palmenti\, protagonisti di storiche vendemmie. L’azie
 nda agricola\, a conduzione famigliare\, produce un vino dal sapore&nbsp\;
  tipicamente ischitano.\nCOMPLETO https://www.prolocopanza.it/en/calendari
 o-eventi-archiviati/event/14493-percorso-frassitelli
DTSTART:20220925T130000Z
DTEND:20220925T160000Z
LOCATION:Pro Loco Panza Ischia (Via Cavaliere Leonardo Impagliazzo\, 144\, 
 80075 Forio NA\, Italia)
SUMMARY:Percorso Frassitelli
URL:https://www.prolocopanza.it/en/calendario-eventi-archiviati/event/14493
 -percorso-frassitelli
END:VEVENT
BEGIN:VEVENT
UID:20260422T181853CEST-7712rEOaVd@https://www.prolocopanza.it/
DTSTAMP:20260422T161853Z
DESCRIPTION:Le cantine del percorso San Lunardo:\n1. CANTINA PELLICCIONEVia
  San Pietro - BuonopaneTel. +39 349 578 0618In località San Pietro\, la ca
 ntina Pelliccione è riferimento di convivialità del borgo. Fermarsi a bere
  un buon bicchiere di vino nella frescura all’interno delle grandi grotte 
 scavate nel tufo è un rito collettivo al quale si aggregano con piacere i 
 forestieri. Il microclima delle grotte conserva alla perfezione il vino e 
 gli altri prodotti tipici.\n2. AZIENDA AGRICOLA FILIPPO FLORIOVia Ritola\,
  6 - Barano d’IschiaTel. 347.9333701 - 081990642Impegnata nella viticoltur
 a da cinque generazioni\, la famiglia Florio produce vino con lieviti Bian
 colella docg. Vanto dell’Azienda sono l’Epomeo Rosso e il Bianco Igp. Affi
 nati nell’antica cantina scavata nel tufo.\n3. AGRITURISMO GIASOLEVia Cand
 iano 31/A - Barano d’IschiaTel. 347 674 7979L’azienda agrituristica Giasol
 e grazie all’esposizione ideale dei suoi terreni\, vanta una grande variet
 à di frutti e verdure in ogni stagione. Oltre alla produzione di vino che 
 è tratto distintivo dell’Azienda. La trasformazione dei prodotti dell’orto
  di casa\, rigorosamente bio\, nei piatti tipici isolani ci permette di fa
 rli apprezzare a tutti i nostri visitatori.\nCOMPLETO https://www.prolocop
 anza.it/en/calendario-eventi-archiviati/event/14511-percorso-san-lunardo
DTSTART:20220925T130000Z
DTEND:20220925T160000Z
LOCATION:Pro Loco Panza Ischia (Via Cavaliere Leonardo Impagliazzo\, 144\, 
 80075 Forio NA\, Italia)
SUMMARY:Percorso San Lunardo
URL:https://www.prolocopanza.it/en/calendario-eventi-archiviati/event/14511
 -percorso-san-lunardo
END:VEVENT
BEGIN:VEVENT
UID:20260422T181853CEST-77185nm6tf@https://www.prolocopanza.it/
DTSTAMP:20260422T161853Z
DESCRIPTION:Le cantine del percorso Piedirosso:\n\n1. CANTINA PASSARIELLOVi
 a Tironi\, 29 - ForioCell. +39 335 6341297La cantina si trova in località 
 Tironi ed è di proprietà della famiglia Russo dal 1956. Costruita interame
 nte in tufo verde nel lontano 1873\, era adibita per la produzione e la ve
 ndita di vino locale. Rappresenta sicuramente una delle cantine più antich
 e di Forio ed è perfettamente funzionante.\n2. CANTINA SCARDECCHIAVia Succ
 hivo - Serrara FontanaTel. 081 909062Cantina storica del paese\, passata d
 i generazione in generazione per tre secoli tra le mani sapienti della fam
 iglia Iacono. Attualmente si producono vino bianco\, rosso\, spumante mist
 o e Sorriso.\n3. AGRITURISMO SAPORI DELLA NONNAVia San Giuliano\, 27 - For
 ioCell. +39 3770843681L’agriturismo “I Sapori della nonna” rimarca l’antic
 a tradizione agricola della Famiglia Impagliazzo che dura da decenni\, la 
 cantina presente nella struttura è scavata nel tufo verde e risale al 1600
 . La cantina compare anche nel libro “Le case di pietra” di Luigi Ziviello
  dove sono presenti le più antiche grotte di tufo dell’isola d’Ischia.\nPr
 ezzo del percorso € 30 https://www.prolocopanza.it/en/calendario-eventi-ar
 chiviati/event/14541-percorso-piedirosso
DTSTART:20220925T080000Z
DTEND:20220925T110000Z
LOCATION:Pro Loco Panza Ischia (Via Cavaliere Leonardo Impagliazzo\, 144\, 
 80075 Forio NA\, Italia)
SUMMARY:Percorso Piedirosso
URL:https://www.prolocopanza.it/en/calendario-eventi-archiviati/event/14541
 -percorso-piedirosso
END:VEVENT
BEGIN:VEVENT
UID:20260422T181853CEST-77220w9rvu@https://www.prolocopanza.it/
DTSTAMP:20260422T161853Z
DESCRIPTION:Arriveremo presso una zona caratterizzata da blocchi tufacei mo
 dellati dalle&nbsp\; azioni degli agenti naturali: i Pizzi Bianchi\, grupp
 o di pinnacoli di tufo di un colore perfettamente bianco.&nbsp\;\nContinua
 ndo il percorso in discesa giungeremo fin dentro la gola di Cavascura\, do
 ve avremo modo di godere di un’esperienza termale in piscina presso l’hote
 l Regina del Mare.\nInfine&nbsp\; effettueremo una sosta con degustazione 
 sulla famosa spiaggia delle Fumarole prima di raggiungere il borgo di Sant
 ’angelo.\nWe will arrive at an area characterized by tuff blocks shaped by
  the actions of natural agents: the Pizzi Bianchi\, a group of perfectly w
 hite tuff pinnacles\, candid. Continuing the descent we will reach the Cav
 ascura gorge\, where we will be able to enjoy a thermal experience in the 
 swimming pool at the Regina del Mare hotel. Finally\, we will make a stop 
 with a tasting on the famous Fumarole beach before reaching the village of
  Sant’angelo.\nINFO- Punto Partenza/Arrivo: Sede Proloco Panza\, Forio- Di
 fficoltà: Difficile / Escursionisti Esperti- Durata: 6\,5h – 5km (soste in
 cluse)- Terme/Degustazione: Hotel Regina del Mare / Fumarole- Quota di par
 tecipazione / Price: 40 € https://www.prolocopanza.it/en/calendario-eventi
 -archiviati/event/14545-il-sentiero-dei-pizzi-bianchi
DTSTART:20220925T073000Z
DTEND:20220925T133000Z
LOCATION:Pro Loco Panza Ischia (Via Cavaliere Leonardo Impagliazzo\, 144\, 
 80075 Forio NA\, Italia)
SUMMARY:Il sentiero dei Pizzi Bianchi
URL:https://www.prolocopanza.it/en/calendario-eventi-archiviati/event/14545
 -il-sentiero-dei-pizzi-bianchi
END:VEVENT
BEGIN:VEVENT
UID:20260422T181853CEST-7727uuUcud@https://www.prolocopanza.it/
DTSTAMP:20260422T161853Z
DESCRIPTION:Le cantine del percorso Piedirosso:\n\n1. CANTINA PASSARIELLOVi
 a Tironi\, 29 - ForioCell. +39 335 6341297La cantina si trova in località 
 Tironi ed è di proprietà della famiglia Russo dal 1956. Costruita interame
 nte in tufo verde nel lontano 1873\, era adibita per la produzione e la ve
 ndita di vino locale. Rappresenta sicuramente una delle cantine più antich
 e di Forio ed è perfettamente funzionante.\n2. AGRITURISMO SAPORI DELLA NO
 NNAVia San Giuliano\, 27 - ForioCell. +39 3770843681L’agriturismo “I Sapor
 i della nonna” rimarca l’antica tradizione agricola della Famiglia Impagli
 azzo che dura da decenni\, la cantina presente nella struttura è scavata n
 el tufo verde e risale al 1600. La cantina compare anche nel libro “le cas
 e di pietra” di Luigi Ziviello dove sono presenti le più antiche grotte di
  tufo dell’isola d’Ischia.\n3. CANTINE PIETRATORCIAVia Provinciale Panza\,
  267 - ForioTel. 081 908206/081 907232 Fax: 081 908949www.pietratorcia.it 
 - info@pietratorcia.itLe cantine di Pietratorcia sono state create da tre 
 antiche famiglie contadine ischitane Iacono\, Regine e Verde. Oltre sette 
 ettari di terreno sono stati ripiantati con vitigni selezionati.\nCOMPLETO
  https://www.prolocopanza.it/en/calendario-eventi-archiviati/event/14547-p
 ercorso-piedirosso-pomeriggio
DTSTART:20220925T130000Z
DTEND:20220925T160000Z
LOCATION:Pro Loco Panza Ischia (Via Cavaliere Leonardo Impagliazzo\, 144\, 
 80075 Forio NA\, Italia)
SUMMARY:Percorso Piedirosso (Pomeriggio)
URL:https://www.prolocopanza.it/en/calendario-eventi-archiviati/event/14547
 -percorso-piedirosso-pomeriggio
END:VEVENT
BEGIN:VEVENT
UID:20260422T181853CEST-7732fbWcBo@https://www.prolocopanza.it/
DTSTAMP:20260422T161853Z
DESCRIPTION:Le cantine del percorso Epomeo:\n1. CANTINA RAUSTELLAVia Lorenz
 o Fiore - Serrara FontanaCell. 3478128485Alle pendici del monte Epomeo\, i
 n grotte scavate\, in grotte scavate nella montagna dagli antichi ischitan
 i\, saggi contadini continuano a produrre il vino con i sistemi dei padri.
  Tra questi\, Francesco Mattera detto Raustella\, nella sua cantina in Ser
 rara\, alla veneranda eta’ di 90 anni continua a produrre il meraviglioso 
 nettare degli dei. Completamente restaurata da Giuseppe Mattera oggi scrig
 no delle antiche tradizioni vitivinicole...\n2. A ‘CANTIN E CIR’Antico Bor
 go di Noia - Serrara FontanaTel. 081 999477Anticamente era una grotta la q
 uale serviva da rifugio alle varie incursioni di pirati. La famiglia Iacon
 o la acquistò insieme al vigneto all’inizio del ‘900. Essendo una famiglia
  di contadini\, il signor Ciro Iacono\, dopo il ’30\, la trasformò in cant
 ina ampliandola e rendendola un locale funzionale per la produzione e la c
 onservazione del vino.\n3. A' CANTIN LU' SCULTOREIndirizzo: Via Casa Matte
 ra\, 25 - FontanaCell. 3337663548Poco distante dalla piazza di Fontana\, s
 i trova la cantina di Nicola Gioba. Cantina risalente al 1930 interamente 
 costruita in pietra di tufo da Nicolino 'a Panella.Ora rielaborata da Nico
 la Gioba\, maestro scultore della pietra\, che attraverso le sue opere ha 
 voluto immortalare alcuni momenti significativi della vendemmia. Ma potret
 e ammirare anche altre sculture che arricchiscono 'la cantina' e che la re
 ndono unica.\nPrezzo del percorso € 30 https://www.prolocopanza.it/en/cale
 ndario-eventi-archiviati/event/14566-percorso-epomeo
DTSTART:20220925T080000Z
DTEND:20220925T110000Z
LOCATION:Pro Loco Panza Ischia (Via Cavaliere Leonardo Impagliazzo\, 144\, 
 80075 Forio NA\, Italia)
SUMMARY:Percorso Epomeo
URL:https://www.prolocopanza.it/en/calendario-eventi-archiviati/event/14566
 -percorso-epomeo
END:VEVENT
END:VCALENDAR
