BEGIN:VCALENDAR
VERSION:2.0
PRODID:-//https://www.prolocopanza.it///NONSGML kigkonsult.se iCalcreator 2.10.15//
METHOD:PUBLISH
BEGIN:VEVENT
UID:20260421T063010CEST-9234U5nXWp@https://www.prolocopanza.it/
DTSTAMP:20260421T043010Z
DESCRIPTION:Le cantine del percorso San Lunardo:\nCANTINA PELLICCIONEBarano
  - Via San Pietro Tel. +39 349 578 0618In località San Pietro\, la cantina
  Pelliccione è riferimento di convivialità del borgo di Buonopane. Fermars
 i a bere un buon bicchiere di vino\, nella frescura all’interno delle gran
 di grotte scavate nel tufo\, è un rito collettivo al quale si aggregano co
 n piacere i forestieri. Il microclima delle grotte conserva alla perfezion
 e il vino e gli altri prodotti tipici.\nAZIENDA AGRICOLA FILIPPO FLORIOBar
 ano - Via Ritola\, 6 Tel: . +39 347.9333701Impegnata nella viticoltura da 
 cinque generazioni\, la famiglia Florio produce vino con lieviti Biancolel
 la docg. Vanto dell’Azienda sono l’Epomeo Rosso e il Bianco Igp. Affinati 
 nell’antica cantina scavata nel tufo.\nAGRITURISMO GIASOLEBarano - Via Can
 diano 31/A - Tel. +39 347 674 7979L’azienda agrituristica Giasole grazie a
 ll’esposizione ideale dei suoi terreni\, vanta una grande varietà di frutt
 i e verdure in ogni stagione. Oltre alla produzione di vino\, che è tratto
  distintivo dell’Azienda. La trasformazione dei prodotti dell’orto di casa
 \, rigorosamente bio\, nei piatti tipici isolani ci permette di farli appr
 ezzare a tutti i nostri visitatori.\nQuota di partecipazione 35\,00€ a per
 sona https://www.prolocopanza.it/en/calendario-eventi-archiviati/event/146
 10-andar-per-cantine-2023-percorso-san-lunardo
DTSTART:20230924T130000Z
DTEND:20230924T160000Z
LOCATION:Piazza San Leonardo  (Via Cavaliere Leonardo Impagliazzo\, 65\, 80
 075 Forio NA\, Italia)
SUMMARY:Andar per cantine 2023: Percorso San Lunardo
URL:https://www.prolocopanza.it/en/calendario-eventi-archiviati/event/14610
 -andar-per-cantine-2023-percorso-san-lunardo
END:VEVENT
BEGIN:VEVENT
UID:20260421T063010CEST-9243Pidvo0@https://www.prolocopanza.it/
DTSTAMP:20260421T043010Z
DESCRIPTION:Le cantine del percorso Epomeo:\nA' CANTIN LU' SCULTOREIndirizz
 o: Via Casa Mattera\, 25 - FontanaContatti: 3337663548Poco distante dalla 
 piazza di Fontana\, si trova la cantina di Nicola Gioba. Cantina risalente
  al 1930 interamente costruita in pietra di tufo da Nicolino 'a Panella.Or
 a rielaborata da Nicola Gioba\, maestro scultore della pietra\, che attrav
 erso le sue opere ha voluto immortalare alcuni momenti significativi della
  vendemmia. Ma potrete ammirare anche altre sculture che arricchiscono 'la
  cantina' e che la rendono unica.\nA‘ CANTINA DI NONNO MICHELE DA TONYSerr
 ara Fontana\, Tel. +39 081 999570 | +39 3294410962La cantina di nonno Mich
 ele\, scavata nel 1908 nelle rocce di tufo e utilizzata fino a 30 anni fa 
 per la conservazione del vino e delle botti. Caratteristica particolare de
 lla cantina\, ancora oggi visibile\, è la pietra sudaria\, da cui sgorga a
 cqua. La tradizione familiare\, oggi\, viene portata avanti dal nipote Ant
 onio Galano\, che l’ha resa uno speciale luogo di ritrovo per turisti ed i
 solani.\nCANTINA CALIMERASerrara Fontana - Via Pietra dell’Acqua\, n1-Tel.
  +39 3282162841Ai piedi del monte Epomeo\, nell’antico borgo di Calimera\,
  troverete un’antica cantina dell’800\, dove si produceva vino proveniente
  dai vigneti di Serrara Fontana. Abbandonata per molti anni\, nel 2021 è s
 tata cquisita dalla famiglia Coppola-Mattera\, che l’ha riportata all’anti
 co splendore. https://www.prolocopanza.it/en/calendario-eventi-archiviati/
 event/14632-andar-per-cantine-2023-percorso-epomeo
DTSTART:20230924T080000Z
DTEND:20230924T120000Z
LOCATION:Piazza San Leonardo  (Via Cavaliere Leonardo Impagliazzo\, 65\, 80
 075 Forio NA\, Italia)
SUMMARY:Andar per cantine 2023: Percorso Epomeo
URL:https://www.prolocopanza.it/en/calendario-eventi-archiviati/event/14632
 -andar-per-cantine-2023-percorso-epomeo
END:VEVENT
BEGIN:VEVENT
UID:20260421T063010CEST-9252OeSja6@https://www.prolocopanza.it/
DTSTAMP:20260421T043010Z
DESCRIPTION:Le cantine del percorso Biancolella:\nCANTINA SCARDECCHIASerrar
 a Fontana - Via Succhivo - Tel. +39 081 909062Cantina storica del paese\, 
 tramandata per tre secoli da una generazione all’altra della famiglia Iaco
 no. Attualmente si producono vino bianco\, rosso\, spumante misto e Sorris
 o\nANTICA FATTORIA GRECAForio - Via Sorgeto\, 51 Tel: +39 081908102 081194
 65224L’azienda si contraddistingue per la produzione di vini speciali loca
 li come Ischia Bianco e Ischia Rosso. Presso la struttura è possibile degu
 stare i vini\, visitare il vigneto. La produzione si basa sulla più genuin
 a tradizione contadina ischitana.\nTENUTA C’EST LA VIEForio - Via Pietra B
 rox 51 - Tel.+39 3498875211 | 3383944341La tenuta è costituita da quattro 
 ettari di vigneto e da una cantina di 600 mg risalente al 1878 e interamen
 te scavata nel dolce tufo verde del monte Epomeo. Dopo quarant’anni anni d
 i abbandono\, è stata iportata all’antico splendore da imprenditori del Br
 esciano. Oggi è anche un resort riservato ed elegante.\nQuota di partecipa
 zione 40\,00€ a persona https://www.prolocopanza.it/en/calendario-eventi-a
 rchiviati/event/14633-andar-per-cantine-2023-percorso-biancolella
DTSTART:20230924T080000Z
DTEND:20230924T120000Z
LOCATION:Piazza San Leonardo  (Via Cavaliere Leonardo Impagliazzo\, 65\, 80
 075 Forio NA\, Italia)
SUMMARY:Andar per cantine 2023: Percorso Biancolella
URL:https://www.prolocopanza.it/en/calendario-eventi-archiviati/event/14633
 -andar-per-cantine-2023-percorso-biancolella
END:VEVENT
BEGIN:VEVENT
UID:20260421T063010CEST-9261UzUd7r@https://www.prolocopanza.it/
DTSTAMP:20260421T043010Z
DESCRIPTION:\nLe cantine del percorso Frassitelli:\n\n&nbsp\;\nA ‘CANTIN E 
 CIR’Antico Borgo di Noia - Serrara FontanaTel. 081 999477Anticamente era u
 na grotta la quale serviva da rifugio alle varie incursioni di pirati. La 
 famiglia Iacono la acquistò insieme al vigneto all’inizio del ‘900. Essend
 o una famiglia di contadini\, il signor Ciro Iacono\, dopo il ’30\, la tra
 sformò in cantina ampliandola e rendendola un locale funzionale per la pro
 duzione e la conservazione del vino.\n&nbsp\;\nCANTINA 'U SCILATUROVia Ang
 elo Migliaccio\, 151 Tel. 3426226910La cantina della famiglia Di Costanzo 
 si trova sulla parte alta di Barano\, in località Toccaneto. Centocinquant
 a anni di tradizione racchiusi in un piccolo tempio del vino sapientemente
  restaurato\, in cui è possibile ammirare le antiche pietre e i vecchi pal
 menti\, protagonisti di storiche vendemmie. L’azienda agricola\, a conduzi
 one famigliare\, produce un vino dal sapore&nbsp\; tipicamente ischitano.
 \n&nbsp\;\nCANTINA RAUSTELLAVia Lorenzo Fiore - Serrara FontanaCell. 34781
 28485Alle pendici del monte Epomeo\, in grotte scavate\, in grotte scavate
  nella montagna dagli antichi ischitani\, saggi contadini continuano a pro
 durre il vino con i sistemi dei padri. Tra questi\, Francesco Mattera dett
 o Raustella\, nella sua cantina in Serrara\, alla veneranda eta’ di 90 ann
 i continua a produrre il meraviglioso nettare degli dei. Completamente res
 taurata da Giuseppe Mattera oggi scrigno delle antiche tradizioni vitivini
 cole...\nQuota di partecipazione 35\,00€ a persona https://www.prolocopanz
 a.it/en/calendario-eventi-archiviati/event/14634-andar-per-cantine-2023-pe
 rcorso-frassitelli
DTSTART:20230924T130000Z
DTEND:20230924T160000Z
LOCATION:Pro Loco Panza Ischia (Via Cavaliere Leonardo Impagliazzo\, 144\, 
 80075 Forio NA\, Italia)
SUMMARY:Andar per cantine 2023: Percorso Frassitelli
URL:https://www.prolocopanza.it/en/calendario-eventi-archiviati/event/14634
 -andar-per-cantine-2023-percorso-frassitelli
END:VEVENT
BEGIN:VEVENT
UID:20260421T063010CEST-9275XKZn6F@https://www.prolocopanza.it/
DTSTAMP:20260421T043010Z
DESCRIPTION:Le cantine del percorso Piedirosso:\nCANTINA SCARDECCHIAVia Suc
 chivo - Serrara FontanaTel. 081 909062Cantina storica del paese\, passata 
 di generazione in generazione per tre secoli tra le mani sapienti della fa
 miglia Iacono. Attualmente si producono vino bianco\, rosso\, spumante mis
 to e Sorriso.\nCANTINA PASSARIELLOVia Tironi\, 29 *- ForioCell. 335 634129
 7La cantina si trova in località Tironi ed è di proprietà della famiglia R
 usso dal 1956. Costruita interamente in tufo verde nel lontano 1873\, era 
 adibita per la produzione e la vendita di vino locale. Rappresenta sicuram
 ente una delle cantine più antiche di Forio ed è perfettamente funzionante
 .\nCANTINE PIETRATORCIAVia Provinciale Panza\, 267 - ForioTel. 081 908206/
 081 907232 Fax: 081 908949www.pietratorcia.it - info@pietratorcia.itLe can
 tine di Pietratorcia sono state create da tre antiche famiglie contadine i
 schitane Iacono\, Regine e Verde. Oltre sette ettari di terreno sono stati
  ripiantati con vitigni selezionati.\nQuota di partecipazione 35\,00€ a pe
 rsona https://www.prolocopanza.it/en/calendario-eventi-archiviati/event/14
 638-andar-per-cantine-2023-percorso-piedirosso
DTSTART:20230924T130000Z
DTEND:20230924T170000Z
LOCATION:Piazza San Leonardo  (Via Cavaliere Leonardo Impagliazzo\, 65\, 80
 075 Forio NA\, Italia)
SUMMARY:Andar per cantine 2023: Percorso Piedirosso
URL:https://www.prolocopanza.it/en/calendario-eventi-archiviati/event/14638
 -andar-per-cantine-2023-percorso-piedirosso
END:VEVENT
BEGIN:VEVENT
UID:20260421T063010CEST-9288cujz1U@https://www.prolocopanza.it/
DTSTAMP:20260421T043010Z
DESCRIPTION:Le cantine del percorso Epomeo:\n&nbsp\;\nCANTINA CALIMERASerra
 ra Fontana - Via Pietra dell’Acqua\, n1-Tel. +39 3282162841Ai piedi del mo
 nte Epomeo\, nell’antico borgo di Calimera\, troverete un’antica cantina d
 ell’800\, dove si produceva vino proveniente dai vigneti di Serrara Fontan
 a. Abbandonata per molti anni\, nel 2021 è stata cquisita dalla famiglia C
 oppola-Mattera\, che l’ha riportata all’antico splendore.\nTENUTA GIOSUÉ C
 OLELLAForio - Via S.Giuseppe 24 - Tel. +39 328 068 1061L’azienda agricola 
 Colella vi accoglierà tra il verde dei vigneti delle colline foriane. Visi
 terete l’antica cantina scavata a mano in un unico blocco di tufo verde da
 i nostri avi. Degusterete vini di icchia e assaporerete le nostre speciali
 tà\, prodotte secondo antiche ricette di famiglia\, rimaste invariate da g
 enerazioni...\nCANTINA BELLAVISTAIndirizzo: Via Montecorvo\, 75 - 80075 Fo
 rioContatti: Tel. 081997221A pochi passi dal più esteso campo di fumarole 
 dell’intera isola d’Ischia\, testimonianza della natura vulcanica del terr
 itorio\, sorge da più di duecento anni una cantina quasi interamente ricav
 ata nel tufo verde. Francesco Castiglione ne cura ogni minimo dettaglio\, 
 benché i due fusti che vi campeggiano all’interno siano\, oggi\, inutilizz
 ati.\nQuota di partecipazione 35\,00€ a persona https://www.prolocopanza.i
 t/en/calendario-eventi-archiviati/event/14642-andar-per-cantine-2023-perco
 rso-epomeo
DTSTART:20230924T130000Z
DTEND:20230924T170000Z
LOCATION:Piazza San Leonardo  (Via Cavaliere Leonardo Impagliazzo\, 65\, 80
 075 Forio NA\, Italia)
SUMMARY:Andar per cantine 2023: Percorso Epomeo
URL:https://www.prolocopanza.it/en/calendario-eventi-archiviati/event/14642
 -andar-per-cantine-2023-percorso-epomeo
END:VEVENT
BEGIN:VEVENT
UID:20260421T063010CEST-9296I10VCE@https://www.prolocopanza.it/
DTSTAMP:20260421T043010Z
DESCRIPTION:Percorrendo una salita a gradoni\, scavati tra la tipica roccia
  di Cava Bianca\, costeggeremo le falde del monte Trippodi\, attraversando
  un bosco di castagni e la tipica macchia mediterranea.\nPercorreremo\, po
 i\, il sentiero della costa&nbsp\; Sparaina\, che ci conduce al belvedere 
 della Madonnina di Buttavento. Ripercorrendo il sentiero a ritroso\, si ra
 ggiunge la tenuta bio-agricola del Cannavale\, dove faremo una degustazion
 e di prodotti tipici.\nAl termine\, continueremo la discesa verso il paese
  di Fiaiano.\nAscending a series of steps\, carved into the typical Cava B
 ianca rock\, we will trace along the slopes of Mount Trippodi\, passing th
 rough a chestnut forest and the typical Mediterranean vegetation. Followin
 g that\, we will take the coastal&nbsp\; Sparaina trail leading us to the 
 viewpoint of the Madonnina di Buttavento. Retracing our steps\, we will re
 ach the Cannavale organic farm estate\, where we will partake in a tasting
  of local products. Finally\, we will continue our descent towards the vil
 lage of Fiaiano.\n&nbsp\;INFO- Punto Partenza/Arrivo: (Departure / arrival
  point):Sede Proloco Panza\, Forio- Difficoltà: Facile / Turistica (Diffic
 ulty: Easy)- Durata: 5h – 6 km (soste incluse) Duration: 5h – 6km (stops i
 ncluded)- Visita/Degustazione: (Visit / Tasting): Tenuta del Cannavale- Qu
 ota di partecipazione / Price 45 € https://www.prolocopanza.it/en/calendar
 io-eventi-archiviati/event/14664-andar-per-cantine-2023-il-sentiero-della-
 madonnina-buttavento
DTSTART:20230924T073000Z
DTEND:20230924T123000Z
LOCATION:Pro Loco Panza Ischia (Via Cavaliere Leonardo Impagliazzo\, 144\, 
 80075 Forio NA\, Italia)
SUMMARY:Andar per Cantine 2023: Il sentiero della Madonnina Buttavento
URL:https://www.prolocopanza.it/en/calendario-eventi-archiviati/event/14664
 -andar-per-cantine-2023-il-sentiero-della-madonnina-buttavento
END:VEVENT
BEGIN:VEVENT
UID:20260421T063010CEST-93045bPFJK@https://www.prolocopanza.it/
DTSTAMP:20260421T043010Z
DESCRIPTION:Ingresso al parco termale Giardini Poseidon Terme con degustazi
 one gratuita alla grotta del vino.&nbsp\; Degustazione di vini\, salumi e 
 prodotti tipici ischitani.\nPrenotazione obbligatoria per la degustazione 
 via mail entro le 18 del 24/09: team@giardiniposeidonterme.com\nQuota di p
 artecipazione 42\,00 € a persona https://www.prolocopanza.it/en/calendario
 -eventi-archiviati/event/14681-andar-per-cantine-2023-la-grotta-del-vino-a
 i-giardini-poseidon
DTSTART:20230924T100000Z
DTEND:20230924T160000Z
LOCATION:Giardini Poseidon (Giardini Poseidon Terme\, Via Giovanni Mazzella
 \, Forio\, NA)
SUMMARY:Andar per cantine 2023 - La grotta del vino ai Giardini Poseidon
URL:https://www.prolocopanza.it/en/calendario-eventi-archiviati/event/14681
 -andar-per-cantine-2023-la-grotta-del-vino-ai-giardini-poseidon
END:VEVENT
BEGIN:VEVENT
UID:20260421T063010CEST-9310NtguM5@https://www.prolocopanza.it/
DTSTAMP:20260421T043010Z
DESCRIPTION:Il centro storico del paese si trasforma per una notte in una c
 antina a cielo aperto\, dove si potranno rivivere tutte le tradizioni del 
 rito della vendemmia che si perpetua da secoli sulla nostra isola.\nStand 
 con degustazioni di piatti tipici\, il&nbsp\; buon vino delle colline panz
 esi e tanta buona musica.\nIngresso libero\nThe historic center of the tow
 n is transformed for one night into an open-air cellar\, where you can rel
 ive all the traditions of the harvest ritual that has been going on for ce
 nturies on our island.Stands with tastings of typical dishes\, with good w
 ine from the Panza hills and lots of good music.\nFree entry\n https://www
 .prolocopanza.it/en/calendario-eventi-archiviati/event/14687-andar-per-can
 tine-2023-la-notte-della-vendemmia
DTSTART:20230924T170000Z
DTEND:20230924T210000Z
LOCATION:Pro Loco Panza Ischia (Via Cavaliere Leonardo Impagliazzo\, 144\, 
 80075 Forio NA\, Italia)
SUMMARY:Andar per Cantine 2023:  La notte della vendemmia
URL:https://www.prolocopanza.it/en/calendario-eventi-archiviati/event/14687
 -andar-per-cantine-2023-la-notte-della-vendemmia
END:VEVENT
END:VCALENDAR
