BEGIN:VCALENDAR
VERSION:2.0
PRODID:-//https://www.prolocopanza.it///NONSGML kigkonsult.se iCalcreator 2.10.15//
METHOD:PUBLISH
BEGIN:VEVENT
UID:20260422T214829CEST-4898EUbu8v@https://www.prolocopanza.it/
DTSTAMP:20260422T194829Z
DESCRIPTION:Le cantine del percorso Biancolella:\n1. CANTINA SCARDECCHIAVia
  Succhivo - Serrara FontanaTel. 081 909062Cantina storica del paese\, pass
 ata di generazione in generazione per tre secoli tra le mani sapienti dell
 a famiglia Iacono. Attualmente si producono vino bianco\, rosso\, spumante
  misto e Sorriso.\n2. ANTICA FATTORIA GRECAVia Sorgeto\, 51 - ForioTel: 08
 1 908102 - 081 909277www.puntachiarito.it - info@puntachiarito.itL’azienda
  si contraddistingue per la produzione di vini speciali locali come Ischia
  Bianco e Ischia Rosso. Presso la struttura è possibile degustare i vini\,
  visitare il vigneto. La produzione si basa sulla più genuina tradizione c
 ontadina ischitana.\n3. A ‘CANTIN E CIR’Antico Borgo di Noia - Serrara Fon
 tanaTel. 081 999477Anticamente era una grotta la quale serviva da rifugio 
 alle varie incursioni di pirati. La famiglia Iacono la acquistò insieme al
  vigneto all’inizio del ‘900. Essendo una famiglia di contadini\, il signo
 r Ciro Iacono\, dopo il ’30\, la trasformò in cantina ampliandola e renden
 dola un locale funzionale per la produzione e la conservazione del vino.\n
 Prezzo del percorso € 30 https://www.prolocopanza.it/en/calendario-eventi-
 archiviati/event/14473-percorso-biancolella
DTSTART:20220924T080000Z
DTEND:20220924T120000Z
LOCATION:Pro Loco Panza Ischia (Via Cavaliere Leonardo Impagliazzo\, 144\, 
 80075 Forio NA\, Italia)
SUMMARY:Percorso Biancolella
URL:https://www.prolocopanza.it/en/calendario-eventi-archiviati/event/14473
 -percorso-biancolella
END:VEVENT
BEGIN:VEVENT
UID:20260422T214829CEST-4928HavK24@https://www.prolocopanza.it/
DTSTAMP:20260422T194829Z
DESCRIPTION:\nLe cantine del percorso Frassitelli:\n\n1. CANTINA RAUSTELLAI
 ndirizzo: Via Lorenzo Fiore\, - Serrara FontanaContatti: 3478128485Alle pe
 ndici del monte Epomeo\, in grotte scavate\, in grotte scavate nella monta
 gna dagli antichi ischitani\, saggi contadini continuano a produrre il vin
 o con i sistemi dei padri. Tra questi\, Francesco Mattera detto Raustella\
 , nella sua cantina in Serrara\, alla veneranda eta’ di 90 anni continua a
  produrre il meraviglioso nettare degli dei. Completamente restaurata da G
 iuseppe Mattera oggi scrigno delle antiche tradizioni vitivinicole...\n&nb
 sp\;\n2. A ‘CANTIN E CIR’Antico Borgo di Noia - Serrara FontanaTel. 081 99
 9477Anticamente era una grotta la quale serviva da rifugio alle varie incu
 rsioni di pirati. La famiglia Iacono la acquistò insieme al vigneto all’in
 izio del ‘900. Essendo una famiglia di contadini\, il signor Ciro Iacono\,
  dopo il ’30\, la trasformò in cantina ampliandola e rendendola un locale 
 funzionale per la produzione e la conservazione del vino.\n&nbsp\;\n3. CAN
 TINA 'U SCILATUROVia Angelo Migliaccio\, 151 Tel. 3426226910La cantina del
 la famiglia Di Costanzo si trova sulla parte alta di Barano\, in località 
 Toccaneto. Centocinquanta anni di tradizione racchiusi in un piccolo tempi
 o del vino sapientemente restaurato\, in cui è possibile ammirare le antic
 he pietre e i vecchi palmenti\, protagonisti di storiche vendemmie. L’azie
 nda agricola\, a conduzione famigliare\, produce un vino dal sapore&nbsp\;
  tipicamente ischitano.\nCOMPLETO https://www.prolocopanza.it/en/calendari
 o-eventi-archiviati/event/14492-percorso-frassitelli
DTSTART:20220924T130000Z
DTEND:20220924T160000Z
LOCATION:Pro Loco Panza Ischia (Via Cavaliere Leonardo Impagliazzo\, 144\, 
 80075 Forio NA\, Italia)
SUMMARY:Percorso Frassitelli
URL:https://www.prolocopanza.it/en/calendario-eventi-archiviati/event/14492
 -percorso-frassitelli
END:VEVENT
BEGIN:VEVENT
UID:20260422T214829CEST-4933utV6Oz@https://www.prolocopanza.it/
DTSTAMP:20260422T194829Z
DESCRIPTION:Le cantine del percorso San Lunardo:\n1. CANTINA PELLICCIONEVia
  San Pietro - BuonopaneTel. +39 349 578 0618In località San Pietro\, la ca
 ntina Pelliccione è riferimento di convivialità del borgo. Fermarsi a bere
  un buon bicchiere di vino nella frescura all’interno delle grandi grotte 
 scavate nel tufo è un rito collettivo al quale si aggregano con piacere i 
 forestieri. Il microclima delle grotte conserva alla perfezione il vino e 
 gli altri prodotti tipici.\n2. AZIENDA AGRICOLA FILIPPO FLORIOVia Ritola\,
  6 - Barano d’IschiaTel. 347.9333701 - 081990642Impegnata nella viticoltur
 a da cinque generazioni\, la famiglia Florio produce vino con lieviti Bian
 colella docg. Vanto dell’Azienda sono l’Epomeo Rosso e il Bianco Igp. Affi
 nati nell’antica cantina scavata nel tufo.\n3. AGRITURISMO GIASOLEVia Cand
 iano 31/A - Barano d’IschiaTel. 347 674 7979L’azienda agrituristica Giasol
 e grazie all’esposizione ideale dei suoi terreni\, vanta una grande variet
 à di frutti e verdure in ogni stagione. Oltre alla produzione di vino che 
 è tratto distintivo dell’Azienda. La trasformazione dei prodotti dell’orto
  di casa\, rigorosamente bio\, nei piatti tipici isolani ci permette di fa
 rli apprezzare a tutti i nostri visitatori.\nCOMPLETO https://www.prolocop
 anza.it/en/calendario-eventi-archiviati/event/14510-percorso-san-lunardo
DTSTART:20220924T130000Z
DTEND:20220924T160000Z
LOCATION:Pro Loco Panza Ischia (Via Cavaliere Leonardo Impagliazzo\, 144\, 
 80075 Forio NA\, Italia)
SUMMARY:Percorso San Lunardo
URL:https://www.prolocopanza.it/en/calendario-eventi-archiviati/event/14510
 -percorso-san-lunardo
END:VEVENT
BEGIN:VEVENT
UID:20260422T214829CEST-4940wGEmsZ@https://www.prolocopanza.it/
DTSTAMP:20260422T194829Z
DESCRIPTION:Le cantine del percorso Epomeo:\n1. A' CANTIN LU' SCULTOREVia C
 asa Mattera\, 25 - FontanaCell. 3337663548Poco distante dalla piazza di Fo
 ntana\, si trova la cantina di Nicola Gioba. Cantina risalente al 1930 int
 eramente costruita in pietra di tufo da Nicolino 'a Panella.Ora rielaborat
 a da Nicola Gioba\, maestro scultore della pietra\, che attraverso le sue 
 opere ha voluto immortalare alcuni momenti significativi della vendemmia. 
 Ma potrete ammirare anche altre sculture che arricchiscono 'la cantina' e 
 che la rendono unica.\n2. CANTINA NONNO MICHELE DI TONYVia Pendio Oscuro -
  Serrara FontanaTel. 081 999570 - Mob. 3294410962La cantina di nonno Miche
 le scavata nel 1908 nelle rocce di tufo ed utilizzata fino a 30 anni fa pe
 r la conservazione del vino e delle botti. Caratteristica particolare dell
 a cantina\, ancora oggi visibile\, è la pietra sudaria\, da cui sgorga acq
 ua. La tradizione familiare\, oggi\, viene portata avanti dal nipote Anton
 io Galano che l’ha resa uno speciale luogo di ritrovo dove turisti ed isol
 ani.\n3. CANTINA RAUSTELLAVia Lorenzo Fiore - Serrara FontanaCell. 3478128
 485Alle pendici del monte Epomeo\, in grotte scavate\, in grotte scavate n
 ella montagna dagli antichi ischitani\, saggi contadini continuano a produ
 rre il vino con i sistemi dei padri. Tra questi\, Francesco Mattera detto 
 Raustella\, nella sua cantina in Serrara\, alla veneranda eta’ di 90 anni 
 continua a produrre il meraviglioso nettare degli dei. Completamente resta
 urata da Giuseppe Mattera oggi scrigno delle antiche tradizioni vitivinico
 le...\nPrezzo del percorso € 30 https://www.prolocopanza.it/en/calendario-
 eventi-archiviati/event/14533-percorso-epomeo
DTSTART:20220924T080000Z
DTEND:20220924T120000Z
LOCATION:Pro Loco Panza Ischia (Via Cavaliere Leonardo Impagliazzo\, 144\, 
 80075 Forio NA\, Italia)
SUMMARY:Percorso Epomeo
URL:https://www.prolocopanza.it/en/calendario-eventi-archiviati/event/14533
 -percorso-epomeo
END:VEVENT
BEGIN:VEVENT
UID:20260422T214829CEST-4947wppjZ9@https://www.prolocopanza.it/
DTSTAMP:20260422T194829Z
DESCRIPTION:Percorrendo una salita a gradoni\, scavati tra la tipica roccia
  di Cava Bianca\, costeggeremo le falde del monte Trippodi attraversando u
 n bosco di castagni e la tipica macchia mediterranea.&nbsp\;\nPercorreremo
  poi\, il sentiero della costa Sparaina che ci conduce al belvedere della 
 Madonnina di Buttavento.\nRipercorrendo il sentiero a ritroso si raggiunge
  la tenuta bio-agricola del&nbsp\; Cannavale dove faremo una degustazione 
 di prodotti tipici.\nAl termine continueremo la discesa verso il paese di 
 Fiaiano.\nGoing up a stepped climb\, carved into the typical rock of Cava 
 Bianca\, we will skirt the slopes of Mount Trippodi\, crossing a chestnut 
 wood and the typical Mediterranean scrub. We follow the path that overlook
 s the Sparaina coast that leads us to the Madonnina di Buttavento viewpoin
 t.Retracing the path backward we reach the organic farm of Cannavale where
  we will have a tasting of typical products. After the tasting\, we will c
 ontinue the descent towards the town of Fiaiano.\n&nbsp\;INFO- Punto Parte
 nza/Arrivo: (Departure / arrival point):Sede Proloco Panza\, Forio- Diffic
 oltà: Facile / Turistica (Difficulty: Easy)- Durata: 5h – 6 km (soste incl
 use) Duration: 5h – 6km (stops included)- Visita/Degustazione: (Visit / Ta
 sting): Tenuta del Cannavale- Quota di partecipazione / Price 40 € https:/
 /www.prolocopanza.it/en/calendario-eventi-archiviati/event/14535-il-sentie
 ro-della-madonnina-buttavento
DTSTART:20220924T073000Z
DTEND:20220924T123000Z
LOCATION:Pro Loco Panza Ischia (Via Cavaliere Leonardo Impagliazzo\, 144\, 
 80075 Forio NA\, Italia)
SUMMARY:Il sentiero della Madonnina Buttavento
URL:https://www.prolocopanza.it/en/calendario-eventi-archiviati/event/14535
 -il-sentiero-della-madonnina-buttavento
END:VEVENT
BEGIN:VEVENT
UID:20260422T214829CEST-4955AZTEES@https://www.prolocopanza.it/
DTSTAMP:20260422T194829Z
DESCRIPTION:Le cantine del percorso Piedirosso:\n\n1. CANTINA SCARDECCHIAVi
 a Succhivo - Serrara FontanaTel. 081 909062Cantina storica del paese\, pas
 sata di generazione in generazione per tre secoli tra le mani sapienti del
 la famiglia Iacono. Attualmente si producono vino bianco\, rosso\, spumant
 e misto e Sorriso.\n2. CANTINA PASSARIELLOVia Tironi\, 29 - ForioCell. +39
  335 6341297La cantina si trova in località Tironi ed è di proprietà della
  famiglia Russo dal 1956. Costruita interamente in tufo verde nel lontano 
 1873\, era adibita per la produzione e la vendita di vino locale. Rapprese
 nta sicuramente una delle cantine più antiche di Forio ed è perfettamente 
 funzionante.\n2. AZIENDA AGRICOLA VILLA SPADARAVia Calosirto\, 82 - ForioT
 el. +39 081989584Visitare l’azienda Agricola La Spadara vuol dire imparare
  a conoscere la storia ischitana\, un viaggio nel passato e nelle tradizio
 ni. L’azienda si estende su 7 ettari coltivati interamente in biologico ad
  agrumeto\, vigneto\, uliveto e ortaggi. All’interno si trova anche l’anti
 ca casa colonica e le cantine risalenti al 1600.\n3. CANTINE PIETRATORCIAV
 ia Provinciale Panza\, 267 - ForioTel. 081 908206 / 081 907232www.pietrato
 rcia.it - info@pietratorcia.itLe cantine di Pietratorcia sono state create
  da tre antiche famiglie contadine ischitane Iacono\, Regine e Verde. Oltr
 e sette ettari di terreno sono stati ripiantati con vitigni selezionati.\n
 Prezzo del percorso € 35 https://www.prolocopanza.it/en/calendario-eventi-
 archiviati/event/14537-percorso-piedirosso-pomeriggio
DTSTART:20220924T130000Z
DTEND:20220924T160000Z
LOCATION:Pro Loco Panza Ischia (Via Cavaliere Leonardo Impagliazzo\, 144\, 
 80075 Forio NA\, Italia)
SUMMARY:Percorso Piedirosso (Pomeriggio)
URL:https://www.prolocopanza.it/en/calendario-eventi-archiviati/event/14537
 -percorso-piedirosso-pomeriggio
END:VEVENT
END:VCALENDAR
