BEGIN:VCALENDAR
VERSION:2.0
PRODID:-//https://www.prolocopanza.it///NONSGML kigkonsult.se iCalcreator 2.10.15//
METHOD:PUBLISH
BEGIN:VEVENT
UID:20260422T180422CEST-3588U6bMkv@https://www.prolocopanza.it/
DTSTAMP:20260422T160422Z
DESCRIPTION:Le cantine del percorso Epomeo:\n1. A ‘CANTIN E CIR’Antico Borg
 o di Noia - Serrara FontanaTel. 081 999477Anticamente era una grotta la qu
 ale serviva da rifugio alle varie incursioni di pirati. La famiglia Iacono
  la acquistò insieme al vigneto all’inizio del ‘900. Essendo una famiglia 
 di contadini\, il signor Ciro Iacono\, dopo il ’30\, la trasformò in canti
 na ampliandola e rendendola un locale funzionale per la produzione e la co
 nservazione del vino.\n2. CANTINA NONNO MICHELE DI TONYVia Pendio Oscuro -
  Serrara FontanaTel. 081 999570 - Mob. 3294410962La cantina di nonno Miche
 le scavata nel 1908 nelle rocce di tufo ed utilizzata fino a 30 anni fa pe
 r la conservazione del vino e delle botti. Caratteristica particolare dell
 a cantina\, ancora oggi visibile\, è la pietra sudaria\, da cui sgorga acq
 ua. La tradizione familiare\, oggi\, viene portata avanti dal nipote Anton
 io Galano che l’ha resa uno speciale luogo di ritrovo dove turisti ed isol
 ani.\n3. CANTINA RAUSTELLAIndirizzo: Via Lorenzo Fiore\, - Serrara Fontana
 Contatti: 3478128485Alle pendici del monte Epomeo\, in grotte scavate\, in
  grotte scavate nella montagna dagli antichi ischitani\, saggi contadini c
 ontinuano a produrre il vino con i sistemi dei padri. Tra questi\, Frances
 co Mattera detto Raustella\, nella sua cantina in Serrara\, alla veneranda
  eta’ di 90 anni continua a produrre il meraviglioso nettare degli dei. Co
 mpletamente restaurata da Giuseppe Mattera oggi scrigno delle antiche trad
 izioni vitivinicole...\nPrezzo del percorso € 30 https://www.prolocopanza.
 it/en/calendario-eventi-archiviati/event/14479-percorso-epomeo
DTSTART:20220923T080000Z
DTEND:20220923T120000Z
LOCATION:Pro Loco Panza Ischia (Via Cavaliere Leonardo Impagliazzo\, 144\, 
 80075 Forio NA\, Italia)
SUMMARY:Percorso Epomeo
URL:https://www.prolocopanza.it/en/calendario-eventi-archiviati/event/14479
 -percorso-epomeo
END:VEVENT
BEGIN:VEVENT
UID:20260422T180422CEST-3600OWtRDw@https://www.prolocopanza.it/
DTSTAMP:20260422T160422Z
DESCRIPTION:\nLe cantine del percorso Frassitelli:\n\n1. A ‘CANTIN E CIR’An
 tico Borgo di Noia - Serrara FontanaTel. 081 999477Anticamente era una gro
 tta la quale serviva da rifugio alle varie incursioni di pirati. La famigl
 ia Iacono la acquistò insieme al vigneto all’inizio del ‘900. Essendo una 
 famiglia di contadini\, il signor Ciro Iacono\, dopo il ’30\, la trasformò
  in cantina ampliandola e rendendola un locale funzionale per la produzion
 e e la conservazione del vino.\n&nbsp\;\n2. CANTINA U’ SCILATUROVia Angelo
  Migliaccio\, 151 - Barano Cell. 3476243693 La cantina della famiglia Di C
 ostanzo si trova sulla parte alta di Barano\, in località Toccaneto. Cento
 cinquanta anni di tradizione racchiusi in un piccolo tempio del vino sapie
 ntemente restaurato\, in cui è possibile ammirare le antiche pietre e i ve
 cchi palmenti\, protagonisti di storiche vendemmie. L’azienda agricola\, a
  conduzione famigliare\, produce\, a poca distanza da un orto rigoglioso\,
  un vino dal sapore tipicamente ischitano.\n&nbsp\;\n3. CANTINE CENATIEMPO
 Via Baldassarre Cossa\, 84 - IschiaTel. +39 081 981107«Il nostro vino deve
  esprimere la natura vulcanica e marinara della terra ischitana»È l’idea g
 razie alla quale\, nella prima metà del secolo scorso\, è stata fondata la
  Cenatiempo Vini d’Ischia\, con una impostazione familiare che conserva il
  legame con la storia: è rappresentata in modo emblematico dalla nostra ca
 ntina del ‘600\, un’opera stupenda scavata nella collina di Kalimera.\nPre
 zzo del percorso € 35 https://www.prolocopanza.it/en/calendario-eventi-arc
 hiviati/event/14503-percorso-frassitelli
DTSTART:20220923T130000Z
DTEND:20220923T160000Z
LOCATION:Pro Loco Panza Ischia (Via Cavaliere Leonardo Impagliazzo\, 144\, 
 80075 Forio NA\, Italia)
SUMMARY:Percorso Frassitelli
URL:https://www.prolocopanza.it/en/calendario-eventi-archiviati/event/14503
 -percorso-frassitelli
END:VEVENT
BEGIN:VEVENT
UID:20260422T180422CEST-3619e3ccNM@https://www.prolocopanza.it/
DTSTAMP:20260422T160422Z
DESCRIPTION:Le cantine del percorso San Lunardo:\n1. CANTINA PELLICCIONEVia
  San Pietro - BuonopaneTel. +39 349 578 0618In località San Pietro\, la ca
 ntina Pelliccione è riferimento di convivialità del borgo. Fermarsi a bere
  un buon bicchiere di vino nella frescura all’interno delle grandi grotte 
 scavate nel tufo è un rito collettivo al quale si aggregano con piacere i 
 forestieri. Il microclima delle grotte conserva alla perfezione il vino e 
 gli altri prodotti tipici.\n2. AZIENDA AGRICOLA FILIPPO FLORIOVia Ritola\,
  6 - Barano d’IschiaTel. 347.9333701 - 081990642Impegnata nella viticoltur
 a da cinque generazioni\, la famiglia Florio produce vino con lieviti Bian
 colella docg. Vanto dell’Azienda sono l’Epomeo Rosso e il Bianco Igp. Affi
 nati nell’antica cantina scavata nel tufo.\n3. AGRITURISMO GIASOLEVia Cand
 iano 31/A - Barano d’IschiaTel. 347 674 7979L’azienda agrituristica Giasol
 e grazie all’esposizione ideale dei suoi terreni\, vanta una grande variet
 à di frutti e verdure in ogni stagione. Oltre alla produzione di vino che 
 è tratto distintivo dell’Azienda. La trasformazione dei prodotti dell’orto
  di casa\, rigorosamente bio\, nei piatti tipici isolani ci permette di fa
 rli apprezzare a tutti i nostri visitatori.\nCOMPLETO https://www.prolocop
 anza.it/en/calendario-eventi-archiviati/event/14509-percorso-san-lunardo
DTSTART:20220923T130000Z
DTEND:20220923T160000Z
LOCATION:Pro Loco Panza Ischia (Via Cavaliere Leonardo Impagliazzo\, 144\, 
 80075 Forio NA\, Italia)
SUMMARY:Percorso San Lunardo
URL:https://www.prolocopanza.it/en/calendario-eventi-archiviati/event/14509
 -percorso-san-lunardo
END:VEVENT
BEGIN:VEVENT
UID:20260422T180422CEST-3628slm6kW@https://www.prolocopanza.it/
DTSTAMP:20260422T160422Z
DESCRIPTION:Le cantine del percorso San Lunardo:\n1. CANTINA PELLICCIONEVia
  San Pietro - BuonopaneTel. +39 349 578 0618In località San Pietro\, la ca
 ntina Pelliccione è riferimento di convivialità del borgo. Fermarsi a bere
  un buon bicchiere di vino nella frescura all’interno delle grandi grotte 
 scavate nel tufo è un rito collettivo al quale si aggregano con piacere i 
 forestieri. Il microclima delle grotte conserva alla perfezione il vino e 
 gli altri prodotti tipici.\n2. AZIENDA AGRICOLA FILIPPO FLORIOVia Ritola\,
  6 - Barano d’IschiaTel. 347.9333701 - 081990642Impegnata nella viticoltur
 a da cinque generazioni\, la famiglia Florio produce vino con lieviti Bian
 colella docg. Vanto dell’Azienda sono l’Epomeo Rosso e il Bianco Igp. Affi
 nati nell’antica cantina scavata nel tufo.\n3. AGRITURISMO GIASOLEVia Cand
 iano 31/A - Barano d’IschiaTel. 347 674 7979L’azienda agrituristica Giasol
 e grazie all’esposizione ideale dei suoi terreni\, vanta una grande variet
 à di frutti e verdure in ogni stagione. Oltre alla produzione di vino che 
 è tratto distintivo dell’Azienda. La trasformazione dei prodotti dell’orto
  di casa\, rigorosamente bio\, nei piatti tipici isolani ci permette di fa
 rli apprezzare a tutti i nostri visitatori.\nPrezzo del percorso € 30 http
 s://www.prolocopanza.it/en/calendario-eventi-archiviati/event/14528-percor
 so-san-lunardo
DTSTART:20220923T080000Z
DTEND:20220923T110000Z
LOCATION:Pro Loco Panza Ischia (Via Cavaliere Leonardo Impagliazzo\, 144\, 
 80075 Forio NA\, Italia)
SUMMARY:Percorso San Lunardo
URL:https://www.prolocopanza.it/en/calendario-eventi-archiviati/event/14528
 -percorso-san-lunardo
END:VEVENT
BEGIN:VEVENT
UID:20260422T180422CEST-36943Z2WVU@https://www.prolocopanza.it/
DTSTAMP:20260422T160422Z
DESCRIPTION:Raggiumgeremo la “selva” dei Frassitelli\, dove la visuale si a
 prirà sul panorama mozzafiato che offre il territorio del comune di Forio.
  Dirigendoci verso il Bosco della Falanga\, visiteremo le&nbsp\; Case di P
 ietra”: blocchi di tufo scavati a mano ed adibiti a luogo di rifugio o can
 tina.\nRaggiungeremo poi il borgo di Santa Maria al Monte\, dove poi press
 o l’agriturismo Malvisiello godremo di una degustazione di prodotti tipici
  immersi in un ambiente unico e speciale.\nWe will reach the Frassitelli\,
  where the view will open onto the breathtaking panorama that the territor
 y of the municipality of Forio offers. Then heading towards the Falanga Wo
 ods\, we will visit the “Stone Houses”: blocks of tuff carved by hand and 
 used as a place of refuge or cellar. We will then reach the village of San
 ta Maria al Monte\, where then at the Malvisiello farmhouse we will enjoy 
 a tasting of typical products immersed in a unique and special environment
 .\nINFO- Punto Partenza/Arrivo: (Departure / arrival point): Sede Proloco 
 Panza\, Forio- Difficoltà: Media / Escursionistica (Difficulty: Medium)- D
 urata: 6\,5h – 9km (soste incluse)Duration: 6\,5h – 9km (stops included)- 
 Visita/Degustazione: (Visit / Tasting): Agriturismo Malvisiello- Quota di 
 partecipazione / Price: 35 € https://www.prolocopanza.it/en/calendario-eve
 nti-archiviati/event/14529-il-sentiero-delle-case-di-pietra
DTSTART:20220923T073000Z
DTEND:20220923T133000Z
LOCATION:Pro Loco Panza Ischia (Via Cavaliere Leonardo Impagliazzo\, 144\, 
 80075 Forio NA\, Italia)
SUMMARY:Il sentiero delle Case di Pietra
URL:https://www.prolocopanza.it/en/calendario-eventi-archiviati/event/14529
 -il-sentiero-delle-case-di-pietra
END:VEVENT
BEGIN:VEVENT
UID:20260422T180422CEST-3702C1omdm@https://www.prolocopanza.it/
DTSTAMP:20260422T160422Z
DESCRIPTION:Le cantine del percorso Piedirosso:\n\n1. CANTINA SCARDECCHIAVi
 a Succhivo - Serrara FontanaTel. 081 909062Cantina storica del paese\, pas
 sata di generazione in generazione per tre secoli tra le mani sapienti del
 la famiglia Iacono. Attualmente si producono vino bianco\, rosso\, spumant
 e misto e Sorriso.\n2. CANTINA BELLAVISTAIndirizzo: Via Montecorvo\, 75 - 
 80075 ForioContatti: Tel. 081997221A pochi passi dal più esteso campo di f
 umarole dell’intera isola d’Ischia\, testimonianza della natura vulcanica 
 del territorio\, sorge da più di duecento anni una cantina quasi interamen
 te ricavata nel tufo verde. Francesco Castiglione ne cura ogni minimo dett
 aglio\, benché i due fusti che vi campeggiano all’interno siano\, oggi\, i
 nutilizzati.\n3. CANTINE PIETRATORCIAForio - Via Provinciale Panza\, 267Te
 l: 081 908206/081 907232 Fax: 081 908949www.pietratorcia.it - info@pietrat
 orcia.itLe cantine di Pietratorcia sono state create da tre antiche famigl
 ie contadine ischitane Iacono\, Regine e Verde. Oltre sette ettari di terr
 eno sono stati ripiantati con vitigni selezionati.\nPrezzo del percorso € 
 35 https://www.prolocopanza.it/en/calendario-eventi-archiviati/event/14531
 -percorso-piedirosso-pomeriggio
DTSTART:20220923T130000Z
DTEND:20220923T160000Z
LOCATION:Pro Loco Panza Ischia (Via Cavaliere Leonardo Impagliazzo\, 144\, 
 80075 Forio NA\, Italia)
SUMMARY:Percorso Piedirosso (Pomeriggio)
URL:https://www.prolocopanza.it/en/calendario-eventi-archiviati/event/14531
 -percorso-piedirosso-pomeriggio
END:VEVENT
BEGIN:VEVENT
UID:20260422T180422CEST-37082AiNxx@https://www.prolocopanza.it/
DTSTAMP:20260422T160422Z
DESCRIPTION:Percorso guidato con degustazione di vini e prodotti tipici loc
 ali al chiaro di luna settembrina in alcune tra le più belle e suggestive 
 cantine ischitane.\nCOMPLETO https://www.prolocopanza.it/en/calendario-eve
 nti-archiviati/event/14561-cantinando-sotto-le-stelle
DTSTART:20220923T164500Z
DTEND:20220923T215900Z
LOCATION:Pro Loco Panza Ischia (Via Cavaliere Leonardo Impagliazzo\, 144\, 
 80075 Forio NA\, Italia)
SUMMARY:Cantinando sotto le stelle
URL:https://www.prolocopanza.it/en/calendario-eventi-archiviati/event/14561
 -cantinando-sotto-le-stelle
END:VEVENT
END:VCALENDAR
