BEGIN:VCALENDAR
VERSION:2.0
PRODID:-//https://www.prolocopanza.it///NONSGML kigkonsult.se iCalcreator 2.10.15//
METHOD:PUBLISH
BEGIN:VEVENT
UID:20260421T063122CEST-9671hWTMD6@https://www.prolocopanza.it/
DTSTAMP:20260421T043122Z
DESCRIPTION:Partenza ore 9.30 - Degustazione presso CANTINA CALIMERA\nRaggi
 ungeremo la “selva” dei Frassitelli\, dove la visuale si aprirà sul panora
 ma mozzafiato che offre il territorio del comune di Forio. Dirigendoci ver
 so il Bosco della Falanga\, visiteremo le “Case di Pietra”: blocchi di tuf
 o scavati a mano ed adibiti a luogo di rifugio o cantina. Il percorso term
 inerà con una degustazione presso la Cantina Calimera.\nCosto €35 https://
 www.prolocopanza.it/en/calendario-eventi-archiviati/event/14599-andar-per-
 cantine-2023-il-sentiero-delle-case-di-pietra
DTSTART:20230922T080000Z
DTEND:20230922T120000Z
LOCATION:Piazza San Leonardo  (Via Cavaliere Leonardo Impagliazzo\, 65\, 80
 075 Forio NA\, Italia)
SUMMARY:Andar per cantine 2023: IL SENTIERO DELLE CASE DI PIETRA
URL:https://www.prolocopanza.it/en/calendario-eventi-archiviati/event/14599
 -andar-per-cantine-2023-il-sentiero-delle-case-di-pietra
END:VEVENT
BEGIN:VEVENT
UID:20260421T063122CEST-9676rRv83m@https://www.prolocopanza.it/
DTSTAMP:20260421T043122Z
DESCRIPTION:Le cantine del percorso Forastera:\nTENUTA GIOSUÉ COLELLAForio 
 - Via S.Giuseppe 24 - Tel. +39 328 068 1061L’azienda agricola Colella vi a
 ccoglierà tra il verde dei vigneti delle colline foriane. Visiterete l’ant
 ica cantina scavata a mano in un unico blocco di tufo verde dai nostri avi
 . Degusterete vini di nicchia e assaporerete le nostre specialità\, prodot
 te secondo antiche ricette di famiglia\, rimaste invariate da generazioni.
 ..\nCANTINA SCARDECCHIASerrara Fontana - Via Succhivo - Tel. +39 081 90906
 2Cantina storica del paese\, tramandata per tre secoli da una generazione 
 all’altra della famiglia Iacono. Attualmente si producono vino bianco\, ro
 sso\, spumante misto e Sorriso\nANTICA FATTORIA GRECAForio - Via Sorgeto\,
  51 Tel: +39 081908102 08119465224L’azienda si contraddistingue per la pro
 duzione di vini speciali locali come Ischia Bianco e Ischia Rosso. Presso 
 la struttura è possibile degustare i vini\, visitare il vigneto. La produz
 ione si basa sulla più genuina tradizione contadina ischitana.\nQuota di p
 artecipazione 35\,00€ a persona https://www.prolocopanza.it/en/calendario-
 eventi-archiviati/event/14600-andar-per-cantine-2023-percorso-forastera
DTSTART:20230922T080000Z
DTEND:20230922T120000Z
LOCATION:Piazza San Leonardo  (Via Cavaliere Leonardo Impagliazzo\, 65\, 80
 075 Forio NA\, Italia)
SUMMARY:Andar per cantine 2023: Percorso Forastera
URL:https://www.prolocopanza.it/en/calendario-eventi-archiviati/event/14600
 -andar-per-cantine-2023-percorso-forastera
END:VEVENT
BEGIN:VEVENT
UID:20260421T063122CEST-96823Wp7Uu@https://www.prolocopanza.it/
DTSTAMP:20260421T043122Z
DESCRIPTION:Le cantine del percorso Forastera:\nTENUTA GIOSUÉ COLELLAForio 
 - Via S.Giuseppe 24 - Tel. +39 328 068 1061L’azienda agricola Colella vi a
 ccoglierà tra il verde dei vigneti delle colline foriane. Visiterete l’ant
 ica cantina scavata a mano in un unico blocco di tufo verde dai nostri avi
 . Degusterete vini di nicchia e assaporerete le nostre specialità\, prodot
 te secondo antiche ricette di famiglia\, rimaste invariate da generazioni.
 ..\nCANTINA SCARDECCHIASerrara Fontana - Via Succhivo - Tel. +39 081 90906
 2Cantina storica del paese\, tramandata per tre secoli da una generazione 
 all’altra della famiglia Iacono. Attualmente si producono vino bianco\, ro
 sso\, spumante misto e Sorriso\nANTICA FATTORIA GRECAForio - Via Sorgeto\,
  51 Tel: +39 081908102 08119465224L’azienda si contraddistingue per la pro
 duzione di vini speciali locali come Ischia Bianco e Ischia Rosso. Presso 
 la struttura è possibile degustare i vini\, visitare il vigneto. La produz
 ione si basa sulla più genuina tradizione contadina ischitana.\nQuota di p
 artecipazione 35\,00€ a persona https://www.prolocopanza.it/en/calendario-
 eventi-archiviati/event/14602-andar-per-cantine-2023-percorso-forastera
DTSTART:20230922T130000Z
DTEND:20230922T170000Z
LOCATION:Piazza San Leonardo  (Via Cavaliere Leonardo Impagliazzo\, 65\, 80
 075 Forio NA\, Italia)
SUMMARY:Andar per cantine 2023: Percorso Forastera
URL:https://www.prolocopanza.it/en/calendario-eventi-archiviati/event/14602
 -andar-per-cantine-2023-percorso-forastera
END:VEVENT
BEGIN:VEVENT
UID:20260421T063122CEST-9687bZeZ5b@https://www.prolocopanza.it/
DTSTAMP:20260421T043122Z
DESCRIPTION:Le cantine del percorso San Lunardo:\nCANTINA pelliccioneBarano
  - Via San Pietro Tel. +39 349 578 0618In località San Pietro\, la cantina
  Pelliccione è riferimento di convivialità del borgo di Buonopane. Fermars
 i a bere un buon bicchiere di vino\, nella frescura all’interno delle gran
 di grotte scavate nel tufo\, è un rito collettivo al quale si aggregano co
 n piacere i forestieri. Il microclima delle grotte conserva alla perfezion
 e il vino e gli altri prodotti tipici.\nAZIENDA AGRICOLA FILIPPO FLORIOBar
 ano - Via Ritola\, 6 Tel: . +39 347.9333701Impegnata nella viticoltura da 
 cinque generazioni\, la famiglia Florio produce vino con lieviti Biancolel
 la docg. Vanto dell’Azienda sono l’Epomeo Rosso e il Bianco Igp. Affinati 
 nell’antica cantina scavata nel tufo.\nAgriturismo GiasoleBarano - Via Can
 diano 31/A - Tel. +39 347 674 7979L’azienda agrituristica Giasole grazie a
 ll’esposizione ideale dei suoi terreni\, vanta una grande varietà di frutt
 i e verdure in ogni stagione. Oltre alla produzione di vino\, che è tratto
  distintivo dell’Azienda. La trasformazione dei prodotti dell’orto di casa
 \, rigorosamente bio\, nei piatti tipici isolani ci permette di farli appr
 ezzare a tutti i nostri visitatori.\n&nbsp\;\nCosto €35 https://www.proloc
 opanza.it/en/calendario-eventi-archiviati/event/14603-andar-per-cantine-20
 23-percorso-san-lunardo
DTSTART:20230922T130000Z
DTEND:20230922T160000Z
LOCATION:Piazza San Leonardo  (Via Cavaliere Leonardo Impagliazzo\, 65\, 80
 075 Forio NA\, Italia)
SUMMARY:Andar per cantine 2023: percorso San Lunardo
URL:https://www.prolocopanza.it/en/calendario-eventi-archiviati/event/14603
 -andar-per-cantine-2023-percorso-san-lunardo
END:VEVENT
BEGIN:VEVENT
UID:20260421T063122CEST-96965btaS8@https://www.prolocopanza.it/
DTSTAMP:20260421T043122Z
DESCRIPTION:Le cantine del percorso San Lunardo:\nCANTINA PELLICCIONEBarano
  - Via San Pietro Tel. +39 349 578 0618In località San Pietro\, la cantina
  Pelliccione è riferimento di convivialità del borgo di Buonopane. Fermars
 i a bere un buon bicchiere di vino\, nella frescura all’interno delle gran
 di grotte scavate nel tufo\, è un rito collettivo al quale si aggregano co
 n piacere i forestieri. Il microclima delle grotte conserva alla perfezion
 e il vino e gli altri prodotti tipici.\nAZIENDA AGRICOLA FILIPPO FLORIOBar
 ano - Via Ritola\, 6 Tel: . +39 347.9333701Impegnata nella viticoltura da 
 cinque generazioni\, la famiglia Florio produce vino con lieviti Biancolel
 la docg. Vanto dell’Azienda sono l’Epomeo Rosso e il Bianco Igp. Affinati 
 nell’antica cantina scavata nel tufo.\nAGRITURISMO GIASOLEBarano - Via Can
 diano 31/A - Tel. +39 347 674 7979L’azienda agrituristica Giasole grazie a
 ll’esposizione ideale dei suoi terreni\, vanta una grande varietà di frutt
 i e verdure in ogni stagione. Oltre alla produzione di vino\, che è tratto
  distintivo dell’Azienda. La trasformazione dei prodotti dell’orto di casa
 \, rigorosamente bio\, nei piatti tipici isolani ci permette di farli appr
 ezzare a tutti i nostri visitatori.\nQuota di partecipazione 35\,00€ a per
 sona https://www.prolocopanza.it/en/calendario-eventi-archiviati/event/146
 09-andar-per-cantine-2023-percorso-san-lunardo
DTSTART:20230922T130000Z
DTEND:20230922T160000Z
LOCATION:Piazza San Leonardo  (Via Cavaliere Leonardo Impagliazzo\, 65\, 80
 075 Forio NA\, Italia)
SUMMARY:Andar per cantine 2023: Percorso San Lunardo
URL:https://www.prolocopanza.it/en/calendario-eventi-archiviati/event/14609
 -andar-per-cantine-2023-percorso-san-lunardo
END:VEVENT
BEGIN:VEVENT
UID:20260421T063122CEST-9701ShJ3Jk@https://www.prolocopanza.it/
DTSTAMP:20260421T043122Z
DESCRIPTION:Le cantine del percorso Piedirosso:\nCANTINA SCARDECCHIAVia Suc
 chivo - Serrara FontanaTel. 081 909062Cantina storica del paese\, passata 
 di generazione in generazione per tre secoli tra le mani sapienti della fa
 miglia Iacono. Attualmente si producono vino bianco\, rosso\, spumante mis
 to e Sorriso.\nTENUTA GIOSUÉ COLELLAForio - Via S.Giuseppe 24 - Tel. +39 3
 28 068 1061L’azienda agricola Colella vi accoglierà tra il verde dei vigne
 ti delle colline foriane. Visiterete l’antica cantina scavata a mano in un
  unico blocco di tufo verde dai nostri avi. Degusterete vini di nicchia e 
 assaporerete le nostre specialità\, prodotte secondo antiche ricette di fa
 miglia\, rimaste invariate da generazioni...\nCANTINA PASSARIELLOForio - V
 ia Tironi 29 - Tel. +39 335 6341297La cantina si trova in località Tironi 
 ed è di proprietà della famiglia Russo dal 1956. Costruita interamente in 
 tufo verde nel lontano 1873\, era adibita alla produzione e alla vendita d
 i vino locale . Rappresenta sicuramente una delle cantine più antiche di F
 orio ed è perfettamente funzionante.\nQuota di partecipazione 35\,00€ a pe
 rsona https://www.prolocopanza.it/en/calendario-eventi-archiviati/event/14
 616-andar-per-cantine-2023-percorso-piedirosso
DTSTART:20230922T130000Z
DTEND:20230922T170000Z
LOCATION:Piazza San Leonardo  (Via Cavaliere Leonardo Impagliazzo\, 65\, 80
 075 Forio NA\, Italia)
SUMMARY:Andar per cantine 2023: Percorso Piedirosso
URL:https://www.prolocopanza.it/en/calendario-eventi-archiviati/event/14616
 -andar-per-cantine-2023-percorso-piedirosso
END:VEVENT
BEGIN:VEVENT
UID:20260421T063122CEST-9707mNiPvT@https://www.prolocopanza.it/
DTSTAMP:20260421T043122Z
DESCRIPTION:Le cantine del percorso Epomeo:\nA‘ CANTIN E CIR’Antico Borgo d
 i Noia - Serrara FontanaTel. 081 999477Anticamente era una grotta la quale
  serviva da rifugio alle varie incursioni di pirati. La famiglia Iacono la
  acquistò insieme al vigneto all’inizio del ‘900. Essendo una famiglia di 
 contadini\, il signor Ciro Iacono\, dopo il ’30\, la trasformò in cantina 
 ampliandola e rendendola un locale funzionale per la produzione e la conse
 rvazione del vino.\nA‘ CANTINA DI NONNO MICHELE DA TONYSerrara Fontana\, T
 el. +39 081 999570 | +39 3294410962La cantina di nonno Michele\, scavata n
 el 1908 nelle rocce di tufo e utilizzata fino a 30 anni fa per la conserva
 zione del vino e delle botti. Caratteristica particolare della cantina\, a
 ncora oggi visibile\, è la pietra sudaria\, da cui sgorga acqua. La tradiz
 ione familiare\, oggi\, viene portata avanti dal nipote Antonio Galano\, c
 he l’ha resa uno speciale luogo di ritrovo per turisti ed isolani.\nA' CAN
 TIN LU' SCULTOREIndirizzo: Via Casa Mattera\, 25 - FontanaContatti: 333766
 3548Poco distante dalla piazza di Fontana\, si trova la cantina di Nicola 
 Gioba. Cantina risalente al 1930 interamente costruita in pietra di tufo d
 a Nicolino 'a Panella.Ora rielaborata da Nicola Gioba\, maestro scultore d
 ella pietra\, che attraverso le sue opere ha voluto immortalare alcuni mom
 enti significativi della vendemmia. Ma potrete ammirare anche altre scultu
 re che arricchiscono 'la cantina' e che la rendono unica.\nQuota di partec
 ipazione 35\,00€ a persona https://www.prolocopanza.it/en/calendario-event
 i-archiviati/event/14621-andar-per-cantine-2023-percorso-epomeo
DTSTART:20230922T080000Z
DTEND:20230922T120000Z
LOCATION:Piazza San Leonardo  (Via Cavaliere Leonardo Impagliazzo\, 65\, 80
 075 Forio NA\, Italia)
SUMMARY:Andar per cantine 2023: Percorso Epomeo
URL:https://www.prolocopanza.it/en/calendario-eventi-archiviati/event/14621
 -andar-per-cantine-2023-percorso-epomeo
END:VEVENT
BEGIN:VEVENT
UID:20260421T063122CEST-9715SWgAhT@https://www.prolocopanza.it/
DTSTAMP:20260421T043122Z
DESCRIPTION:\nLe cantine del percorso Frassitelli:\n\n&nbsp\;\n&nbsp\;\nA ‘
 CANTIN E CIR’Antico Borgo di Noia - Serrara FontanaTel. 081 999477Anticame
 nte era una grotta la quale serviva da rifugio alle varie incursioni di pi
 rati. La famiglia Iacono la acquistò insieme al vigneto all’inizio del ‘90
 0. Essendo una famiglia di contadini\, il signor Ciro Iacono\, dopo il ’30
 \, la trasformò in cantina ampliandola e rendendola un locale funzionale p
 er la produzione e la conservazione del vino.\n&nbsp\;\nCANTINA CALIMERASe
 rrara Fontana - Via Pietra dell’Acqua\, n1-Tel. +39 3282162841Ai piedi del
  monte Epomeo\, nell’antico borgo di Calimera\, troverete un’antica cantin
 a dell’800\, dove si produceva vino proveniente dai vigneti di Serrara Fon
 tana. Abbandonata per molti anni\, nel 2021 è stata cquisita dalla famigli
 a Coppola-Mattera\, che l’ha riportata all’antico splendore.\n&nbsp\;\nCAN
 TINA 'U SCILATUROVia Angelo Migliaccio\, 151 Tel. 3426226910La cantina del
 la famiglia Di Costanzo si trova sulla parte alta di Barano\, in località 
 Toccaneto. Centocinquanta anni di tradizione racchiusi in un piccolo tempi
 o del vino sapientemente restaurato\, in cui è possibile ammirare le antic
 he pietre e i vecchi palmenti\, protagonisti di storiche vendemmie. L’azie
 nda agricola\, a conduzione famigliare\, produce un vino dal sapore&nbsp\;
  tipicamente ischitano.\nQuota di partecipazione 35\,00€ a persona https:/
 /www.prolocopanza.it/en/calendario-eventi-archiviati/event/14623-andar-per
 -cantine-2023-percorso-frassitelli
DTSTART:20230922T130000Z
DTEND:20230922T160000Z
LOCATION:Pro Loco Panza Ischia (Via Cavaliere Leonardo Impagliazzo\, 144\, 
 80075 Forio NA\, Italia)
SUMMARY:Andar per cantine 2023: Percorso Frassitelli
URL:https://www.prolocopanza.it/en/calendario-eventi-archiviati/event/14623
 -andar-per-cantine-2023-percorso-frassitelli
END:VEVENT
BEGIN:VEVENT
UID:20260421T063122CEST-97227122ze@https://www.prolocopanza.it/
DTSTAMP:20260421T043122Z
DESCRIPTION:Raggiungeremo la “selva” dei Frassitelli\, dove la visuale si a
 prirà sul panorama mozzafiato che offre il territorio del comune di Forio.
  Dirigendoci verso il Bosco della Falanga\, visiteremo le “Case di Pietra”
 : blocchi di tufo scavati a mano&nbsp\; ed adibiti a luogo di rifugio o ca
 ntina. Il percorso terminerà con una degustazione presso la Cantina Calime
 ra.\nWe will reach the ‘selva’ of Frassitelli\, where the view will open u
 p to the breathtaking panorama that the territory of the municipality of F
 orio offers. Heading towards the Bosco della Falanga\, we will visit the ‘
 Stone Houses’: blocks of&nbsp\; tuff stone hand-carved and used as shelter
  or cellars. The itinerary ends with a tasting at the Cantina Calimera.\nI
 NFO- Punto Partenza/Arrivo: (Departure / arrival point): Sede Proloco Panz
 a\, Forio- Difficoltà: Media / Escursionistica (Difficulty: Medium)- Durat
 a: 6\,5h – 9km (soste incluse) Duration: 6\,5h – 9km (stops included)- Vis
 ita/Degustazione: (Visit / Tasting): Cantina Calimera\nQuota di partecipaz
 ione 35\,00€ a persona https://www.prolocopanza.it/en/calendario-eventi-ar
 chiviati/event/14661-andar-per-cantine-2023-il-sentiero-delle-case-di-piet
 ra
DTSTART:20230922T073000Z
DTEND:20230922T133000Z
LOCATION:Pro Loco Panza Ischia (Via Cavaliere Leonardo Impagliazzo\, 144\, 
 80075 Forio NA\, Italia)
SUMMARY:Andar per Cantine 2023:  Il sentiero delle Case di Pietra
URL:https://www.prolocopanza.it/en/calendario-eventi-archiviati/event/14661
 -andar-per-cantine-2023-il-sentiero-delle-case-di-pietra
END:VEVENT
BEGIN:VEVENT
UID:20260421T063122CEST-97279rZumz@https://www.prolocopanza.it/
DTSTAMP:20260421T043122Z
DESCRIPTION:Percorso guidato con degustazione di vini e prodotti tipici loc
 ali al chiaro di luna settembrina in alcune tra le più belle e suggestive 
 cantine ischitane.\nQuota di partecipazione € 40\,00 a persona https://www
 .prolocopanza.it/en/calendario-eventi-archiviati/event/14670-cantinando-so
 tto-le-stelle
DTSTART:20230922T164500Z
DTEND:20230922T215900Z
LOCATION:Pro Loco Panza Ischia (Via Cavaliere Leonardo Impagliazzo\, 144\, 
 80075 Forio NA\, Italia)
SUMMARY:Cantinando sotto le stelle
URL:https://www.prolocopanza.it/en/calendario-eventi-archiviati/event/14670
 -cantinando-sotto-le-stelle
END:VEVENT
BEGIN:VEVENT
UID:20260421T063122CEST-9731nVkVLb@https://www.prolocopanza.it/
DTSTAMP:20260421T043122Z
DESCRIPTION:Ideata per l’evento\, la degustazione di piatti tipici ischitan
 i in abbinamento ai pluripremiati vini dalle cantine affacciate sul mare d
 i Antonio Mazzella.\nAppuntamento nella piazzetta di Campagnano - Comune d
 i Ischia alle ore 16:00\nQuota di partecipazione 45\,00 € a persona https:
 //www.prolocopanza.it/en/calendario-eventi-archiviati/event/14677-andar-pe
 r-cantine-2023-i-premiati-vini-di-antonio-mazzella
DTSTART:20230922T140000Z
DTEND:20230922T170000Z
LOCATION:Campagnano (Cantine Antonio Mazzella)
SUMMARY:Andar per Cantine 2023: I premiati vini di Antonio Mazzella
URL:https://www.prolocopanza.it/en/calendario-eventi-archiviati/event/14677
 -andar-per-cantine-2023-i-premiati-vini-di-antonio-mazzella
END:VEVENT
END:VCALENDAR
