BEGIN:VCALENDAR
VERSION:2.0
PRODID:-//https://www.prolocopanza.it///NONSGML kigkonsult.se iCalcreator 2.10.15//
METHOD:PUBLISH
BEGIN:VEVENT
UID:20260422T180415CEST-5562UuunRV@https://www.prolocopanza.it/
DTSTAMP:20260422T160415Z
DESCRIPTION:Le cantine del percorso Epomeo:\n1. A ‘CANTIN E CIR’Antico Borg
 o di Noia - Serrara FontanaTel. 081 999477Anticamente era una grotta la qu
 ale serviva da rifugio alle varie incursioni di pirati. La famiglia Iacono
  la acquistò insieme al vigneto all’inizio del ‘900. Essendo una famiglia 
 di contadini\, il signor Ciro Iacono\, dopo il ’30\, la trasformò in canti
 na ampliandola e rendendola un locale funzionale per la produzione e la co
 nservazione del vino.\n2. CANTINA NONNO MICHELE DI TONYVia Pendio Oscuro -
  Serrara FontanaTel. 081 999570 - Mob. 3294410962La cantina di nonno Miche
 le scavata nel 1908 nelle rocce di tufo ed utilizzata fino a 30 anni fa pe
 r la conservazione del vino e delle botti. Caratteristica particolare dell
 a cantina\, ancora oggi visibile\, è la pietra sudaria\, da cui sgorga acq
 ua. La tradizione familiare\, oggi\, viene portata avanti dal nipote Anton
 io Galano che l’ha resa uno speciale luogo di ritrovo dove turisti ed isol
 ani.\n3. A' CANTIN LU' SCULTOREIndirizzo: Via Casa Mattera\, 25 - FontanaC
 ontatti: 3337663548Poco distante dalla piazza di Fontana\, si trova la can
 tina di Nicola Gioba. Cantina risalente al 1930 interamente costruita in p
 ietra di tufo da Nicolino 'a Panella.Ora rielaborata da Nicola Gioba\, mae
 stro scultore della pietra\, che attraverso le sue opere ha voluto immorta
 lare alcuni momenti significativi della vendemmia. Ma potrete ammirare anc
 he altre sculture che arricchiscono 'la cantina' e che la rendono unica.\n
 ANNULLATO https://www.prolocopanza.it/en/calendario-eventi-archiviati/even
 t/14489-percorso-epomeo
DTSTART:20220922T080000Z
DTEND:20220922T120000Z
LOCATION:Pro Loco Panza Ischia (Via Cavaliere Leonardo Impagliazzo\, 144\, 
 80075 Forio NA\, Italia)
SUMMARY:Percorso Epomeo
URL:https://www.prolocopanza.it/en/calendario-eventi-archiviati/event/14489
 -percorso-epomeo
END:VEVENT
BEGIN:VEVENT
UID:20260422T180415CEST-5568nOHGO9@https://www.prolocopanza.it/
DTSTAMP:20260422T160415Z
DESCRIPTION:Le cantine del percorso Frassitelli:\n1. A ‘CANTIN E CIR’Antico
  Borgo di Noia - Serrara FontanaTel. 081 999477Anticamente era una grotta 
 la quale serviva da rifugio alle varie incursioni di pirati. La famiglia I
 acono la acquistò insieme al vigneto all’inizio del ‘900. Essendo una fami
 glia di contadini\, il signor Ciro Iacono\, dopo il ’30\, la trasformò in 
 cantina ampliandola e rendendola un locale funzionale per la produzione e 
 la conservazione del vino.\n&nbsp\;\n2. A ‘CANTINA DI NONNO MICHELE DA TON
 YSerrara Fontana - Via Pendio OscuroCell. 3294410962 - Tel. 081 999570La c
 antina di nonno Michele scavata nel 1908 nelle rocce di tufo ed utilizzata
  fino a 30 anni fa per la conservazione del vino e delle botti. Caratteris
 tica particolare della cantina\, ancora oggi visibile\, è la pietra sudari
 a\, da cui sgorga acqua. La tradizione familiare\, oggi\, viene portata av
 anti dal nipote Antonio Galano che l’ha resa uno speciale luogo di ritrovo
  dove turisti ed isolani.\n&nbsp\;\n3. CANTINA U’ SCILATUROVia Angelo Migl
 iaccio\, 151 - Barano Cell. 3476243693 La cantina della famiglia Di Costan
 zo si trova sulla parte alta di Barano\, in località Toccaneto. Centocinqu
 anta anni di tradizione racchiusi in un piccolo tempio del vino sapienteme
 nte restaurato\, in cui è possibile ammirare le antiche pietre e i vecchi 
 palmenti\, protagonisti di storiche vendemmie. L’azienda agricola\, a cond
 uzione famigliare\, produce\, a poca distanza da un orto rigoglioso\, un v
 ino dal sapore tipicamente ischitano.\nPrezzo del percorso € 30 https://ww
 w.prolocopanza.it/en/calendario-eventi-archiviati/event/14500-percorso-fra
 ssitelli
DTSTART:20220922T130000Z
DTEND:20220922T160000Z
LOCATION:Pro Loco Panza Ischia (Via Cavaliere Leonardo Impagliazzo\, 144\, 
 80075 Forio NA\, Italia)
SUMMARY:Percorso Frassitelli
URL:https://www.prolocopanza.it/en/calendario-eventi-archiviati/event/14500
 -percorso-frassitelli
END:VEVENT
BEGIN:VEVENT
UID:20260422T180415CEST-5573Hcw9TP@https://www.prolocopanza.it/
DTSTAMP:20260422T160415Z
DESCRIPTION:Le cantine del percorso Piedirosso:\n\n1. CANTINA PASSARIELLOVi
 a Tironi\, 29 - ForioCell. +39 335 6341297La cantina si trova in località 
 Tironi ed è di proprietà della famiglia Russo dal 1956. Costruita interame
 nte in tufo verde nel lontano 1873\, era adibita per la produzione e la ve
 ndita di vino locale. Rappresenta sicuramente una delle cantine più antich
 e di Forio ed è perfettamente funzionante.\n2. AZIENDA AGRICOLA VILLA SPAD
 ARAVia Calosirto\, 82 - ForioTel. +39 081989584Visitare l’azienda Agricola
  La Spadara vuol dire imparare a conoscere la storia ischitana\, un viaggi
 o nel passato e nelle tradizioni. L’azienda si estende su 7 ettari coltiva
 ti interamente in biologico ad agrumeto\, vigneto\, uliveto e ortaggi. All
 ’interno si trova anche l’antica casa colonica e le cantine risalenti al 1
 600.\n3. CANTINE TOMMASONEVia Prov.le Lacco\, 98 - Lacco Ameno Tel. +39 08
 13330330Un’azienda giovane che guarda al futuro nel rispetto delle tradizi
 oni di una grande famiglia. Nasce nel 2004 il cui nome è dedicato sia al p
 adre Tommasone\, sia all’antica cantina fatta in una pietra. La Pietra di 
 Tommasone è frutto di passione e impegno\, ma soprattutto di una tradizion
 e familiare di vecchia data.\nPrezzo del percorso € 35 https://www.proloco
 panza.it/en/calendario-eventi-archiviati/event/14524-percorso-piedirosso-p
 omeriggio
DTSTART:20220922T130000Z
DTEND:20220922T160000Z
LOCATION:Pro Loco Panza Ischia (Via Cavaliere Leonardo Impagliazzo\, 144\, 
 80075 Forio NA\, Italia)
SUMMARY:Percorso Piedirosso (Pomeriggio)
URL:https://www.prolocopanza.it/en/calendario-eventi-archiviati/event/14524
 -percorso-piedirosso-pomeriggio
END:VEVENT
BEGIN:VEVENT
UID:20260422T180415CEST-5578T0hbaJ@https://www.prolocopanza.it/
DTSTAMP:20260422T160415Z
DESCRIPTION:Le cantine del percorso Piedirosso:\n\n1. CANTINA PASSARIELLOVi
 a Tironi\, 29 - ForioCell. +39 335 6341297La cantina si trova in località 
 Tironi ed è di proprietà della famiglia Russo dal 1956. Costruita interame
 nte in tufo verde nel lontano 1873\, era adibita per la produzione e la ve
 ndita di vino locale. Rappresenta sicuramente una delle cantine più antich
 e di Forio ed è perfettamente funzionante.\n2. AZIENDA AGRICOLA VILLA SPAD
 ARAVia Calosirto\, 82 - ForioTel. +39 081989584Visitare l’azienda Agricola
  La Spadara vuol dire imparare a conoscere la storia ischitana\, un viaggi
 o nel passato e nelle tradizioni. L’azienda si estende su 7 ettari coltiva
 ti interamente in biologico ad agrumeto\, vigneto\, uliveto e ortaggi. All
 ’interno si trova anche l’antica casa colonica e le cantine risalenti al 1
 600.\n3. CANTINE TOMMASONEVia Prov.le Lacco\, 98 - Lacco Ameno Tel. +39 08
 13330330Un’azienda giovane che guarda al futuro nel rispetto delle tradizi
 oni di una grande famiglia. Nasce nel 2004 il cui nome è dedicato sia al p
 adre Tommasone\, sia all’antica cantina fatta in una pietra. La Pietra di 
 Tommasone è frutto di passione e impegno\, ma soprattutto di una tradizion
 e familiare di vecchia data.\nPrezzo del percorso € 35 https://www.proloco
 panza.it/en/calendario-eventi-archiviati/event/14525-percorso-piedirosso
DTSTART:20220922T080000Z
DTEND:20220922T110000Z
LOCATION:Pro Loco Panza Ischia (Via Cavaliere Leonardo Impagliazzo\, 144\, 
 80075 Forio NA\, Italia)
SUMMARY:Percorso Piedirosso 
URL:https://www.prolocopanza.it/en/calendario-eventi-archiviati/event/14525
 -percorso-piedirosso
END:VEVENT
BEGIN:VEVENT
UID:20260422T180415CEST-55829ejLGF@https://www.prolocopanza.it/
DTSTAMP:20260422T160415Z
DESCRIPTION:Dalla zona Bocca di Serra ci dirigeremo verso i Frassitelli lun
 go un’antica mulattiera in discesa tra campi in disuso e piante selvatiche
 .\nRaggiungeremo poi il belvedere dei Frassitelli dove la&nbsp\; isuale si
  aprirà sul panorama mozzafiato che offre il territorio del comune di Fori
 o.\nPercorreremo poi parte del sentiero CAI 502\, giungendo presso la cant
 ina dell’azienda vinicola Casa&nbsp\; ’ambra: qui godremo di una degustazi
 one dei loro vini accompagnati da prodotti locali e di stagione.\nFrom the
  Bocca di Serra area we will head to Frassitelli along an ancient mule tra
 ck downhill between disused fields and wild plants. We will then reach the
  Frassitelli viewpoint where the view will open onto the breathtaking pano
 rama offered by the territory of the municipality of Forio.We will then ta
 ke part of the CAI 502 path\, arriving at the cellar of the Casa D’Ambra w
 inery: here we will enjoy a tasting of their wines accompanied by local an
 d seasonal products.\nINFO\n- Punto Partenza/Arrivo (Departure / arrival p
 oint): Sede Proloco Panza\, Forio- Difficoltà: Facile / Turistica (Difficu
 lty: Easy)- Durata: 5h – 3\,5km (soste incluse) Duration: 5h – 3\,5km (sto
 ps included)- Visita/Degustazione: (Visit / Tasting): Cantina Casa d’Ambra
 - Quota di partecipazione / Price: 40 €\n https://www.prolocopanza.it/en/c
 alendario-eventi-archiviati/event/14527-il-sentiero-dei-frassitelli-al-tra
 monto
DTSTART:20220922T140000Z
DTEND:20220922T173000Z
LOCATION:Piazza San Leonardo  (Via Cavaliere Leonardo Impagliazzo\, 65\, 80
 075 Forio NA\, Italia)
SUMMARY:Il sentiero dei Frassitelli al tramonto
URL:https://www.prolocopanza.it/en/calendario-eventi-archiviati/event/14527
 -il-sentiero-dei-frassitelli-al-tramonto
END:VEVENT
END:VCALENDAR
