BEGIN:VCALENDAR
VERSION:2.0
PRODID:-//https://www.prolocopanza.it///NONSGML kigkonsult.se iCalcreator 2.10.15//
METHOD:PUBLISH
BEGIN:VEVENT
UID:20260421T063011CEST-0446U5sbMg@https://www.prolocopanza.it/
DTSTAMP:20260421T043011Z
DESCRIPTION:Le cantine del percorso Epomeo:\n‘A CANTIN ‘E CIR’Serrara Fonta
 na - Borgo di Noia -Tel: +39 081999477| 3478953232Anticamente era una grot
 ta che serviva da rifugio durante le varie incursioni di pirati. La famigl
 ia lacono la acquistò insieme al vigneto all’inizio del ‘900. Essendo una 
 famiglia di contadini\, il signor Ciro lacono\, dopo il ‘30\, la trasformò
  in cantina\, ampliandola e rendendola funzionale alla produzione e conser
 vazionedel vino.\n‘A CANTINA di nonno michele da TONYSerrara Fontana\, Tel
 . +39 081 999570 | +39 3294410962La cantina di nonno Michele\, scavata nel
  1908 nelle rocce di tufo e utilizzata fino a 30 anni fa per la conservazi
 one del vino e delle botti. Caratteristica particolare della cantina\, anc
 ora oggi visibile\, è la pietra sudaria\, da cui sgorga acqua. La tradizio
 ne familiare\, oggi\, viene portata avanti dal nipote Antonio Galano\, che
  l’ha resa uno speciale luogo di ritrovo per turisti ed isolani.\nCANTINA 
 RAUSTELLASerrara Fontana -Via Lorenzo Fiore - Tel: +39 3317848052Alle pend
 ici del monte Epomeo\, in grotte scavate nella montagna dagli antichi isch
 itani\, saggi contadini continuano a produrre il vino con i sistemi dei pa
 dri. Tra questi\, Francesco Mattera detto Raustella\, nella sua cantina a 
 Serrara\, continua a produrre il meraviglioso nettare degli dei. Completam
 ente restaurata da Giuseppe Mattera oggi scrigno delle antiche tradizioni 
 vitivinicole...\nQuota di partecipazione 35\,00€ a persona https://www.pro
 locopanza.it/en/calendario-eventi-archiviati/event/14593-andar-per-cantine
 -2023-percorso-epomeo
DTSTART:20230921T080000Z
DTEND:20230921T120000Z
LOCATION:Piazza San Leonardo  (Via Cavaliere Leonardo Impagliazzo\, 65\, 80
 075 Forio NA\, Italia)
SUMMARY:Andar per cantine 2023: Percorso Epomeo
URL:https://www.prolocopanza.it/en/calendario-eventi-archiviati/event/14593
 -andar-per-cantine-2023-percorso-epomeo
END:VEVENT
BEGIN:VEVENT
UID:20260421T063011CEST-0455vhwh6T@https://www.prolocopanza.it/
DTSTAMP:20260421T043011Z
DESCRIPTION:Le cantine del percorso Aragonese:\nLA VIGNA DEL CASTELLO ARAGO
 NESEIschia - Castello Aragonese - Tel. +39 081 99 28 34Il vino nasce da uv
 e Biancolella che maturano in pieno sole sul Castello Aragonese di Ischia\
 , in un vigneto panoramico riattivato grazie alla volontà di Gabriele Matt
 era e sua moglie Karin con i figli Nicola e Anna Cristina Un vino prodotto
  secondo la tradizione isolana\, in un terreno a vigna fin dal Medioevo.\n
 Quota di partecipazione 40\,00 € a persona https://www.prolocopanza.it/en/
 calendario-eventi-archiviati/event/14595-andar-per-cantine-2023-percorso-a
 ragonese
DTSTART:20230921T130000Z
DTEND:20230921T170000Z
LOCATION:Piazzale delle alghe (Via Boccaccio\, 1\, 80077 Ischia NA\, Italia
 )
SUMMARY:Andar per cantine 2023: Percorso Aragonese
URL:https://www.prolocopanza.it/en/calendario-eventi-archiviati/event/14595
 -andar-per-cantine-2023-percorso-aragonese
END:VEVENT
BEGIN:VEVENT
UID:20260421T063011CEST-0461xzM8UP@https://www.prolocopanza.it/
DTSTAMP:20260421T043011Z
DESCRIPTION:Le cantine del percorso Piedirosso:\nCANTINA PASSARIELLOForio -
  Via Tironi 29 - Tel. +39 335 6341297La cantina si trova in località Tiron
 i ed è di proprietà della famiglia Russo dal 1956. Costruita interamente i
 n tufo verde nel lontano 1873\, era adibita alla produzione e alla vendita
  di vino locale . Rappresenta sicuramente una delle cantine più antiche di
  Forio ed è perfettamente funzionante.\nAZIENDA AGRICOLA VILLA SPADARAFori
 o - Via Calosirto\, 82 Tel. 081.989584Visitare l’azienda Agricola La Spada
 ra vuol dire imparare a conoscere la storia ischitana\, un viaggio nel pas
 sato e nelle tradizioni. L’azienda si estende su sette ettari coltivati in
 teramente in biologico ad agrumeto\, vigneto\, uliveto e ortaggi. All’inte
 rno si trova anche l’antica casa colonica e le cantine risalenti al 1600.
 \nCANTINE TOMMASONELacco Ameno - Via Prov.le Lacco\, 98\, Tel: +39 081 333
 0330Un’azienda giovane che guarda al futuro nel rispetto delle tradizioni 
 di una grande famiglia. Nasce nel 2004 con il nome dedicato sia al padre T
 ommasone sia all’antica cantina scavata in una pietra. La Pietra di Tommas
 one è frutto di passione e impegno\, ma soprattutto di una tradizione fami
 liare di vecchia data.\n&nbsp\;\nCosto €35 https://www.prolocopanza.it/en/
 calendario-eventi-archiviati/event/14596-andar-per-cantine-2023-percorso-p
 iedirosso
DTSTART:20230921T130000Z
DTEND:20230921T160000Z
LOCATION:Piazza San Leonardo  (Via Cavaliere Leonardo Impagliazzo\, 65\, 80
 075 Forio NA\, Italia)
SUMMARY:Andar per cantine 2023: percorso Piedirosso
URL:https://www.prolocopanza.it/en/calendario-eventi-archiviati/event/14596
 -andar-per-cantine-2023-percorso-piedirosso
END:VEVENT
BEGIN:VEVENT
UID:20260421T063011CEST-0469SVihw0@https://www.prolocopanza.it/
DTSTAMP:20260421T043011Z
DESCRIPTION:Le cantine del percorso Epomeo:\nA' CANTIN LU' SCULTORESerrara 
 Fontana - Via Casamattera n25 - Tel +39 3337663548Poco distante dalla piaz
 za di Fontana\, si trova la cantina di Nicola Gioba. Risalente al 1930\, i
 nteramente costruita in pietra tufo da Nicolino ‘a Panella. Ora rielaborat
 a da Nicola Gioba ‚maestro scultore della pietra\, che attraverso le sue o
 pere ha voluto immortalare alcuni momenti significativi della vendemmia.\n
 A‘ CANTINA DI NONNO MICHELE DA TONYSerrara Fontana\, Tel. +39 081 999570 |
  +39 3294410962La cantina di nonno Michele\, scavata nel 1908 nelle rocce 
 di tufo e utilizzata fino a 30 anni fa per la conservazione del vino e del
 le botti. Caratteristica particolare della cantina\, ancora oggi visibile\
 , è la pietra sudaria\, da cui sgorga acqua. La tradizione familiare\, ogg
 i\, viene portata avanti dal nipote Antonio Galano\, che l’ha resa uno spe
 ciale luogo di ritrovo per turisti ed isolani.\nCANTINA 'U SCILATUROBarano
  - Via Angelo Migliaccio\, 151 -Tel. +39 3426226910La cantina della famigl
 ia Di Costanzo si trova sulla parte alta di Barano\, in località Toccaneto
 . Centocinquanta anni di tradizione racchiusi in un piccolo tempio del vin
 o sapientemente restaurato\, in cui è possibile ammirare le antiche pietre
  e i vecchi palmenti\, protagonisti di storiche vendemmie. L’azienda agric
 ola\, a conduzione famigliare\, produce un vino dal sapore tipicamente isc
 hitano.\nQuota di partecipazione 35\,00€ a persona https://www.prolocopanz
 a.it/en/calendario-eventi-archiviati/event/14597-andar-per-cantine-2023-pe
 rcorso-epomeo
DTSTART:20230921T130000Z
DTEND:20230921T170000Z
LOCATION:Piazza San Leonardo  (Via Cavaliere Leonardo Impagliazzo\, 65\, 80
 075 Forio NA\, Italia)
SUMMARY:Andar per cantine 2023: Percorso Epomeo
URL:https://www.prolocopanza.it/en/calendario-eventi-archiviati/event/14597
 -andar-per-cantine-2023-percorso-epomeo
END:VEVENT
BEGIN:VEVENT
UID:20260421T063011CEST-0477evasvo@https://www.prolocopanza.it/
DTSTAMP:20260421T043011Z
DESCRIPTION:Le cantine del percorso Frassitelli:\n21 SETTembre 2023 partenz
 a ore 16:00\nDalla zona Bocca di Serra ci dirigeremo verso i Frassitelli\,
  lungo un’antica mulattiera in discesa tra campi in disuso e piante selvat
 iche. Raggiungeremo poi il belvedere dei Frassitelli\, dove la visuale si 
 aprirà sul panorama mozzafiato che offre il territorio del comune di Forio
 . Percorreremo poi parte del sentiero CAl 502\, giungendo presso la cantin
 a dell’azienda vinicola Casa D’ambra: qui godremo di una degustazione dei 
 loro vini accompagnati da prodotti locali e di stagione.\n&nbsp\;\nCosto €
 40 https://www.prolocopanza.it/en/calendario-eventi-archiviati/event/14598
 -andar-per-cantine-2023-frassitelli-al-tramonto
DTSTART:20230921T140000Z
DTEND:20230921T160000Z
LOCATION:Piazzale delle alghe (Via Boccaccio\, 1\, 80077 Ischia NA\, Italia
 )
SUMMARY:Andar per cantine 2023: FRASSITELLI AL TRAMONTO
URL:https://www.prolocopanza.it/en/calendario-eventi-archiviati/event/14598
 -andar-per-cantine-2023-frassitelli-al-tramonto
END:VEVENT
BEGIN:VEVENT
UID:20260421T063011CEST-0483AUPGIi@https://www.prolocopanza.it/
DTSTAMP:20260421T043011Z
DESCRIPTION:Le cantine del percorso Piedirosso:\nCANTINA SCARDECCHIAVia Suc
 chivo - Serrara FontanaTel. 081 909062Cantina storica del paese\, passata 
 di generazione in generazione per tre secoli tra le mani sapienti della fa
 miglia Iacono. Attualmente si producono vino bianco\, rosso\, spumante mis
 to e Sorriso.\nCANTINA PASSARIELLOForio - Via Tironi 29 - Tel. +39 335 634
 1297La cantina si trova in località Tironi ed è di proprietà della famigli
 a Russo dal 1956. Costruita interamente in tufo verde nel lontano 1873\, e
 ra adibita alla produzione e alla vendita di vino locale . Rappresenta sic
 uramente una delle cantine più antiche di Forio ed è perfettamente funzion
 ante.\nCANTINE TOMMASONELacco Ameno - Via Prov.le Lacco\, 98\, Tel: +39 08
 1 3330330Un’azienda giovane che guarda al futuro nel rispetto delle tradiz
 ioni di una grande famiglia. Nasce nel 2004 con il nome dedicato sia al pa
 dre Tommasone sia all’antica cantina scavata in una pietra. La Pietra di T
 ommasone è frutto di passione e impegno\, ma soprattutto di una tradizione
  familiare di vecchia data.\nQuota di partecipazione 35\,00€ a persona htt
 ps://www.prolocopanza.it/en/calendario-eventi-archiviati/event/14607-andar
 -per-cantine-2023-percorso-piedirosso
DTSTART:20230921T080000Z
DTEND:20230921T120000Z
LOCATION:Piazza San Leonardo  (Via Cavaliere Leonardo Impagliazzo\, 65\, 80
 075 Forio NA\, Italia)
SUMMARY:Andar per cantine 2023: Percorso Piedirosso
URL:https://www.prolocopanza.it/en/calendario-eventi-archiviati/event/14607
 -andar-per-cantine-2023-percorso-piedirosso
END:VEVENT
BEGIN:VEVENT
UID:20260421T063011CEST-0491cEwpjb@https://www.prolocopanza.it/
DTSTAMP:20260421T043011Z
DESCRIPTION:Le cantine del percorso Piedirosso:\nCANTINA PASSARIELLOForio -
  Via Tironi 29 - Tel. +39 335 6341297La cantina si trova in località Tiron
 i ed è di proprietà della famiglia Russo dal 1956. Costruita interamente i
 n tufo verde nel lontano 1873\, era adibita alla produzione e alla vendita
  di vino locale . Rappresenta sicuramente una delle cantine più antiche di
  Forio ed è perfettamente funzionante.\nAZIENDA AGRICOLA VILLA SPADARAVia 
 Calosirto\, 82 - ForioTel. +39 081989584Visitare l’azienda Agricola La Spa
 dara vuol dire imparare a conoscere la storia ischitana\, un viaggio nel p
 assato e nelle tradizioni. L’azienda si estende su 7 ettari coltivati inte
 ramente in biologico ad agrumeto\, vigneto\, uliveto e ortaggi. All’intern
 o si trova anche l’antica casa colonica e le cantine risalenti al 1600.\nC
 ANTINE PIETRATORCIAVia Provinciale Panza\, 267 - ForioTel. 081 908206/081 
 907232 Fax: 081 908949www.pietratorcia.it - info@pietratorcia.itLe cantine
  di Pietratorcia sono state create da tre antiche famiglie contadine ischi
 tane Iacono\, Regine e Verde. Oltre sette ettari di terreno sono stati rip
 iantati con vitigni selezionati.\nQuota di partecipazione 35\,00€ a person
 a https://www.prolocopanza.it/en/calendario-eventi-archiviati/event/14614-
 andar-per-cantine-2023-percorso-piedirosso
DTSTART:20230921T130000Z
DTEND:20230921T170000Z
LOCATION:Piazza San Leonardo  (Via Cavaliere Leonardo Impagliazzo\, 65\, 80
 075 Forio NA\, Italia)
SUMMARY:Andar per cantine 2023: Percorso Piedirosso
URL:https://www.prolocopanza.it/en/calendario-eventi-archiviati/event/14614
 -andar-per-cantine-2023-percorso-piedirosso
END:VEVENT
BEGIN:VEVENT
UID:20260421T063011CEST-04989cHBzf@https://www.prolocopanza.it/
DTSTAMP:20260421T043011Z
DESCRIPTION:Dalla zona Bocca di Serra ci dirigeremo verso i Frassitelli lun
 go un’antica mulattiera in discesa tra campi in disuso e piante selvatiche
 .\nRaggiungeremo poi il belvedere dei Frassitelli dove la&nbsp\; isuale si
  aprirà sul panorama mozzafiato che offre il territorio del comune di Fori
 o.\nPercorreremo poi parte del sentiero CAI 502\, giungendo presso la cant
 ina dell’azienda vinicola Casa&nbsp\; D’ambra: qui godremo di una degustaz
 ione dei loro vini accompagnati da prodotti locali e di stagione.\nFrom th
 e Bocca di Serra area we will head to Frassitelli along an ancient mule tr
 ack downhill between disused fields and wild plants. We will then reach th
 e Frassitelli viewpoint where the view will open onto the breathtaking pan
 orama offered by the territory of the municipality of Forio.We will then t
 ake part of the CAI 502 path\, arriving at the cellar of the Casa D’Ambra 
 winery: here we will enjoy a tasting of their wines accompanied by local a
 nd seasonal products.\nINFO\n- Punto Partenza/Arrivo (Departure / arrival 
 point): Sede Proloco Panza\, Forio- Difficoltà: Facile / Turistica (Diffic
 ulty: Easy)- Durata: 5h – 3\,5km (soste incluse) Duration: 5h – 3\,5km (st
 ops included)- Visita/Degustazione: (Visit / Tasting): Cantina Casa d’Ambr
 a- Quota di partecipazione / Price: 40 €\n https://www.prolocopanza.it/en/
 calendario-eventi-archiviati/event/14660-andar-per-cantine-2023-frassitell
 i-al-tramonto
DTSTART:20230921T140000Z
DTEND:20230921T173000Z
LOCATION:Piazza San Leonardo  (Via Cavaliere Leonardo Impagliazzo\, 65\, 80
 075 Forio NA\, Italia)
SUMMARY:Andar per Cantine 2023: Frassitelli al tramonto
URL:https://www.prolocopanza.it/en/calendario-eventi-archiviati/event/14660
 -andar-per-cantine-2023-frassitelli-al-tramonto
END:VEVENT
BEGIN:VEVENT
UID:20260421T063011CEST-0506vU8lIK@https://www.prolocopanza.it/
DTSTAMP:20260421T043011Z
DESCRIPTION:Percorso guidato con degustazione di vini e prodotti tipici loc
 ali al chiaro di luna settembrina in alcune tra le più belle e suggestive 
 cantine ischitane.\nQuota di partecipazione € 40\,00 a persona https://www
 .prolocopanza.it/en/calendario-eventi-archiviati/event/14669-cantinando-so
 tto-le-stelle
DTSTART:20230921T164500Z
DTEND:20230921T215900Z
LOCATION:Pro Loco Panza Ischia (Via Cavaliere Leonardo Impagliazzo\, 144\, 
 80075 Forio NA\, Italia)
SUMMARY:Cantinando sotto le stelle
URL:https://www.prolocopanza.it/en/calendario-eventi-archiviati/event/14669
 -cantinando-sotto-le-stelle
END:VEVENT
END:VCALENDAR
