BEGIN:VCALENDAR
VERSION:2.0
PRODID:-//https://www.prolocopanza.it///NONSGML kigkonsult.se iCalcreator 2.10.15//
METHOD:PUBLISH
BEGIN:VEVENT
UID:20260421T064327CEST-7013xtvwHu@https://www.prolocopanza.it/
DTSTAMP:20260421T044327Z
DESCRIPTION:Dopo il boom di presenze della scorsa edizione\, torna il conso
 lidato appuntamento con le tradizioni contadine ed enogastronomiche dell’i
 sola d’Ischia.Dal 20 settembre al 1° ottobre 2023 riprendono i tour guidat
 i nelle più antiche realtà vitivinicole isolane.“Siamo al lavoro per inser
 ire all’interno del format della manifestazione tantissime novità che punt
 ano alla valorizzazione delle nostre risorse enogastronomiche e alla promo
 zione del territorio” spiegano i componenti del direttivo.Saranno dunque t
 antissime le novità che andranno ad arricchire questa nuova edizione che c
 i proiettera’ nel cuore delle nostre tradizioni. Inebriati dal profumo del
 le vinacce e accolti dalla simpatia calorosa dei nostri cantinieri\, si vi
 vranno esperienze senza tempo.Seguiteci per tutti gli aggiornamenti !! htt
 ps://www.prolocopanza.it/en/calendario-eventi-archiviati/event/14584-al-vi
 a-la-xv-edizione-di-andare-per-cantine-2023
DTSTART;VALUE=DATE:20230920
LOCATION:Pro Loco Panza Ischia (Via Cavaliere Leonardo Impagliazzo\, 144\, 
 80075 Forio NA\, Italia)
SUMMARY:Al via la XV edizione di 'Andare per Cantine 2023'
URL:https://www.prolocopanza.it/en/calendario-eventi-archiviati/event/14584
 -al-via-la-xv-edizione-di-andare-per-cantine-2023
END:VEVENT
BEGIN:VEVENT
UID:20260421T064327CEST-7018EVo9FD@https://www.prolocopanza.it/
DTSTAMP:20260421T044327Z
DESCRIPTION:Un sentiero ricco di essenze e colori delle piante tipiche dell
 a macchia mediterranea ci condurrà verso il monte di Panza. Attraverseremo
 \, poi\, un fitto boschetto e un tratto di radura caratterizzata da un man
 to di felci\, per raggiungere la baia della Pelara\, pregevole geosito di 
 carattere vulcanico.\n&nbsp\;Punto Partenza/Arrivo (Departure / arrival po
 int): Sede Proloco Panza\, Forio- Difficoltà: Facile / Turistica (Difficul
 ty: Easy)- Durata: 5\,5h – 6km (soste incluse) Duration: 5\,5h – 6km (stop
 s included)- Visita/Degustazione (Visit / Tasting): Antica Fattoria Greca
 \nQuota di partecipazione 30\,00€ a persona https://www.prolocopanza.it/en
 /calendario-eventi-archiviati/event/14585-andar-per-cantine-2023-il-sentie
 ro-delle-due-baie
DTSTART:20230920T073000Z
DTEND:20230920T120000Z
LOCATION:Pro Loco Panza Ischia (Via Cavaliere Leonardo Impagliazzo\, 144\, 
 80075 Forio NA\, Italia)
SUMMARY:Andar per cantine 2023: il sentiero delle due baie 
URL:https://www.prolocopanza.it/en/calendario-eventi-archiviati/event/14585
 -andar-per-cantine-2023-il-sentiero-delle-due-baie
END:VEVENT
BEGIN:VEVENT
UID:20260421T064327CEST-70227vMVGs@https://www.prolocopanza.it/
DTSTAMP:20260421T044327Z
DESCRIPTION:Le cantine del percorso Piedirosso:\nCANTINA PASSARIELLOForio -
  Via Tironi 29 - Tel. +39 335 6341297La cantina si trova in località Tiron
 i ed è di proprietà della famiglia Russo dal 1956. Costruita interamente i
 n tufo verde nel lontano 1873\, era adibita alla produzione e alla vendita
  di vino locale . Rappresenta sicuramente una delle cantine più antiche di
  Forio ed è perfettamente funzionante.\nAZIENDA AGRICOLA VILLA SPADARAFori
 o - Via Calosirto\, 82 Tel. 081.989584Visitare l’azienda Agricola La Spada
 ra vuol dire imparare a conoscere la storia ischitana\, un viaggio nel pas
 sato e nelle tradizioni. L’azienda si estende su sette ettari coltivati in
 teramente in biologico ad agrumeto\, vigneto\, uliveto e ortaggi. All’inte
 rno si trova anche l’antica casa colonica e le cantine risalenti al 1600.
 \nCANTINE TOMMASONELacco Ameno - Via Prov.le Lacco\, 98\, Tel: +39 081 333
 0330Un’azienda giovane che guarda al futuro nel rispetto delle tradizioni 
 di una grande famiglia. Nasce nel 2004 con il nome dedicato sia al padre T
 ommasone sia all’antica cantina scavata in una pietra. La Pietra di Tommas
 one è frutto di passione e impegno\, ma soprattutto di una tradizione fami
 liare di vecchia data.\nQuota di partecipazione 35\,00€ a persona https://
 www.prolocopanza.it/en/calendario-eventi-archiviati/event/14588-andar-per-
 cantine-2023-percorso-piedirosso
DTSTART:20230920T080000Z
DTEND:20230920T120000Z
LOCATION:Piazza San Leonardo  (Via Cavaliere Leonardo Impagliazzo\, 65\, 80
 075 Forio NA\, Italia)
SUMMARY:Andar per cantine 2023: Percorso Piedirosso
URL:https://www.prolocopanza.it/en/calendario-eventi-archiviati/event/14588
 -andar-per-cantine-2023-percorso-piedirosso
END:VEVENT
BEGIN:VEVENT
UID:20260421T064327CEST-7027vsRuCt@https://www.prolocopanza.it/
DTSTAMP:20260421T044327Z
DESCRIPTION:Le cantine del percorso Biancolella:\nCANTINA SCARDECCHIASerrar
 a Fontana - Via Succhivo - Tel. +39 081 909062Cantina storica del paese\, 
 tramandata per tre secoli da una generazione all’altra della famiglia Iaco
 no. Attualmente si producono vino bianco\, rosso\, spumante misto e Sorris
 o\nANTICA FATTORIA GRECAForio - Via Sorgeto\, 51 Tel: +39 081908102 081194
 65224L’azienda si contraddistingue per la produzione di vini speciali loca
 li come Ischia Bianco e Ischia Rosso. Presso la struttura è possibile degu
 stare i vini\, visitare il vigneto. La produzione si basa sulla più genuin
 a tradizione contadina ischitana.\nTENUTA GIOSUÉ COLELLAForio - Via S.Gius
 eppe 24 - Tel. +39 328 068 1061L’azienda agricola Colella vi accoglierà tr
 a il verde dei vigneti delle colline foriane. Visiterete l’antica cantina 
 scavata a mano in un unico blocco di tufo verde dai nostri avi. Degusteret
 e vini di nicchia e assaporerete le nostre specialità\, prodotte secondo a
 ntiche ricette di famiglia\, rimaste invariate da generazioni...\nQuota di
  partecipazione 35\,00€ a persona https://www.prolocopanza.it/en/calendari
 o-eventi-archiviati/event/14589-andar-per-cantine-2023-percorso-biancolell
 a
DTSTART:20230920T080000Z
DTEND:20230920T120000Z
LOCATION:Piazza San Leonardo  (Via Cavaliere Leonardo Impagliazzo\, 65\, 80
 075 Forio NA\, Italia)
SUMMARY:Andar per cantine 2023: Percorso Biancolella
URL:https://www.prolocopanza.it/en/calendario-eventi-archiviati/event/14589
 -andar-per-cantine-2023-percorso-biancolella
END:VEVENT
BEGIN:VEVENT
UID:20260421T064327CEST-70314w7vZz@https://www.prolocopanza.it/
DTSTAMP:20260421T044327Z
DESCRIPTION:Le cantine del percorso Biancolella:\nTENUTA GIOSUÉ COLELLAFori
 o - Via S.Giuseppe 24 - Tel. +39 328 068 1061L’azienda agricola Colella vi
  accoglierà tra il verde dei vigneti delle colline foriane. Visiterete l’a
 ntica cantina scavata a mano in un unico blocco di tufo verde dai nostri a
 vi. Degusterete vini di nicchia e assaporerete le nostre specialità\, prod
 otte secondo antiche ricette di famiglia\, rimaste invariate da generazion
 i...\nCANTINA BELLAVISTAForio - Via Montecorvo\, 75 Tel: +39 081 997221A p
 ochi passi dal più esteso campo di fumarole dell’isola d’Ischia\, testimon
 ianza della natura vulcanica del territorio\, sorge da più di duecento ann
 i una cantina quasi interamente ricavata nel tufo verde. Francesco Castigl
 ione ne cura ogni minimo dettaglio\, benché i due fusti che vi campeggiano
  all’interno siano\, oggi\,inutilizzati.\nTENUTA C’EST LA VIEForio - Via P
 ietra Brox 51 - Tel.+39 3498875211 |3383944341La tenuta è costituita da qu
 attro ettari di vigneto e da una cantina di 600 mg risalente al 1878 e int
 eramente scavata nel dolce tufo verde del monte Epomeo. Dopo quarant’anni 
 anni di abbandono\, è stata riportata all’antico splendore da imprenditori
  del Bresciano. Oggi è anche un resort riservato ed elegante.\nQuota di pa
 rtecipazione 35\,00€ a persona https://www.prolocopanza.it/en/calendario-e
 venti-archiviati/event/14590-andar-per-cantine-2023-percorso-biancolella
DTSTART:20230920T130000Z
DTEND:20230920T160000Z
LOCATION:Piazza San Leonardo  (Via Cavaliere Leonardo Impagliazzo\, 65\, 80
 075 Forio NA\, Italia)
SUMMARY:Andar per cantine 2023: Percorso Biancolella
URL:https://www.prolocopanza.it/en/calendario-eventi-archiviati/event/14590
 -andar-per-cantine-2023-percorso-biancolella
END:VEVENT
BEGIN:VEVENT
UID:20260421T064327CEST-7036pLERfV@https://www.prolocopanza.it/
DTSTAMP:20260421T044327Z
DESCRIPTION:Le cantine del percorso San Lunardo:\nCANTINA PELLICCIONEBarano
  - Via San Pietro Tel. +39 349 578 0618In località San Pietro\, la cantina
  Pelliccione è riferimento di convivialità del borgo di Buonopane. Fermars
 i a bere un buon bicchiere di vino\, nella frescura all’interno delle gran
 di grotte scavate nel tufo\, è un rito collettivo al quale si aggregano co
 n piacere i forestieri. Il microclima delle grotte conserva alla perfezion
 e il vino e gli altri prodotti tipici.\nAZIENDA AGRICOLA FILIPPO FLORIOBar
 ano - Via Ritola\, 6 Tel: . +39 347.9333701Impegnata nella viticoltura da 
 cinque generazioni\, la famiglia Florio produce vino con lieviti Biancolel
 la docg. Vanto dell’Azienda sono l’Epomeo Rosso e il Bianco Igp. Affinati 
 nell’antica cantina scavata nel tufo.\nAGRITURISMO GIASOLEBarano - Via Can
 diano 31/A - Tel. +39 347 674 7979L’azienda agrituristica Giasole grazie a
 ll’esposizione ideale dei suoi terreni\, vanta una grande varietà di frutt
 i e verdure in ogni stagione. Oltre alla produzione di vino\, che è tratto
  distintivo dell’Azienda. La trasformazione dei prodotti dell’orto di casa
 \, rigorosamente bio\, nei piatti tipici isolani ci permette di farli appr
 ezzare a tutti i nostri visitatori.\nQuota di partecipazione 35\,00€ a per
 sona https://www.prolocopanza.it/en/calendario-eventi-archiviati/event/145
 91-andar-per-cantine-2023-percorso-san-lunardo
DTSTART:20230920T130000Z
DTEND:20230920T160000Z
LOCATION:Piazza San Leonardo  (Via Cavaliere Leonardo Impagliazzo\, 65\, 80
 075 Forio NA\, Italia)
SUMMARY:Andar per cantine 2023: Percorso San Lunardo
URL:https://www.prolocopanza.it/en/calendario-eventi-archiviati/event/14591
 -andar-per-cantine-2023-percorso-san-lunardo
END:VEVENT
BEGIN:VEVENT
UID:20260421T064327CEST-7041fCsvuH@https://www.prolocopanza.it/
DTSTAMP:20260421T044327Z
DESCRIPTION:Le cantine del percorso Piedirosso:\nCANTINE TOMMASONELacco Ame
 no - Via Prov.le Lacco\, 98\, Tel: +39 081 3330330Un’azienda giovane che g
 uarda al futuro nel rispetto delle tradizioni di una grande famiglia. Nasc
 e nel 2004 con il nome dedicato sia al padre Tommasone sia all’antica cant
 ina scavata in una pietra. La Pietra di Tommasone è frutto di passione e i
 mpegno\, ma soprattutto di una tradizione familiare di vecchia data.\nCANT
 INA PASSARIELLOForio - Via Tironi 29 - Tel. +39 335 6341297La cantina si t
 rova in località Tironi ed è di proprietà della famiglia Russo dal 1956. C
 ostruita interamente in tufo verde nel lontano 1873\, era adibita alla pro
 duzione e alla vendita di vino locale . Rappresenta sicuramente una delle 
 cantine più antiche di Forio ed è perfettamente funzionante.\nCANTINE PIET
 RATORCIAForio - Via Prov. Panza\, 267 Tel: 081908206 | 081907232Le cantine
  di Pietratorcia sono state create da tre antiche famiglie contadine ischi
 tane: lacono\, Regine e Verde. Oltre sette ettari di terreno sono stati ri
 piantati con vitigni selezionati.\nQuota di partecipazione 35\,00€ a perso
 na https://www.prolocopanza.it/en/calendario-eventi-archiviati/event/14592
 -andar-per-cantine-2023-percorso-piedirosso
DTSTART:20230920T130000Z
DTEND:20230920T170000Z
LOCATION:Piazza San Leonardo  (Via Cavaliere Leonardo Impagliazzo\, 65\, 80
 075 Forio NA\, Italia)
SUMMARY:Andar per cantine 2023: Percorso Piedirosso
URL:https://www.prolocopanza.it/en/calendario-eventi-archiviati/event/14592
 -andar-per-cantine-2023-percorso-piedirosso
END:VEVENT
END:VCALENDAR
