BEGIN:VCALENDAR
VERSION:2.0
PRODID:-//https://www.prolocopanza.it///NONSGML kigkonsult.se iCalcreator 2.10.15//
METHOD:PUBLISH
BEGIN:VEVENT
UID:20260422T214700CEST-91661N8PUv@https://www.prolocopanza.it/
DTSTAMP:20260422T194700Z
DESCRIPTION:Le cantine del percorso Biancolella:\n1. CANTINA SCARDECCHIAVia
  Succhivo - Serrara FontanaTel. 081 909062Cantina storica del paese\, pass
 ata di generazione in generazione per tre secoli tra le mani sapienti dell
 a famiglia Iacono. Attualmente si producono vino bianco\, rosso\, spumante
  misto e Sorriso.\n2. ANTICA FATTORIA GRECAVia Sorgeto\, 51 - ForioTel: 08
 1 908102 - 081 909277www.puntachiarito.it - info@puntachiarito.itL’azienda
  si contraddistingue per la produzione di vini speciali locali come Ischia
  Bianco e Ischia Rosso. Presso la struttura è possibile degustare i vini\,
  visitare il vigneto. La produzione si basa sulla più genuina tradizione c
 ontadina ischitana.\n3. A ‘CANTIN E CIR’Antico Borgo di Noia - Serrara Fon
 tanaTel. 081 999477Anticamente era una grotta la quale serviva da rifugio 
 alle varie incursioni di pirati. La famiglia Iacono la acquistò insieme al
  vigneto all’inizio del ‘900. Essendo una famiglia di contadini\, il signo
 r Ciro Iacono\, dopo il ’30\, la trasformò in cantina ampliandola e renden
 dola un locale funzionale per la produzione e la conservazione del vino.\n
 Prezzo del percorso € 30 https://www.prolocopanza.it/en/calendario-eventi-
 archiviati/event/14438-percorso-biancolella
DTSTART:20220920T080000Z
DTEND:20220920T120000Z
LOCATION:Pro Loco Panza Ischia (Via Cavaliere Leonardo Impagliazzo\, 144\, 
 80075 Forio NA\, Italia)
SUMMARY:Percorso Biancolella
URL:https://www.prolocopanza.it/en/calendario-eventi-archiviati/event/14438
 -percorso-biancolella
END:VEVENT
BEGIN:VEVENT
UID:20260422T214700CEST-9172kCtpUX@https://www.prolocopanza.it/
DTSTAMP:20260422T194700Z
DESCRIPTION:Un sentiero ricco di essenze e colori delle piante tipiche dell
 a macchia mediterranea ci condurrà verso il monte di Panza. Attraverseremo
  poi\, un fitto boschetto e un tratto di radura&nbsp\; aratterizzata da un
  manto di felci\, per raggiungere la baia della Pelara\, pregevole geosito
  di carattere vulcanico. Successivamente andremo in direzione della tenuta
  di alveari Oro d’Ischia con&nbsp\; visita e degustazione del miele ed alt
 ri prodotti delle loro api.\nA path full of essences and colors of the typ
 ical plants of the Mediterranean scrub will lead us to Mount Panza. We wil
 l then cross a dense grove of holm oaks and heather and a stretch of clear
 ing characterized by a mantle of ferns\, to reach Pelara bay\, a valuable 
 site of volcanic nature. Then we will go in the direction of the Oro d’Isc
 hia beehive estate with a visit and tasting of honey and other products of
  their bees.\nINFO- Punto Partenza/Arrivo (Departure / arrival point): Sed
 e Proloco Panza\, Forio- Difficoltà: Facile / Turistica (Difficulty: Easy)
 - Durata: 5\,5h – 6km (soste incluse) Duration: 5\,5h – 6km (stops include
 d)- Visita/Degustazione (Visit / Tasting): Tenuta Alveari Oro d’Ischia- Qu
 ota di partecipazione / Price: 30 € https://www.prolocopanza.it/en/calenda
 rio-eventi-archiviati/event/14470-il-sentiero-delle-due-baie
DTSTART:20220920T073000Z
DTEND:20220920T123000Z
LOCATION:Pro Loco Panza Ischia (Via Cavaliere Leonardo Impagliazzo\, 144\, 
 80075 Forio NA\, Italia)
SUMMARY:Il sentiero delle due baie
URL:https://www.prolocopanza.it/en/calendario-eventi-archiviati/event/14470
 -il-sentiero-delle-due-baie
END:VEVENT
BEGIN:VEVENT
UID:20260422T214700CEST-9177dx3hc6@https://www.prolocopanza.it/
DTSTAMP:20260422T194700Z
DESCRIPTION:Le cantine del percorso Epomeo:\n1. A ‘CANTIN E CIR’Antico Borg
 o di Noia - Serrara FontanaTel. 081 999477Anticamente era una grotta la qu
 ale serviva da rifugio alle varie incursioni di pirati. La famiglia Iacono
  la acquistò insieme al vigneto all’inizio del ‘900. Essendo una famiglia 
 di contadini\, il signor Ciro Iacono\, dopo il ’30\, la trasformò in canti
 na ampliandola e rendendola un locale funzionale per la produzione e la co
 nservazione del vino.\n2. CANTINA NONNO MICHELE DI TONYVia Pendio Oscuro -
  Serrara FontanaTel. 081 999570 - Mob. 3294410962La cantina di nonno Miche
 le scavata nel 1908 nelle rocce di tufo ed utilizzata fino a 30 anni fa pe
 r la conservazione del vino e delle botti. Caratteristica particolare dell
 a cantina\, ancora oggi visibile\, è la pietra sudaria\, da cui sgorga acq
 ua. La tradizione familiare\, oggi\, viene portata avanti dal nipote Anton
 io Galano che l’ha resa uno speciale luogo di ritrovo dove turisti ed isol
 ani.\n3. CANTINA RAUSTELLAIndirizzo: Via Lorenzo Fiore\, - Serrara Fontana
 Contatti: 3478128485Alle pendici del monte Epomeo\, in grotte scavate\, in
  grotte scavate nella montagna dagli antichi ischitani\, saggi contadini c
 ontinuano a produrre il vino con i sistemi dei padri. Tra questi\, Frances
 co Mattera detto Raustella\, nella sua cantina in Serrara\, alla veneranda
  eta’ di 90 anni continua a produrre il meraviglioso nettare degli dei. Co
 mpletamente restaurata da Giuseppe Mattera oggi scrigno delle antiche trad
 izioni vitivinicole...\nPrezzo del percorso € 30 https://www.prolocopanza.
 it/en/calendario-eventi-archiviati/event/14477-percorso-epomeo
DTSTART:20220920T080000Z
DTEND:20220920T120000Z
LOCATION:Pro Loco Panza Ischia (Via Cavaliere Leonardo Impagliazzo\, 144\, 
 80075 Forio NA\, Italia)
SUMMARY:Percorso Epomeo
URL:https://www.prolocopanza.it/en/calendario-eventi-archiviati/event/14477
 -percorso-epomeo
END:VEVENT
BEGIN:VEVENT
UID:20260422T214700CEST-9184NGiVTV@https://www.prolocopanza.it/
DTSTAMP:20260422T194700Z
DESCRIPTION:\nLe cantine del percorso Frassitelli:\n\n1. CANTINA RAUSTELLAI
 ndirizzo: Via Lorenzo Fiore\, - Serrara FontanaContatti: 3478128485Alle pe
 ndici del monte Epomeo\, in grotte scavate\, in grotte scavate nella monta
 gna dagli antichi ischitani\, saggi contadini continuano a produrre il vin
 o con i sistemi dei padri. Tra questi\, Francesco Mattera detto Raustella\
 , nella sua cantina in Serrara\, alla veneranda eta’ di 90 anni continua a
  produrre il meraviglioso nettare degli dei. Completamente restaurata da G
 iuseppe Mattera oggi scrigno delle antiche tradizioni vitivinicole...\n&nb
 sp\;\n2. A ‘CANTIN E CIR’Antico Borgo di Noia - Serrara FontanaTel. 081 99
 9477Anticamente era una grotta la quale serviva da rifugio alle varie incu
 rsioni di pirati. La famiglia Iacono la acquistò insieme al vigneto all’in
 izio del ‘900. Essendo una famiglia di contadini\, il signor Ciro Iacono\,
  dopo il ’30\, la trasformò in cantina ampliandola e rendendola un locale 
 funzionale per la produzione e la conservazione del vino.\n&nbsp\;\n3. CAN
 TINA 'U SCILATUROVia Angelo Migliaccio\, 151 Tel. 3426226910La cantina del
 la famiglia Di Costanzo si trova sulla parte alta di Barano\, in località 
 Toccaneto. Centocinquanta anni di tradizione racchiusi in un piccolo tempi
 o del vino sapientemente restaurato\, in cui è possibile ammirare le antic
 he pietre e i vecchi palmenti\, protagonisti di storiche vendemmie. L’azie
 nda agricola\, a conduzione famigliare\, produce un vino dal sapore&nbsp\;
  tipicamente ischitano.\nPrezzo del percorso € 35 https://www.prolocopanza
 .it/en/calendario-eventi-archiviati/event/14491-percorso-frassitelli
DTSTART:20220920T130000Z
DTEND:20220920T160000Z
LOCATION:Pro Loco Panza Ischia (Via Cavaliere Leonardo Impagliazzo\, 144\, 
 80075 Forio NA\, Italia)
SUMMARY:Percorso Frassitelli
URL:https://www.prolocopanza.it/en/calendario-eventi-archiviati/event/14491
 -percorso-frassitelli
END:VEVENT
BEGIN:VEVENT
UID:20260422T214700CEST-9190bUNchA@https://www.prolocopanza.it/
DTSTAMP:20260422T194700Z
DESCRIPTION:Le cantine del percorso Forastera:\n\n1. CANTINA SCARDECCHIAVia
  Succhivo - Serrara FontanaTel. 081 909062Cantina storica del paese\, pass
 ata di generazione in generazione per tre secoli tra le mani sapienti dell
 a famiglia Iacono. Attualmente si producono vino bianco\, rosso\, spumante
  misto e Sorriso.\n2. BELLAVISTAIndirizzo: Via Montecorvo\, 75 - 80075 For
 ioContatti: Tel. 081997221A pochi passi dal più esteso campo di fumarole d
 ell’intera isola d’Ischia\, testimonianza della natura vulcanica del terri
 torio\, sorge da più di duecento anni una cantina quasi interamente ricava
 ta nel tufo verde. Francesco Castiglione ne cura ogni minimo dettaglio\, b
 enché i due fusti che vi campeggiano all’interno siano\, oggi\, inutilizza
 ti.\n3. CANTINA PIETRATORCIAForio - Via Provinciale Panza\, 267Tel: 081 90
 8206/081 907232 Fax: 081 908949www.pietratorcia.it - info@pietratorcia.itL
 e cantine di Pietratorcia sono state create da tre antiche famiglie contad
 ine ischitane Iacono\, Regine e Verde. Oltre sette ettari di terreno sono 
 stati ripiantati con vitigni selezionati.\nPrezzo del percorso € 30 https:
 //www.prolocopanza.it/en/calendario-eventi-archiviati/event/14506-percorso
 -forastera
DTSTART:20220920T130000Z
DTEND:20220920T160000Z
LOCATION:Pro Loco Panza Ischia (Via Cavaliere Leonardo Impagliazzo\, 144\, 
 80075 Forio NA\, Italia)
SUMMARY:Percorso Forastera
URL:https://www.prolocopanza.it/en/calendario-eventi-archiviati/event/14506
 -percorso-forastera
END:VEVENT
BEGIN:VEVENT
UID:20260422T214700CEST-9195sonXJB@https://www.prolocopanza.it/
DTSTAMP:20260422T194700Z
DESCRIPTION:Le cantine del percorso San Lunardo:\n1. CANTINA PELLICCIONEVia
  San Pietro - BuonopaneTel. +39 349 578 0618In località San Pietro\, la ca
 ntina Pelliccione è riferimento di convivialità del borgo. Fermarsi a bere
  un buon bicchiere di vino nella frescura all’interno delle grandi grotte 
 scavate nel tufo è un rito collettivo al quale si aggregano con piacere i 
 forestieri. Il microclima delle grotte conserva alla perfezione il vino e 
 gli altri prodotti tipici.\n2. AZIENDA AGRICOLA FILIPPO FLORIOVia Ritola\,
  6 - Barano d’IschiaTel. 347.9333701 - 081990642Impegnata nella viticoltur
 a da cinque generazioni\, la famiglia Florio produce vino con lieviti Bian
 colella docg. Vanto dell’Azienda sono l’Epomeo Rosso e il Bianco Igp. Affi
 nati nell’antica cantina scavata nel tufo.\n3. AGRITURISMO GIASOLEVia Cand
 iano 31/A - Barano d’IschiaTel. 347 674 7979L’azienda agrituristica Giasol
 e grazie all’esposizione ideale dei suoi terreni\, vanta una grande variet
 à di frutti e verdure in ogni stagione. Oltre alla produzione di vino che 
 è tratto distintivo dell’Azienda. La trasformazione dei prodotti dell’orto
  di casa\, rigorosamente bio\, nei piatti tipici isolani ci permette di fa
 rli apprezzare a tutti i nostri visitatori.\nPrezzo del percorso € 30 http
 s://www.prolocopanza.it/en/calendario-eventi-archiviati/event/14507-percor
 so-san-lunardo
DTSTART:20220920T130000Z
DTEND:20220920T160000Z
LOCATION:Pro Loco Panza Ischia (Via Cavaliere Leonardo Impagliazzo\, 144\, 
 80075 Forio NA\, Italia)
SUMMARY:Percorso San Lunardo
URL:https://www.prolocopanza.it/en/calendario-eventi-archiviati/event/14507
 -percorso-san-lunardo
END:VEVENT
END:VCALENDAR
