BEGIN:VCALENDAR
VERSION:2.0
PRODID:-//https://www.prolocopanza.it///NONSGML kigkonsult.se iCalcreator 2.10.15//
METHOD:PUBLISH
BEGIN:VEVENT
UID:20260421T063021CEST-2980uFzowL@https://www.prolocopanza.it/
DTSTAMP:20260421T043021Z
DESCRIPTION:Un Viaggio nel gusto\, guidato da oltre 180 chef\, pizzaioli\, 
 salumieri e pasticceri. Evento nato da un’idea di Nino di Costanzo e Pasqu
 ale Palamaro.\nQuota di partecipazione 70\,00 € a persona https://www.prol
 ocopanza.it/en/calendario-eventi-archiviati/event/14680-ischia-safari-2023
 -festa-al-negombo
DTSTART:20230918T173000Z
DTEND:20230918T215900Z
LOCATION:Negombo (Negombo\, Baia di\, Via S. Montano\, 80076 Lacco Ameno NA
 \, Italia)
SUMMARY:ISCHIA SAFARI 2023 - Festa al Negombo
URL:https://www.prolocopanza.it/en/calendario-eventi-archiviati/event/14680
 -ischia-safari-2023-festa-al-negombo
END:VEVENT
END:VCALENDAR
