BEGIN:VCALENDAR
VERSION:2.0
PRODID:-//https://www.prolocopanza.it///NONSGML kigkonsult.se iCalcreator 2.10.15//
METHOD:PUBLISH
BEGIN:VEVENT
UID:20260422T072804CEST-3786CbLA4v@https://www.prolocopanza.it/
DTSTAMP:20260422T052804Z
DESCRIPTION:Le cantine del percorso Forastera:\n1. A CANTIN LU SCULTORIndir
 izzo: Via Casa Mattera\, 25 - FontanaContatti: 3337663548Poco distante dal
 la piazza di Fontana\, si trova la cantina di Nicola Gioba. Cantina risale
 nte al 1930 interamente costruita in pietra di tufo da Nicolino 'a Panella
 .Ora rielaborata da Nicola Gioba\, maestro scultore della pietra\, che att
 raverso le sue opere ha voluto immortalare alcuni momenti significativi de
 lla vendemmia. Ma potrete ammirare anche altre sculture che arricchiscono 
 'la cantina' e che la rendono unica.\n2. CANTINA NONNO MICHELE DI TONYVia 
 Pendio Oscuro - Serrara FontanaTel. 081 999570 - Mob. 3294410962La cantina
  di nonno Michele scavata nel 1908 nelle rocce di tufo ed utilizzata fino 
 a 30 anni fa per la conservazione del vino e delle botti. Caratteristica p
 articolare della cantina\, ancora oggi visibile\, è la pietra sudaria\, da
  cui sgorga acqua. La tradizione familiare\, oggi\, viene portata avanti d
 al nipote Antonio Galano che l’ha resa uno speciale luogo di ritrovo dove 
 turisti ed isolani.\n3. CANTINA RAUSTELLAIndirizzo: Via Lorenzo Fiore\, - 
 Serrara FontanaContatti: 3478128485Alle pendici del monte Epomeo\, in grot
 te scavate\, in grotte scavate nella montagna dagli antichi ischitani\, sa
 ggi contadini continuano a produrre il vino con i sistemi dei padri. Tra q
 uesti\, Francesco Mattera detto Raustella\, nella sua cantina in Serrara\,
  alla veneranda eta’ di 90 anni continua a produrre il meraviglioso nettar
 e degli dei. Completamente restaurata da Giuseppe Mattera oggi scrigno del
 le antiche tradizioni vitivinicole...\nTutti i percorsi partono dalla sede
  della Pro loco in piazza San Leonardo\, Panza alle ore 10.00Le escursioni
  comprendono: servizio navetta – guida – degustazione vini e prodotti tipi
 ci della tradizione natalizia I percorsi possono subire variazioni e modif
 iche in base alle prenotazioni e alla disponibilità delle cantine.\nI perc
 orsi del 31 dicembre termineranno in piazza San Leonardo per 'Baccalando a
  San Silvestro'\, tradizionale sagra del baccalà.\nPrezzo del percorso € 3
 5 https://www.prolocopanza.it/en/calendario-eventi-archiviati/event/14578-
 cantinando-a-natale-ix-edizione-percorso-forastera
DTSTART:20230108T090000Z
DTEND:20230108T133000Z
LOCATION:Pro Loco Panza Ischia (Via Cavaliere Leonardo Impagliazzo\, 144\, 
 80075 Forio NA\, Italia)
SUMMARY:Cantinando a Natale - IX Edizione - Percorso Forastera
URL:https://www.prolocopanza.it/en/calendario-eventi-archiviati/event/14578
 -cantinando-a-natale-ix-edizione-percorso-forastera
END:VEVENT
BEGIN:VEVENT
UID:20260422T072804CEST-3798tafwLs@https://www.prolocopanza.it/
DTSTAMP:20260422T052804Z
DESCRIPTION:Le cantine del percorso Biancolella:\n1. CANTINA RAUSTELLAVia L
 orenzo Fiore - Serrara FontanaCell. 3478128485Alle pendici del monte Epome
 o\, in grotte scavate\, in grotte scavate nella montagna dagli antichi isc
 hitani\, saggi contadini continuano a produrre il vino con i sistemi dei p
 adri. Tra questi\, Francesco Mattera detto Raustella\, nella sua cantina i
 n Serrara\, alla veneranda eta’ di 90 anni continua a produrre il meravigl
 ioso nettare degli dei. Completamente restaurata da Giuseppe Mattera oggi 
 scrigno delle antiche tradizioni vitivinicole...\n2. ANTICA FATTORIA GRECA
 Via Sorgeto\, 51 - ForioTel: 081 908102 - 081 909277www.puntachiarito.it -
  info@puntachiarito.itL’azienda si contraddistingue per la produzione di v
 ini speciali locali come Ischia Bianco e Ischia Rosso. Presso la struttura
  è possibile degustare i vini\, visitare il vigneto. La produzione si basa
  sulla più genuina tradizione contadina ischitana.\n3. CANTINA PASSARIELLO
 Forio - Via Tironi 29\,cell.: 335 6341297La cantina si trova in località T
 ironi ed è di proprietà della famiglia Russo dal 1956. Costruita interamen
 te in tufo verde nel lontano 1873\, era adibita per la produzione e la ven
 dita di vino locale. Rappresenta sicuramente una delle cantine più antiche
  di Forio ed è perfettamente funzionante.\nTutti i percorsi partono dalla 
 sede della Pro loco in piazza San Leonardo\, Panza alle ore 10.00Le escurs
 ioni comprendono: servizio navetta – guida – degustazione vini e prodotti 
 tipici della tradizione natalizia I percorsi possono subire variazioni e m
 odifiche in base alle prenotazioni e alla disponibilità delle cantine.\nPr
 ezzo del percorso € 35 https://www.prolocopanza.it/en/calendario-eventi-ar
 chiviati/event/14581-cantinando-a-natale-ix-edizione-percorso-biancolella
DTSTART:20230108T090000Z
DTEND:20230108T133000Z
LOCATION:Pro Loco Panza Ischia (Via Cavaliere Leonardo Impagliazzo\, 144\, 
 80075 Forio NA\, Italia)
SUMMARY:Cantinando a Natale - IX Edizione - Percorso Biancolella
URL:https://www.prolocopanza.it/en/calendario-eventi-archiviati/event/14581
 -cantinando-a-natale-ix-edizione-percorso-biancolella
END:VEVENT
END:VCALENDAR
